BEGIN:VCALENDAR
VERSION:2.0
PRODID:-//Discover Hollywood Magazine - ECPv6.15.20//NONSGML v1.0//EN
CALSCALE:GREGORIAN
METHOD:PUBLISH
X-ORIGINAL-URL:https://www.discoverhollywood.com
X-WR-CALDESC:Events for Discover Hollywood Magazine
REFRESH-INTERVAL;VALUE=DURATION:PT1H
X-Robots-Tag:noindex
X-PUBLISHED-TTL:PT1H
BEGIN:VTIMEZONE
TZID:Asia/Kolkata
BEGIN:STANDARD
TZOFFSETFROM:+0530
TZOFFSETTO:+0530
TZNAME:IST
DTSTART:20240101T000000
END:STANDARD
END:VTIMEZONE
BEGIN:VEVENT
DTSTART;TZID=Asia/Kolkata:20251106T200000
DTEND;TZID=Asia/Kolkata:20251215T230000
DTSTAMP:20260425T072646
CREATED:20251006T195404Z
LAST-MODIFIED:20251120T130005Z
UID:10021646-1762459200-1765839600@www.discoverhollywood.com
SUMMARY:Hello\, My Name Is…  A comedy about losing your way on the journey to find yourself.
DESCRIPTION:By Amy Dellagarino\, Directed by Darin Anthony\nProduced by Laura Buckles and Joe Camareno \nWhat do you do when the world makes no sense? Some people meditate. Some people travel. And some people… join a cult. In this razor-sharp satire\, a ragtag group of seekers stumble into community\, purpose\, and even a little joy—in the unlikeliest of places. But as devotion twists and the “truth” grows harder to swallow\, each must decide: are they finally becoming who they are\, or are they disappearing entirely? Funny\, unsettling\, and brutally honest\, Hello\, My Name Is… explores the human hunger for meaning\, the comedy of misplaced faith\, and the strange\, surprising places where we end up finding ourselves. \nFeaturing: Ronni Page\, Rebecca Larson\, Brandon Bales\, Bradley Bazile\, Juan Monsalvez.
URL:https://www.discoverhollywood.com/event/hello-my-name-is-a-comedy-about-losing-your-way-on-the-journey-to-find-yourself/
LOCATION:Moving Arts Bold New Theater\, 3191 Casitas Ave.\, Los Angeles\, CA\, 90039\, United States
END:VEVENT
BEGIN:VEVENT
DTSTART;TZID=Asia/Kolkata:20251120T080000
DTEND;TZID=Asia/Kolkata:20251120T170000
DTSTAMP:20260425T072646
CREATED:20251120T105347Z
LAST-MODIFIED:20251120T105347Z
UID:10025592-1763625600-1763658000@www.discoverhollywood.com
SUMMARY:Johnny Moezzi
DESCRIPTION:Johnny Moezzi is an American singer-songwriter\, guitarist\, and producer\, originally from Tehran\, Iran\, and now based in Los Angeles\, known for his versatile musical style that artfully blurs the lines between vintage blues and modern alternative pop and soul. His musical passion was ignited early in life after sneaking into a B.B. King performance and receiving mentorship from a member of Ritchie Valens’ family\, which solidified his foundation as a blues guitarist\, a role he fulfilled as the bandleader and guitarist for the legendary blues singer Miss Mickey Champion. Moezzi channels this blues grounding into eclectic songwriting\, aiming for the lyrical depth of artists like Bob Dylan while incorporating the funk and soul grooves of James Brown and Johnny “Guitar” Watson\, a fusion evidenced across his discography\, including his debut The Orange Album\, and his 2023 EP\, Funky Papu\, which explores the infectious energy of his pop influences using bright synths and Casio keyboard beats.
URL:https://www.discoverhollywood.com/event/johnny-moezzi/
LOCATION:Hotel Cafe\, 1623 1/2 Cahuenga Blvd\, Hollywood\, California\, 90028.0
END:VEVENT
BEGIN:VEVENT
DTSTART;TZID=Asia/Kolkata:20251120T170000
DTEND;TZID=Asia/Kolkata:20251120T213000
DTSTAMP:20260425T072646
CREATED:20251119T160605Z
LAST-MODIFIED:20251119T160605Z
UID:10025545-1763658000-1763674200@www.discoverhollywood.com
SUMMARY:Cimafunk
DESCRIPTION:Cuban music has a new global ambassador: Cimafunk. With a name and image that pays tribute to the Cimarrons – Cubans of African descent that resisted slavery – and music and showmanship that re-embodies funk legends from the last century\, the medical-school student turned funk artist has developed into a musical force crafting the sonic future of the island and a global\, cultural phenomenon that unites and celebrates blackness across borders\, oceans and languages. \nWith his unmistakable AfroCuban sounds\, no holds barred live show and multiple Grammy-nominations\, Cimafunk is redefining what the planet understands as Cuban music. Cimafunk’s debut album “Terapia” (2018)\, with its groundbreaking #1 single “Me Voy” – followed by his breakout performance at SXSW 2019 and widely praised NPR Tiny Desk Concert\, started a movement of converting millions of people to the religion of groove\, one live show at a time. The AfroCuban rockstar has moved the spotlight well beyond the Buena Vista Social Club\, salsa and reggaeton. \nFrom a local sensation on Havana’s small alternative music scene to global success\, Cimafunk’s ascent is as dizzying as an F1 race. Performing with La Tribu (The Tribe)\, his 9-piece band from Havana\, Cimafunk has electrified global audiences on massive stages and worldwide temples of music\, making a name for himself as one of the great showmen of today. From New Orleans Jazz Festival and Lollapalooza Chile to becoming the first Cuban-born artist to play Coachella\, this undisputed star of Afro-Latin music has earned the adoration of musical icons such as Argentine Fito Páez\, who has hailed him as “one of the lights of the continent’s future\,” the Godfather of Funk George Clinton\, who refers to him as “the next one\,” and Chucho Valdés\, who credits Cimafunk with masterfully and organically blending “AfroCuban with African American\, converting this into a new school that until now I haven’t heard done.” \nCimafunk’s distinctive musical fusion continued to grow in its artistry with both the release of his second album  “El Alimento” (‘The Nourishment ) -which was met with an abundance of critical praise that included Best Albums of the Year lists of Rolling Stone\, NPR and more… as well as an equal volume of glowing reviews for his unrivaled live shows\, which quickly made him one of the most in-demand festival performers. \nCimafunk has collaborated on records and shared the stage with the likes of Alejandro Sanz\, CeeLo Green\, ChocQuibTown\, Chucho Valdés\, Fito Páez\, Fonseca\, Fred Wesley\, Galactic\, George Clinton\, Jon Batiste\, Juanes\, Leoni Torres\, Lettuce\, Lupe Fiasco\, Preservation Hall\,\, Omar Portuondo\, Orquesta Aragón\, Robert Glasper\, String Cheese Incident\, The Soul Rebels and Trombone Shorty. Susan Sarandon\, Ron Delsner and other personalities have become superfans\, often seen side-stage lost in the groove\, and the likes of Paul McCartney and more have come out to check out the AfroCuban sensation. \nAfter the success of El Alimento\, Cimafunk delves even further into his exploration of the intersections between funk and the sounds of the continent and gives us Pa’ Tu Cuerpa (Mala Cabeza Records)\, his most polished and mature production to date\, on August 23rd\, 2024.
URL:https://www.discoverhollywood.com/event/cimafunk/2025-11-20/1/
LOCATION:Blue Note Jazz Club
END:VEVENT
BEGIN:VEVENT
DTSTART;TZID=Asia/Kolkata:20251120T190000
DTEND;TZID=Asia/Kolkata:20251120T210000
DTSTAMP:20260425T072646
CREATED:20251119T101206Z
LAST-MODIFIED:20251119T101206Z
UID:10025524-1763665200-1763672400@www.discoverhollywood.com
SUMMARY:Musical Theatre Guild presents THE HOLIDAYS ON STAGE & SCREEN | Fundraising Concert benefiting MTG’s Student Outreach Programs
DESCRIPTION:The event\, THE HOLIDAYS ON STAGE & SCREEN\, is a special fundraising concert presented by the Musical Theatre Guild (MTG)\, a non-profit company of theatre professionals dedicated to preserving the American art form of musical theatre
URL:https://www.discoverhollywood.com/event/musical-theatre-guild-presents-the-holidays-on-stage-screen-fundraising-concert-benefiting-mtgs-student-outreach-programs-2/
LOCATION:Catalina Jazz Club\, 6725 W. Sunset Blvd.\, Hollywood\, California\, 90028.0
END:VEVENT
BEGIN:VEVENT
DTSTART;TZID=Asia/Kolkata:20251120T190000
DTEND;TZID=Asia/Kolkata:20251120T213000
DTSTAMP:20260425T072646
CREATED:20251119T192324Z
LAST-MODIFIED:20251119T192324Z
UID:10025587-1763665200-1763674200@www.discoverhollywood.com
SUMMARY:William Prince
DESCRIPTION:William Prince is an award-winning Canadian singer-songwriter from Peguis First Nation in Manitoba\, recognized as a singular voice in contemporary folk and country music. His music is characterized by his rich\, dusky baritone voice and a commitment to profound\, honest storytelling\, which draws heavily from his childhood influences of classic country legends like Johnny Cash and Merle Haggard\, alongside the gospel music of his father\, a preacher and musician. Prince’s compelling blend of genres\, which he refers to as his “21st Century Northern-Interlake-Country-Gospel Sound\,” explores themes of hope\, resilience\, family\, and the complexity of his Indigenous identity. Since his 2015 Juno Award-winning debut album\, Earthly Days\, he has gained international acclaim for his moving\, contemplative songs and powerful live performances\, solidifying his status as a master craftsman of simple\, heartfelt song structure.
URL:https://www.discoverhollywood.com/event/william-prince/
LOCATION:Hotel Cafe\, 1623 1/2 Cahuenga Blvd\, Hollywood\, California\, 90028.0
END:VEVENT
BEGIN:VEVENT
DTSTART;TZID=Asia/Kolkata:20251120T190000
DTEND;TZID=Asia/Kolkata:20251120T230000
DTSTAMP:20260425T072646
CREATED:20251020T104214Z
LAST-MODIFIED:20251020T104214Z
UID:10023518-1763665200-1763679600@www.discoverhollywood.com
SUMMARY:Lucas Zelnick
DESCRIPTION:Lucas Zelnick is a stand-up comedian based in New York City\, known for his punch-heavy material that often challenges his privileged upbringing. After earning an MBA from the Stanford Graduate School of Business\, Zelnick pivoted to comedy and has quickly gained recognition. He has appeared in major events like SF Sketchfest and the New York Comedy Festival\, and his stand-up has been featured on Comedy Central and in feature films. Zelnick has become particularly popular online\, where his stand-up and crowd work clips have exploded\, accumulating over 500 million views and one million followers across platforms like Instagram and TikTok. He is also the co-host of the podcast Can I Go Home Now and continues to tour and headline comedy clubs nationally.
URL:https://www.discoverhollywood.com/event/lucas-zelnick/
LOCATION:Hollywood Forever
END:VEVENT
BEGIN:VEVENT
DTSTART;TZID=Asia/Kolkata:20251120T193000
DTEND;TZID=Asia/Kolkata:20251120T213000
DTSTAMP:20260425T072646
CREATED:20251112T183859Z
LAST-MODIFIED:20251112T183859Z
UID:10025392-1763667000-1763674200@www.discoverhollywood.com
SUMMARY:Suffs: Behind Every Powerful Woman...are More Powerful Women
DESCRIPTION:Direct from Broadway\, comes the acclaimed Tony Award® winning musical SUFFS about the brilliant\, passionate\, and funny American women who fought tirelessly for the right to vote. Created by Shaina Taub\, the first woman to ever independently win Tony Awards for Best Book and Best Score in the same season\, this “thrilling\, inspiring and dazzlingly entertaining” (Variety) new musical boldly explores the triumphs and failures of a struggle for equality that’s far from over. Winner of the Outer Critics’ Circle Award for Best New Musical. \n  \n“Like all of the best Broadway musicals\, SUFFS humanizes\, empowers\, moves\, and entertains.” Chicago Tribune
URL:https://www.discoverhollywood.com/event/suffs-behind-every-powerful-woman-are-more-powerful-women/2025-11-20/
LOCATION:Hollywood Pantages Theatre\, 6233 Hollywood Blvd. Wayne McWorter (213)365-3500\, Hollywood\, CA\, 90028.0
END:VEVENT
BEGIN:VEVENT
DTSTART;TZID=Asia/Kolkata:20251120T193000
DTEND;TZID=Asia/Kolkata:20251120T223000
DTSTAMP:20260425T072646
CREATED:20251003T084821Z
LAST-MODIFIED:20251003T090538Z
UID:10020575-1763667000-1763677800@www.discoverhollywood.com
SUMMARY:Suffs
DESCRIPTION:
URL:https://www.discoverhollywood.com/event/suffs/2025-11-20/
LOCATION:Hollywood Pantages Theatre\, 6233 Hollywood Blvd. Wayne McWorter (213)365-3500\, Hollywood\, CA\, 90028.0
END:VEVENT
BEGIN:VEVENT
DTSTART;TZID=Asia/Kolkata:20251120T200000
DTEND;TZID=Asia/Kolkata:20251120T233000
DTSTAMP:20260425T072646
CREATED:20251103T100731Z
LAST-MODIFIED:20251103T100731Z
UID:10024923-1763668800-1763681400@www.discoverhollywood.com
SUMMARY:David Byrne
DESCRIPTION:In 2023\, as his triumphant American Utopia era came to a close after morphing from an album and tour into an acclaimed Broadway show and then a Spike Lee-directed HBO film\, David Byrne began jotting down the occasional groove\, chord or melody. It had been a minute. Byrne’s new album\, Who Is The Sky?\, is a first-time collaboration between himself\, Grammy-winning producer Kid Harpoon aka Tom Hull (Harry Styles\, Miley Cyrus) and New York-based chamber ensemble Ghost Train Orchestra\, and featuring guest appearances by Paramore’s Hayley Williams\, longtime collaborator St.Vincent (“she lives just around the corner from the studio\,” Byrne says) and The Smile drummer Tom Skinner. With this offering\, Byrne continues his lifelong exploration of human connection and the potential for societal unity against the chaotic backdrop of the world.
URL:https://www.discoverhollywood.com/event/david-byrne/2025-11-20/
LOCATION:Dolby Theatre\, 6801 Hollywood Blvd.\, Hollywood\, California\, 90028.0
END:VEVENT
BEGIN:VEVENT
DTSTART;TZID=Asia/Kolkata:20251120T213000
DTEND;TZID=Asia/Kolkata:20251120T233000
DTSTAMP:20260425T072646
CREATED:20251119T160605Z
LAST-MODIFIED:20251119T160605Z
UID:10025546-1763674200-1763681400@www.discoverhollywood.com
SUMMARY:Cimafunk
DESCRIPTION:Cuban music has a new global ambassador: Cimafunk. With a name and image that pays tribute to the Cimarrons – Cubans of African descent that resisted slavery – and music and showmanship that re-embodies funk legends from the last century\, the medical-school student turned funk artist has developed into a musical force crafting the sonic future of the island and a global\, cultural phenomenon that unites and celebrates blackness across borders\, oceans and languages. \nWith his unmistakable AfroCuban sounds\, no holds barred live show and multiple Grammy-nominations\, Cimafunk is redefining what the planet understands as Cuban music. Cimafunk’s debut album “Terapia” (2018)\, with its groundbreaking #1 single “Me Voy” – followed by his breakout performance at SXSW 2019 and widely praised NPR Tiny Desk Concert\, started a movement of converting millions of people to the religion of groove\, one live show at a time. The AfroCuban rockstar has moved the spotlight well beyond the Buena Vista Social Club\, salsa and reggaeton. \nFrom a local sensation on Havana’s small alternative music scene to global success\, Cimafunk’s ascent is as dizzying as an F1 race. Performing with La Tribu (The Tribe)\, his 9-piece band from Havana\, Cimafunk has electrified global audiences on massive stages and worldwide temples of music\, making a name for himself as one of the great showmen of today. From New Orleans Jazz Festival and Lollapalooza Chile to becoming the first Cuban-born artist to play Coachella\, this undisputed star of Afro-Latin music has earned the adoration of musical icons such as Argentine Fito Páez\, who has hailed him as “one of the lights of the continent’s future\,” the Godfather of Funk George Clinton\, who refers to him as “the next one\,” and Chucho Valdés\, who credits Cimafunk with masterfully and organically blending “AfroCuban with African American\, converting this into a new school that until now I haven’t heard done.” \nCimafunk’s distinctive musical fusion continued to grow in its artistry with both the release of his second album  “El Alimento” (‘The Nourishment ) -which was met with an abundance of critical praise that included Best Albums of the Year lists of Rolling Stone\, NPR and more… as well as an equal volume of glowing reviews for his unrivaled live shows\, which quickly made him one of the most in-demand festival performers. \nCimafunk has collaborated on records and shared the stage with the likes of Alejandro Sanz\, CeeLo Green\, ChocQuibTown\, Chucho Valdés\, Fito Páez\, Fonseca\, Fred Wesley\, Galactic\, George Clinton\, Jon Batiste\, Juanes\, Leoni Torres\, Lettuce\, Lupe Fiasco\, Preservation Hall\,\, Omar Portuondo\, Orquesta Aragón\, Robert Glasper\, String Cheese Incident\, The Soul Rebels and Trombone Shorty. Susan Sarandon\, Ron Delsner and other personalities have become superfans\, often seen side-stage lost in the groove\, and the likes of Paul McCartney and more have come out to check out the AfroCuban sensation. \nAfter the success of El Alimento\, Cimafunk delves even further into his exploration of the intersections between funk and the sounds of the continent and gives us Pa’ Tu Cuerpa (Mala Cabeza Records)\, his most polished and mature production to date\, on August 23rd\, 2024.
URL:https://www.discoverhollywood.com/event/cimafunk/2025-11-20/2/
LOCATION:Blue Note Jazz Club
END:VEVENT
BEGIN:VEVENT
DTSTART;TZID=Asia/Kolkata:20251120T213000
DTEND;TZID=Asia/Kolkata:20251120T233000
DTSTAMP:20260425T072646
CREATED:20251119T192656Z
LAST-MODIFIED:20251119T192656Z
UID:10025588-1763674200-1763681400@www.discoverhollywood.com
SUMMARY:Hayden Everett
DESCRIPTION:Hayden Everett is an American singer-songwriter\, multi-instrumentalist\, and producer from the San Francisco Bay Area\, celebrated for his eclectic sound that blends folk storytelling with jazz-trained musicianship and cinematic indie-rock production. His music is characterized by lush harmonies\, smooth soundscapes\, and heavy-hitting rhythms\, drawing on his background in jazz piano and folk music to create tracks that are both pensive and uplifting. Everett’s primary artistic mission is to foster compassion and wonder through honest lyricism\, touching upon weighty themes like mental health\, climate change\, and personal growth\, as seen in his well-received EPs like Silver Line (2023) and I Miss The Sky (2024). Now based in Seattle\, he has built a dedicated following with millions of streams\, and in 2025\, he is releasing his collaborative Friends & Family EP\, featuring a diverse group of close musical partners.
URL:https://www.discoverhollywood.com/event/hayden-everett/
LOCATION:Hotel Cafe Second Stage\, 1623 N Cahuenga Blvd https://www.hotelcafe.com/tickets/?s=events_view&id=5674\, Los Angeles\, California\, 90028.0
END:VEVENT
END:VCALENDAR