BEGIN:VCALENDAR
VERSION:2.0
PRODID:-//Discover Hollywood Magazine - ECPv6.15.20//NONSGML v1.0//EN
CALSCALE:GREGORIAN
METHOD:PUBLISH
X-ORIGINAL-URL:https://www.discoverhollywood.com
X-WR-CALDESC:Events for Discover Hollywood Magazine
REFRESH-INTERVAL;VALUE=DURATION:PT1H
X-Robots-Tag:noindex
X-PUBLISHED-TTL:PT1H
BEGIN:VTIMEZONE
TZID:Asia/Kolkata
BEGIN:STANDARD
TZOFFSETFROM:+0530
TZOFFSETTO:+0530
TZNAME:IST
DTSTART:20240101T000000
END:STANDARD
END:VTIMEZONE
BEGIN:VEVENT
DTSTART;TZID=Asia/Kolkata:20251106T200000
DTEND;TZID=Asia/Kolkata:20251215T230000
DTSTAMP:20260425T054339
CREATED:20251006T195404Z
LAST-MODIFIED:20251120T130005Z
UID:10021646-1762459200-1765839600@www.discoverhollywood.com
SUMMARY:Hello\, My Name Is…  A comedy about losing your way on the journey to find yourself.
DESCRIPTION:By Amy Dellagarino\, Directed by Darin Anthony\nProduced by Laura Buckles and Joe Camareno \nWhat do you do when the world makes no sense? Some people meditate. Some people travel. And some people… join a cult. In this razor-sharp satire\, a ragtag group of seekers stumble into community\, purpose\, and even a little joy—in the unlikeliest of places. But as devotion twists and the “truth” grows harder to swallow\, each must decide: are they finally becoming who they are\, or are they disappearing entirely? Funny\, unsettling\, and brutally honest\, Hello\, My Name Is… explores the human hunger for meaning\, the comedy of misplaced faith\, and the strange\, surprising places where we end up finding ourselves. \nFeaturing: Ronni Page\, Rebecca Larson\, Brandon Bales\, Bradley Bazile\, Juan Monsalvez.
URL:https://www.discoverhollywood.com/event/hello-my-name-is-a-comedy-about-losing-your-way-on-the-journey-to-find-yourself/
LOCATION:Moving Arts Bold New Theater\, 3191 Casitas Ave.\, Los Angeles\, CA\, 90039\, United States
END:VEVENT
BEGIN:VEVENT
DTSTART;TZID=Asia/Kolkata:20251127T080000
DTEND;TZID=Asia/Kolkata:20251127T170000
DTSTAMP:20260425T054339
CREATED:20251127T153923Z
LAST-MODIFIED:20251127T153923Z
UID:10025643-1764230400-1764262800@www.discoverhollywood.com
SUMMARY:Vinny Appice's Sabbath Knights\, Crenshaw\, Engineered Society Project\, Hollywood Xambiez\, Deadicated Project (Grateful Dead Tribute)\, SugarFix\, Ultimate Sin (Ozzy Tribute)
DESCRIPTION:Headlining the show is Vinny Appice’s Sabbath Knights\, a “Tribute Plus” act where the legendary drummer of Black Sabbath\, Dio\, and Heaven & Hell performs a set dedicated to the best of Black Sabbath and Dio’s heavy hits and fan favorites. The event also features two other high-profile tributes: Ultimate Sin\, a band dedicated to the music of legendary metal vocalist Ozzy Osbourne\, and the Deadicated Project\, which authentically recreates the psychedelic and improvisational folk-rock of The Grateful Dead. Rounding out the eclectic bill are several local acts: Crenshaw\, an emerging Los Angeles-based rock band; Engineered Society Project\, an alternative or hard rock band; Hollywood Xambiez\, who are often associated with the glam or horror rock scene; and SugarFix\, who play a variety of rock genres.
URL:https://www.discoverhollywood.com/event/vinny-appices-sabbath-knights-crenshaw-engineered-society-project-hollywood-xambiez-deadicated-project-grateful-dead-tribute-sugarfix-ultimate-sin-ozzy-tribute/
LOCATION:CA
END:VEVENT
BEGIN:VEVENT
DTSTART;TZID=Asia/Kolkata:20251127T080000
DTEND;TZID=Asia/Kolkata:20251127T170000
DTSTAMP:20260425T054339
CREATED:20251127T165015Z
LAST-MODIFIED:20251127T165015Z
UID:10025650-1764230400-1764262800@www.discoverhollywood.com
SUMMARY:SAMMY ADAMS
DESCRIPTION:Sammy Adams\, born Samuel Adams Wisner in Cambridge\, Massachusetts\, is an American rapper\, singer\, songwriter\, and producer known for his pop-rap style that seamlessly blends traditional hip-hop with upbeat\, electronic\, and party-oriented themes\, a sound he often refers to as “hip-pop.” He rose to prominence in the late 2000s while attending Trinity College\, achieving viral fame with his 2009 track “I Hate College (Remix)” and quickly following up with his debut EP\, Boston’s Boy (2010)\, which topped the iTunes hip-hop chart independently and led to sold-out tours and performances at major festivals like Lollapalooza. Though he signed with Sony RCA and collaborated with artists like Enrique Iglesias and Mike Posner\, eventually releasing his platinum-selling hit “All Night Longer\,” he later returned to independent releases to focus on music that authentically reflected his personal growth\, a journey marked by his successful recovery from a severe spinal injury in 2018.
URL:https://www.discoverhollywood.com/event/sammy-adams-2/
LOCATION:CA
END:VEVENT
END:VCALENDAR