BEGIN:VCALENDAR
VERSION:2.0
PRODID:-//Discover Hollywood Magazine - ECPv6.15.20//NONSGML v1.0//EN
CALSCALE:GREGORIAN
METHOD:PUBLISH
X-WR-CALNAME:Discover Hollywood Magazine
X-ORIGINAL-URL:https://www.discoverhollywood.com
X-WR-CALDESC:Events for Discover Hollywood Magazine
REFRESH-INTERVAL;VALUE=DURATION:PT1H
X-Robots-Tag:noindex
X-PUBLISHED-TTL:PT1H
BEGIN:VTIMEZONE
TZID:Asia/Kolkata
BEGIN:STANDARD
TZOFFSETFROM:+0530
TZOFFSETTO:+0530
TZNAME:IST
DTSTART:20240101T000000
END:STANDARD
END:VTIMEZONE
BEGIN:VEVENT
DTSTART;TZID=Asia/Kolkata:20251106T200000
DTEND;TZID=Asia/Kolkata:20251215T230000
DTSTAMP:20260425T085948
CREATED:20251006T195404Z
LAST-MODIFIED:20251120T130005Z
UID:10021646-1762459200-1765839600@www.discoverhollywood.com
SUMMARY:Hello\, My Name Is…  A comedy about losing your way on the journey to find yourself.
DESCRIPTION:By Amy Dellagarino\, Directed by Darin Anthony\nProduced by Laura Buckles and Joe Camareno \nWhat do you do when the world makes no sense? Some people meditate. Some people travel. And some people… join a cult. In this razor-sharp satire\, a ragtag group of seekers stumble into community\, purpose\, and even a little joy—in the unlikeliest of places. But as devotion twists and the “truth” grows harder to swallow\, each must decide: are they finally becoming who they are\, or are they disappearing entirely? Funny\, unsettling\, and brutally honest\, Hello\, My Name Is… explores the human hunger for meaning\, the comedy of misplaced faith\, and the strange\, surprising places where we end up finding ourselves. \nFeaturing: Ronni Page\, Rebecca Larson\, Brandon Bales\, Bradley Bazile\, Juan Monsalvez.
URL:https://www.discoverhollywood.com/event/hello-my-name-is-a-comedy-about-losing-your-way-on-the-journey-to-find-yourself/
LOCATION:Moving Arts Bold New Theater\, 3191 Casitas Ave.\, Los Angeles\, CA\, 90039\, United States
END:VEVENT
BEGIN:VEVENT
DTSTART;TZID=Asia/Kolkata:20251129T140000
DTEND;TZID=Asia/Kolkata:20251129T170000
DTSTAMP:20260425T085948
CREATED:20251003T084821Z
LAST-MODIFIED:20251003T090538Z
UID:10020586-1764424800-1764435600@www.discoverhollywood.com
SUMMARY:Suffs
DESCRIPTION:
URL:https://www.discoverhollywood.com/event/suffs/2025-11-29/1/
LOCATION:Hollywood Pantages Theatre\, 6233 Hollywood Blvd. Wayne McWorter (213)365-3500\, Hollywood\, CA\, 90028.0
END:VEVENT
BEGIN:VEVENT
DTSTART;TZID=Asia/Kolkata:20251129T183000
DTEND;TZID=Asia/Kolkata:20251129T223000
DTSTAMP:20260425T085948
CREATED:20251124T174244Z
LAST-MODIFIED:20251124T174244Z
UID:10025633-1764441000-1764455400@www.discoverhollywood.com
SUMMARY:Hollywood Roses (Tribute to Guns N Roses)\, Thredge \, Murdërone (Tribute to Motörhead)\, Deadicated Project (Grateful Dead Tribute)\, Shock
DESCRIPTION:Hollywood Roses\, a premier tribute band known for accurately capturing the glam metal and hard rock sound and look of a classic Guns N’ Roses show\, with the singer often praised for sounding remarkably like Axl Rose. They are joined by Murdërone\, who performs a heavy\, fast\, and aggressive tribute to the legendary speed metal/hard rock band Motörhead\, honoring the legacy of Lemmy Kilmister. Further diversifying the bill is the Deadicated Project\, which pays tribute to the iconic psychedelic and improvisational Grateful Dead with a fusion of folk-rock and extended jams. Completing the line-up are original acts Thredge\, an LA-based five-piece committed to musical exploration with a blend of aggressive metal\, rock\, blues\, and jazz\, and Shock\, an artist whose name is often associated with the highly theatrical\, controversial genre of Shock Rock.
URL:https://www.discoverhollywood.com/event/hollywood-roses-tribute-to-guns-n-roses-thredge-murderone-tribute-to-motorhead-deadicated-project-grateful-dead-tribute-shock/
LOCATION:Whisky A-Go-Go\, 8901 Sunset Blvd\, Los Angeles\, California
END:VEVENT
BEGIN:VEVENT
DTSTART;TZID=Asia/Kolkata:20251129T183000
DTEND;TZID=Asia/Kolkata:20251129T230000
DTSTAMP:20260425T085948
CREATED:20251124T175054Z
LAST-MODIFIED:20251124T175054Z
UID:10025634-1764441000-1764457200@www.discoverhollywood.com
SUMMARY:Rhino Bucket\, Philthy Rych\, Rok Ali and The Addiction\, Made N America\, Bittadreama
DESCRIPTION:Rhino Bucket\, a long-running American Hard Rock band from Los Angeles whose gritty\, no-frills sound is often likened to that of the Bon Scott-era AC/DC\, and they are known for their song “Ride with Yourself\,” which appeared in the movie Wayne’s World. The bill also features Philthy Rych\, an original rock musician from Riverside who fuses Alternative and Hard Rock with influences like Motörhead and Social Distortion; Rok Ali and The Addiction\, a contemporary hard rock ensemble fronted by the dynamic Rok Ali\, whose sound blends the raw energy of 90s Heavy Rock and Grunge with sophisticated\, psychedelic textures; Made N America\, a hard rock band often associated with various tribute acts or the overall rock scene; and Bittadreama\, a local band rounding out the event.
URL:https://www.discoverhollywood.com/event/rhino-bucket-philthy-rych-rok-ali-and-the-addiction-made-n-america-bittadreama/
LOCATION:Whisky A-Go-Go\, 8901 Sunset Blvd\, Los Angeles\, California
END:VEVENT
BEGIN:VEVENT
DTSTART;TZID=Asia/Kolkata:20251129T190000
DTEND;TZID=Asia/Kolkata:20251129T210000
DTSTAMP:20260425T085948
CREATED:20251119T162438Z
LAST-MODIFIED:20251119T162438Z
UID:10025558-1764442800-1764450000@www.discoverhollywood.com
SUMMARY:Andra Day
DESCRIPTION:Andra Day is a powerful singer and artful songwriter who isn’t merely a throwback R&B specialist; her roots in gospel\, jazz\, and the blues\, displayed with ease and finesse\, translate to the present. Cheers to the Fall (2015)\, her auspicious debut\, cracked the Top Ten of the R&B/hip-hop charts and paved the way for a handful of Grammy nominations and an Academy Award nomination\, with “Stand Up for Something” (2017)\, her contribution to the soundtrack of Marshall\, earning both distinctions. Anticipation for her second proper album continued to build with intermediary singles that surrounded a Golden Globe-winning portrayal of  in The United States vs. Billie Holiday (2021). CASSANDRA (cherith) (2024)\, Day’s second album of original material\, moved smoothly across traditional and progressive R&B\, orchestral pop\, and bossa nova.
URL:https://www.discoverhollywood.com/event/andra-day/2025-11-29/1/
LOCATION:Blue Note Jazz Club
END:VEVENT
BEGIN:VEVENT
DTSTART;TZID=Asia/Kolkata:20251129T190000
DTEND;TZID=Asia/Kolkata:20251129T213000
DTSTAMP:20260425T085948
CREATED:20251119T103242Z
LAST-MODIFIED:20251119T103242Z
UID:10025530-1764442800-1764451800@www.discoverhollywood.com
SUMMARY:DAVID BENOIT: A CHARLIE BROWN CHRISTMAS (Grammy Award-nominated Pianist\, KJAZZ Host)
DESCRIPTION:The event DAVID BENOIT: A CHARLIE BROWN CHRISTMAS is a popular annual holiday tribute led by the Grammy Award-nominated American contemporary jazz pianist and composer David Benoit\, who is also a host on KJAZZ radio. The concert is a loving homage to the 1965 animated classic A Charlie Brown Christmas\, specifically celebrating the iconic\, foundational jazz score created by Vince Guaraldi. Benoit is uniquely qualified to lead this tribute\, as he took over the helm as the composer for later Peanuts television specials and has spent decades performing this cherished music worldwide. \nThe tribute concert is scheduled for multiple nights at the Catalina Jazz Club in Hollywood\, California\, including Friday\, November 28\, 2025\, and Saturday\, November 29\, 2025\, both at 8:30 PM. The show features a selection of Guaraldi’s original pieces (“Linus and Lucy\,” “Christmas Time Is Here”)\, holiday originals from Benoit’s own discography\, and often includes the distinguished vocalist Courtney Fortune and a local children’s choir\, ensuring a heart-warming\, family-friendly show that captures the nostalgic Christmas spirit.
URL:https://www.discoverhollywood.com/event/david-benoit-a-charlie-brown-christmas-grammy-award-nominated-pianist-kjazz-host/2025-11-29/
LOCATION:Catalina Jazz Club\, 6725 W. Sunset Blvd.\, Hollywood\, California\, 90028.0
END:VEVENT
BEGIN:VEVENT
DTSTART;TZID=Asia/Kolkata:20251129T190000
DTEND;TZID=Asia/Kolkata:20251129T213000
DTSTAMP:20260425T085948
CREATED:20251124T104832Z
LAST-MODIFIED:20251124T104832Z
UID:10025607-1764442800-1764451800@www.discoverhollywood.com
SUMMARY:Clave Especial - Mija No Te Asustes Tour
DESCRIPTION:The Clave Especial – Mija No Te Asustes Tour is the 2025 North American concert series undertaken by the Mexican regional music group Clave Especial\, known for their modern\, youthful fusion of traditional Sierreño and Norteño music with contemporary influences like Corridos Tumbados and Trap. The name of the tour\, Mija No Te Asustes (Daughter\, Don’t Be Scared)\, reflects the band’s commitment to raw\, unvarnished storytelling and their appeal to a younger demographic interested in the evolving sound of Música Mexicana. The band\, which gained prominence with their 2022 hit single “No Me Pidas Perdón\,” is celebrated for successfully blending the acoustic guitar work signature of Sierreño with sharp\, urban delivery\, and their stop at the Fox Theater in Pomona\, California\, on Friday\, December 5\, 2025\, at 8:00 PM\, promises a high-energy show featuring both their signature corridos and new material.
URL:https://www.discoverhollywood.com/event/clave-especial-mija-no-te-asustes-tour-2/
LOCATION:Hollywood Palladium\, 6215 Sunset Blvd\, Hollywood\, California
END:VEVENT
BEGIN:VEVENT
DTSTART;TZID=Asia/Kolkata:20251129T190000
DTEND;TZID=Asia/Kolkata:20251129T220000
DTSTAMP:20260425T085948
CREATED:20251127T164648Z
LAST-MODIFIED:20251127T164648Z
UID:10025649-1764442800-1764453600@www.discoverhollywood.com
SUMMARY:HABAK
DESCRIPTION:HABAK is a critically acclaimed Mexican band from Tijuana best known for pioneering a blend of intense\, politically charged music called “crust melódico” (melodic crust punk) or neocrust. Their unique sound successfully fuses the raw\, socio-political fury of crust punk and D-beat with the emotional complexity\, intricate guitar harmonies\, and longer\, layered compositions of screamo and post-metal. Led by vocalist Alejandra Valdez\, the band’s music—which is typically sung in Spanish—is often described as both abrasive and delicately beautiful\, a duality perfectly captured by the title of their album\, Mil orquídeas en medio del desierto (A Thousand Orchids in the Middle of the Desert). Habak is deeply committed to a DIY punk ethos and uses their music to explore radical themes of anti-fascism\, anti-capitalism\, and social justice and is known for their highly energetic live performances.
URL:https://www.discoverhollywood.com/event/habak/
LOCATION:The Roxy\, 9009 Sunset Blvd.\, Los Angeles\, California
END:VEVENT
BEGIN:VEVENT
DTSTART;TZID=Asia/Kolkata:20251129T190000
DTEND;TZID=Asia/Kolkata:20251129T223000
DTSTAMP:20260425T085948
CREATED:20251124T162328Z
LAST-MODIFIED:20251124T162328Z
UID:10025619-1764442800-1764455400@www.discoverhollywood.com
SUMMARY:RAY and PAUL
DESCRIPTION:The musical duo Ray and Paul consists of brothers Ray Holmberg (lead vocals\, guitar) and Paul Holmberg (drums\, backing vocals) from Marin County\, California\, who started their band when they were just teenagers and are known for their blend of Surf/Garage Rock with Indie/Alternative Pop\, often featuring catchy vocal melodies over heavier guitars. They broke onto the scene in 2019 with their debut single “Mystery\,” which landed on several Spotify Editorial Playlists\, and they further honed their distinct\, high-energy live sound while attending college in Santa Barbara\, integrating into the local surf and DIY community. They have since released a self-titled debut album and a recent Fading EP\, and their growing success is evidenced by a deal with a Sony Music sub-label (AWAL) and active West Coast touring\, where their full live lineup often includes collaborators Aidan Reese on guitar and Mac Bihn on bass.
URL:https://www.discoverhollywood.com/event/ray-and-paul/
LOCATION:Troubadour\, 9081 Santa Monica Blvd.\, Hollywood\, California
END:VEVENT
BEGIN:VEVENT
DTSTART;TZID=Asia/Kolkata:20251129T190000
DTEND;TZID=Asia/Kolkata:20251129T233000
DTSTAMP:20260425T085948
CREATED:20251103T113422Z
LAST-MODIFIED:20251103T113422Z
UID:10024935-1764442800-1764459000@www.discoverhollywood.com
SUMMARY:Clave Especial - Mija No Te Asustes Tour
DESCRIPTION:Clave Especial is a rapidly rising American band from Salinas\, California\, that has become a prominent force in the Regional Mexican music scene\, particularly within the subgenre of Corridos Tumbados. Formed in 2021 by cousins Alejandro Ahumada (vocals\, guitar) and Leonardo Lomeli (producer\, lead guitar)\, who were later joined by Rogelio Gonzalez\, the group is celebrated for blending traditional Mexican roots with a sleek\, modern sound. Their music features the classic instrumentation of requinto and charchetas but is infused with urban influences\, trap elements\, and introspective lyrics about street life and the corrido lifestyle. After gaining significant attention with their 2023 single “Rápido Soy\,” they solidified their breakout status with the 2025 album Mija No Te Asustes\, and are frequently noted for successful collaborations with major artists like Luis R Conriquez and Fuerza Regida.
URL:https://www.discoverhollywood.com/event/clave-especial-mija-no-te-asustes-tour/
LOCATION:Hollywood Palladium\, 6215 Sunset Blvd\, Hollywood\, California
END:VEVENT
BEGIN:VEVENT
DTSTART;TZID=Asia/Kolkata:20251129T200000
DTEND;TZID=Asia/Kolkata:20251129T220000
DTSTAMP:20260425T085948
CREATED:20251112T183859Z
LAST-MODIFIED:20251112T183859Z
UID:10025403-1764446400-1764453600@www.discoverhollywood.com
SUMMARY:Suffs: Behind Every Powerful Woman...are More Powerful Women
DESCRIPTION:Direct from Broadway\, comes the acclaimed Tony Award® winning musical SUFFS about the brilliant\, passionate\, and funny American women who fought tirelessly for the right to vote. Created by Shaina Taub\, the first woman to ever independently win Tony Awards for Best Book and Best Score in the same season\, this “thrilling\, inspiring and dazzlingly entertaining” (Variety) new musical boldly explores the triumphs and failures of a struggle for equality that’s far from over. Winner of the Outer Critics’ Circle Award for Best New Musical. \n  \n“Like all of the best Broadway musicals\, SUFFS humanizes\, empowers\, moves\, and entertains.” Chicago Tribune
URL:https://www.discoverhollywood.com/event/suffs-behind-every-powerful-woman-are-more-powerful-women/2025-11-29/
LOCATION:Hollywood Pantages Theatre\, 6233 Hollywood Blvd. Wayne McWorter (213)365-3500\, Hollywood\, CA\, 90028.0
END:VEVENT
BEGIN:VEVENT
DTSTART;TZID=Asia/Kolkata:20251129T200000
DTEND;TZID=Asia/Kolkata:20251129T230000
DTSTAMP:20260425T085948
CREATED:20251003T084821Z
LAST-MODIFIED:20251003T090538Z
UID:10020587-1764446400-1764457200@www.discoverhollywood.com
SUMMARY:Suffs
DESCRIPTION:
URL:https://www.discoverhollywood.com/event/suffs/2025-11-29/2/
LOCATION:Hollywood Pantages Theatre\, 6233 Hollywood Blvd. Wayne McWorter (213)365-3500\, Hollywood\, CA\, 90028.0
END:VEVENT
BEGIN:VEVENT
DTSTART;TZID=Asia/Kolkata:20251129T200000
DTEND;TZID=Asia/Kolkata:20251129T233000
DTSTAMP:20260425T085948
CREATED:20251103T101842Z
LAST-MODIFIED:20251103T101842Z
UID:10024926-1764446400-1764459000@www.discoverhollywood.com
SUMMARY:Siavash Shams 
DESCRIPTION:Legendary Iranian pop star Siavash Shams returns to the stage at the iconic Dolby Theatre for a spectacular evening of music\, passion\, and nostalgia. After many years away from the spotlight\, Siavash is set to reunite with his fans in Los Angeles for a once-in-a-lifetime performance\, bringing his timeless hits and electrifying energy back to the stage. \nKnown for his soulful voice and unforgettable songs that defined a generation\, Siavash’s return promises to be more than a concert—it’s a celebration of music\, memories\, and a long-awaited reunion with his audience.
URL:https://www.discoverhollywood.com/event/siavash-shams/
LOCATION:Dolby Theatre\, 6801 Hollywood Blvd.\, Hollywood\, California\, 90028.0
END:VEVENT
BEGIN:VEVENT
DTSTART;TZID=Asia/Kolkata:20251129T213000
DTEND;TZID=Asia/Kolkata:20251129T230000
DTSTAMP:20260425T085948
CREATED:20251119T162438Z
LAST-MODIFIED:20251119T162438Z
UID:10025559-1764451800-1764457200@www.discoverhollywood.com
SUMMARY:Andra Day
DESCRIPTION:Andra Day is a powerful singer and artful songwriter who isn’t merely a throwback R&B specialist; her roots in gospel\, jazz\, and the blues\, displayed with ease and finesse\, translate to the present. Cheers to the Fall (2015)\, her auspicious debut\, cracked the Top Ten of the R&B/hip-hop charts and paved the way for a handful of Grammy nominations and an Academy Award nomination\, with “Stand Up for Something” (2017)\, her contribution to the soundtrack of Marshall\, earning both distinctions. Anticipation for her second proper album continued to build with intermediary singles that surrounded a Golden Globe-winning portrayal of  in The United States vs. Billie Holiday (2021). CASSANDRA (cherith) (2024)\, Day’s second album of original material\, moved smoothly across traditional and progressive R&B\, orchestral pop\, and bossa nova.
URL:https://www.discoverhollywood.com/event/andra-day/2025-11-29/2/
LOCATION:Blue Note Jazz Club
END:VEVENT
END:VCALENDAR