BEGIN:VCALENDAR
VERSION:2.0
PRODID:-//Discover Hollywood Magazine - ECPv6.15.20//NONSGML v1.0//EN
CALSCALE:GREGORIAN
METHOD:PUBLISH
X-WR-CALNAME:Discover Hollywood Magazine
X-ORIGINAL-URL:https://www.discoverhollywood.com
X-WR-CALDESC:Events for Discover Hollywood Magazine
REFRESH-INTERVAL;VALUE=DURATION:PT1H
X-Robots-Tag:noindex
X-PUBLISHED-TTL:PT1H
BEGIN:VTIMEZONE
TZID:Asia/Kolkata
BEGIN:STANDARD
TZOFFSETFROM:+0530
TZOFFSETTO:+0530
TZNAME:IST
DTSTART:20240101T000000
END:STANDARD
END:VTIMEZONE
BEGIN:VEVENT
DTSTART;TZID=Asia/Kolkata:20251106T200000
DTEND;TZID=Asia/Kolkata:20251215T230000
DTSTAMP:20260423T044734
CREATED:20251006T195404Z
LAST-MODIFIED:20251120T130005Z
UID:10021646-1762459200-1765839600@www.discoverhollywood.com
SUMMARY:Hello\, My Name Is…  A comedy about losing your way on the journey to find yourself.
DESCRIPTION:By Amy Dellagarino\, Directed by Darin Anthony\nProduced by Laura Buckles and Joe Camareno \nWhat do you do when the world makes no sense? Some people meditate. Some people travel. And some people… join a cult. In this razor-sharp satire\, a ragtag group of seekers stumble into community\, purpose\, and even a little joy—in the unlikeliest of places. But as devotion twists and the “truth” grows harder to swallow\, each must decide: are they finally becoming who they are\, or are they disappearing entirely? Funny\, unsettling\, and brutally honest\, Hello\, My Name Is… explores the human hunger for meaning\, the comedy of misplaced faith\, and the strange\, surprising places where we end up finding ourselves. \nFeaturing: Ronni Page\, Rebecca Larson\, Brandon Bales\, Bradley Bazile\, Juan Monsalvez.
URL:https://www.discoverhollywood.com/event/hello-my-name-is-a-comedy-about-losing-your-way-on-the-journey-to-find-yourself/
LOCATION:Moving Arts Bold New Theater\, 3191 Casitas Ave.\, Los Angeles\, CA\, 90039\, United States
END:VEVENT
BEGIN:VEVENT
DTSTART;TZID=Asia/Kolkata:20251214T130000
DTEND;TZID=Asia/Kolkata:20251214T160000
DTSTAMP:20260423T044734
CREATED:20251003T090846Z
LAST-MODIFIED:20251003T092415Z
UID:10020609-1765717200-1765728000@www.discoverhollywood.com
SUMMARY:Stereophonic
DESCRIPTION:
URL:https://www.discoverhollywood.com/event/stereophonic/2025-12-14/1/
LOCATION:Hollywood Pantages Theatre\, 6233 Hollywood Blvd. Wayne McWorter (213)365-3500\, Hollywood\, CA\, 90028.0
END:VEVENT
BEGIN:VEVENT
DTSTART;TZID=Asia/Kolkata:20251214T130000
DTEND;TZID=Asia/Kolkata:20251214T170000
DTSTAMP:20260423T044734
CREATED:20251208T193514Z
LAST-MODIFIED:20251208T193514Z
UID:10026475-1765717200-1765731600@www.discoverhollywood.com
SUMMARY:Desert Films
DESCRIPTION:Oscar Nominated actor\, director and writer James Franco presents a bold new work-in-progress: a surreal stage trip through fame\, fantasy\, and the myth of Robert Blake. \nDirected by James Franco and Peter Gold.\nStarring James Franco and Blaine Kern III.\nSpecial performance by Beth Grant.
URL:https://www.discoverhollywood.com/event/desert-films/2025-12-14/
LOCATION:Hudson Mainstage Theatre\, 6539 Santa Monica Blvd.\, Hollywood\, California
END:VEVENT
BEGIN:VEVENT
DTSTART;TZID=Asia/Kolkata:20251214T140000
DTEND;TZID=Asia/Kolkata:20251214T170000
DTSTAMP:20260423T044734
CREATED:20251105T115126Z
LAST-MODIFIED:20251105T115126Z
UID:10024958-1765720800-1765731600@www.discoverhollywood.com
SUMMARY:Holiday Soirée & Cabaret’ stars Imani Branch & Friends
DESCRIPTION:Get into the holiday spirit at The Fountain Theatre with a three-night Holiday Soirée & Cabaret celebrating theater\, music and community. The centerpiece of this festive series will be the Holiday Soirée on Friday\, Dec. 12\, featuring a live 2026 season announcement\, a sparkling cabaret performance by Imani Branch & Friends\, and a lively raffle and reception designed to bring together artists\, patrons and friends. Following the Soirée\, Imani Branch & Friends return for two additional Holiday Cabaret performances on Saturday and Sunday. \nA graduate of Howard University\, Branch is a triple threat whose credits include the Helen Hayes nominated ensemble of Dominique Morisseau’s Blood at the Root at Theatre Alliance at Anacostia and productions of Passing Strange and Rent\, both at the Tony nominated Signature Theatre. A dazzling star who breathes life and story into every musical number\, she’s a larger-than-life talent boasting a captivating stage presence and fiercely soulful musical power.
URL:https://www.discoverhollywood.com/event/holiday-soiree-cabaret-stars-imani-branch-friends/2025-12-14/
LOCATION:The Fountain Theatre\, 5060 Fountain Ave\, Los Angeles\, CA\, 90029\, United States
END:VEVENT
BEGIN:VEVENT
DTSTART;TZID=Asia/Kolkata:20251214T140000
DTEND;TZID=Asia/Kolkata:20251214T170000
DTSTAMP:20260423T044734
CREATED:20251113T105812Z
LAST-MODIFIED:20251113T105908Z
UID:10025523-1765720800-1765731600@www.discoverhollywood.com
SUMMARY:Fountain Theatre Holiday Soiree & Cabaret
DESCRIPTION:This December\, join the Fountain Teather for a Holiday Soirée & Cabaret\, a three-night celebration of theatre\, music\, and community. The centerpiece of this festive series will be our Holiday Soirée on December 12\, featuring a live 2026 Season Announcement\, a sparkling cabaret performance by Imani Branch & Friends\, and a lively raffle and reception designed to bring together artists\, patrons\, and friends. The Soirée will be followed by two additional Cabaret performances on December 13 & 14 to get you in the holiday spirit!
URL:https://www.discoverhollywood.com/event/fountain-theatre-holiday-soiree-cabaret/2025-12-14/
LOCATION:The Fountain Theatre\, 5060 Fountain Ave\, Los Angeles\, CA\, 90029\, United States
END:VEVENT
BEGIN:VEVENT
DTSTART;TZID=Asia/Kolkata:20251214T140000
DTEND;TZID=Asia/Kolkata:20251214T170000
DTSTAMP:20260423T044734
CREATED:20251208T183141Z
LAST-MODIFIED:20251208T183141Z
UID:10025675-1765720800-1765731600@www.discoverhollywood.com
SUMMARY:TASTE OF CHERRY
DESCRIPTION:Winner of the Palme d’Or at the 1997 Cannes Film Festival\, Iranian auteur Abbas Kiarostami’s TASTE OF CHERRY is an emotionally complex meditation on life and death. Middle-aged Mr. Badii (Homayoun Ershadi) drives through the hilly outskirts of Tehran—searching for someone to rescue or bury him.
URL:https://www.discoverhollywood.com/event/taste-of-cherry/
LOCATION:American Cinematheque at Egyptian Theatre\, 6712 Hollywood Blvd.\, Hollywood\, California
END:VEVENT
BEGIN:VEVENT
DTSTART;TZID=Asia/Kolkata:20251214T183000
DTEND;TZID=Asia/Kolkata:20251214T213000
DTSTAMP:20260423T044734
CREATED:20251003T090846Z
LAST-MODIFIED:20251003T092415Z
UID:10020610-1765737000-1765747800@www.discoverhollywood.com
SUMMARY:Stereophonic
DESCRIPTION:
URL:https://www.discoverhollywood.com/event/stereophonic/2025-12-14/2/
LOCATION:Hollywood Pantages Theatre\, 6233 Hollywood Blvd. Wayne McWorter (213)365-3500\, Hollywood\, CA\, 90028.0
END:VEVENT
BEGIN:VEVENT
DTSTART;TZID=Asia/Kolkata:20251214T190000
DTEND;TZID=Asia/Kolkata:20251214T220000
DTSTAMP:20260423T044734
CREATED:20251208T183333Z
LAST-MODIFIED:20251208T183333Z
UID:10025676-1765738800-1765749600@www.discoverhollywood.com
SUMMARY:THE GOLD RUSH
DESCRIPTION:Charlie Chaplin’s comedic masterwork—which charts a prospector’s search for fortune in the Klondike and his discovery of romance (with the beautiful Georgia Hale)—forever cemented the iconic status of Chaplin and his Little Tramp character. Shot partly on location in the Sierra Nevadas and featuring such timeless gags as the dance of the dinner rolls and the meal of boiled shoe leather\, THE GOLD RUSH is an indelible work of heartwarming hilarity.
URL:https://www.discoverhollywood.com/event/the-gold-rush/
LOCATION:American Cinematheque at Egyptian Theatre\, 6712 Hollywood Blvd.\, Hollywood\, California
END:VEVENT
BEGIN:VEVENT
DTSTART;TZID=Asia/Kolkata:20251214T190000
DTEND;TZID=Asia/Kolkata:20251214T230000
DTSTAMP:20260423T044734
CREATED:20251203T183343Z
LAST-MODIFIED:20251203T183343Z
UID:10025663-1765738800-1765753200@www.discoverhollywood.com
SUMMARY:Deceits
DESCRIPTION:Deceits is an emerging American trio from Los Angeles\, California\, who are a leading force in the contemporary Post-Punk and Gothic Rock scenes\, famous for their unique\, passionate sound that rejects being merely “moody and monotone.” The band\, composed of Kevin “Puppy” Moreno (vocals\, bass\, keys)\, Skylar Francise (guitars)\, and Francisco Saenz (percussion)\, creates a highly melodic blend of dark wave\, cold wave\, and deathrock\, characterized by a raw energy and romantic melancholy that draws heavy comparisons to seminal bands like The Cure and Joy Division\, but with an added intensity and modern flair. After forming in late 2021 and releasing their debut album\, If There’s No Heaven… in 2023\, they have quickly garnered a dedicated underground following and have secured major performances\, including slots at festivals and headlining shows in prestigious venues.
URL:https://www.discoverhollywood.com/event/deceits/
LOCATION:The Roxy\, 9009 Sunset Blvd.\, Los Angeles\, California
END:VEVENT
BEGIN:VEVENT
DTSTART;TZID=Asia/Kolkata:20251214T190000
DTEND;TZID=Asia/Kolkata:20251214T230000
DTSTAMP:20260423T044734
CREATED:20251210T114419Z
LAST-MODIFIED:20251210T114419Z
UID:10026504-1765738800-1765753200@www.discoverhollywood.com
SUMMARY:WAYNE LINSEY: A SWINGIN’ CHRISTMAS! (Award-winning Musician\, Producer\, Arranger\, Songwriter & Artist)
DESCRIPTION:The event WAYNE LINSEY: A SWINGIN’ CHRISTMAS! is a festive holiday concert showcasing the vast talents of Wayne Linsey\, an award-winning American musician\, producer\, arranger\, songwriter\, and artist\, scheduled to take place at the Catalina Jazz Club in Hollywood\, California\, on Sunday\, December 14\, 2025\, at 7:30 PM. Linsey is celebrated as a consummate maestro in contemporary music\, particularly known for his keyboard work\, and his extensive credits read like a “who’s who” of legendary artists\, including Miles Davis\, Aretha Franklin\, Stevie Wonder\, Whitney Houston\, and Earth\, Wind & Fire\, having also spent many years as the primary touring musician with Maze featuring Frankie Beverly. This holiday show is a live performance of his acclaimed Christmas material\, including arrangements from his own album\, Wayne Linsey presents….. A Swingin’ Christmas\, offering a night of soulful\, jazzy\, and swing-infused takes on holiday classics.
URL:https://www.discoverhollywood.com/event/wayne-linsey-a-swingin-christmas-award-winning-musician-producer-arranger-songwriter-artist/
LOCATION:Catalina Jazz Club\, 6725 W. Sunset Blvd.\, Hollywood\, California\, 90028.0
END:VEVENT
BEGIN:VEVENT
DTSTART;TZID=Asia/Kolkata:20251214T190000
DTEND;TZID=Asia/Kolkata:20251214T233000
DTSTAMP:20260423T044734
CREATED:20251120T131805Z
LAST-MODIFIED:20251120T131805Z
UID:10025605-1765738800-1765755000@www.discoverhollywood.com
SUMMARY:The Jinkx & DeLa Holiday Show
DESCRIPTION:The greatest holiday show south of the North Pole is back with another brand spankin’ new wintertide wonder! Award-winning comedy icons\, writers\, actors\, and drag queen powerhouses BenDeLaCreme & Jinkx Monsoon are coming back to town with the wildly successful\, internationally acclaimed\, “The Jinkx & DeLa Holiday Show.” Throughout the show’s 8-year history Jinkx and DeLa have met sentient Christmas treats\, twisted space-time with Dickensian Ghosts\, escaped the meta clutches of their own holiday traditions\, and led a harrowing rescue mission in the Nutcracker’s Land of Sweets – You never know what wild and unexpected sleigh ride these queens have in store. \nWhatever the twists and turns\, fans can expect another year of over-the-top camp spectacle\, side-splitting gags\, brand new songs\, heartfelt storytelling\, thrilling dance numbers\, and iconic costumes. Hailed by Entertainment Weekly as “the reigning queens of Christmas\,” this show is not only a moment of respite\, but a celebration of community\, at a time when we need it most of all.
URL:https://www.discoverhollywood.com/event/the-jinkx-dela-holiday-show-3/
LOCATION:Dolby Theatre\, 6801 Hollywood Blvd.\, Hollywood\, California\, 90028.0
END:VEVENT
BEGIN:VEVENT
DTSTART;TZID=Asia/Kolkata:20251214T193000
DTEND;TZID=Asia/Kolkata:20251214T230000
DTSTAMP:20260423T044734
CREATED:20251212T162558Z
LAST-MODIFIED:20251212T162558Z
UID:10026519-1765740600-1765753200@www.discoverhollywood.com
SUMMARY:Patton Oswalt and Friends
DESCRIPTION:Get ready for a night of guaranteed hilarity when Emmy and Grammy Award-winning comedian and actor Patton Oswalt brings his stellar “Patton Oswalt and Friends” show to the intimate Largo at the Coronet in Los Angeles\, CA. Taking place on Sunday\, December 14\, 2025\, with a showtime of 7:30 PM\, this evening promises a lineup of top-tier comedy curated by Oswalt\, which on this date includes outstanding special guests Ron Funches\, Jackie Kashian\, and Nikki Glaser. Whether you know Oswalt from his roles on The King of Queens and Parks and Recreation\, his voice work in Ratatouille\, or his acclaimed stand-up specials like Talking for Clapping\, his “Friends” shows are a beloved Largo tradition known for surprise guests and high-energy sets—making it an essential stop for anyone seeking smart\, sharp\, and consistently brilliant comedy.
URL:https://www.discoverhollywood.com/event/patton-oswalt-and-friends/
LOCATION:Largo at the Coronet\, 366 N. La Cienega Blvd. http://www.largo-la.com/event/1283859-doug-loves-movies-12-guests-los-angeles/\, Los Angeles\, California\, 90048.0
END:VEVENT
BEGIN:VEVENT
DTSTART;TZID=Asia/Kolkata:20251214T203000
DTEND;TZID=Asia/Kolkata:20251214T223000
DTSTAMP:20260423T044734
CREATED:20251210T113747Z
LAST-MODIFIED:20251210T113747Z
UID:10026503-1765744200-1765751400@www.discoverhollywood.com
SUMMARY:Jazz Legends: MIKE STERN QUINTET | with Leni Stern (guitar\, ngoni & vocals)\, Bob Franceschini (saxophone)\, Janek Gwizdala (bass) and Dennis Chambers (drums)
DESCRIPTION:The Jazz Legends: MIKE STERN QUINTET concert\, featuring the all-star lineup of Mike Stern (guitar)\, Leni Stern (guitar\, ngoni & vocals)\, Bob Franceschini (saxophone)\, Janek Gwizdala (bass)\, and Dennis Chambers (drums)\, is scheduled for two nights at the Catalina Jazz Club in Hollywood\, California: Friday\, December 12\, 2025\, at 8:30 PM\, and Saturday\, December 13\, 2025\, at 8:30 PM. Mike Stern is a six-time Grammy nominee and one of the most esteemed electric guitarists of his generation\, known for his electrifying fusion style that blends sophisticated jazz harmonies with blistering rock-fusion firepower\, a sound forged through partnerships with legends like Miles Davis and Jaco Pastorius. This quintet is a powerhouse of contemporary jazz and fusion\, with each member being a leader in their own right; Dennis Chambers is a renowned drummer known for his technical virtuosity and deep groove\, while Leni Stern’s inclusion adds an element of African influence with her ngoni playing\, ensuring a night of high-level musicianship and improvisational excellence.
URL:https://www.discoverhollywood.com/event/jazz-legends-mike-stern-quintet-with-leni-stern-guitar-ngoni-vocals-bob-franceschini-saxophone-janek-gwizdala-bass-and-dennis-chambers-drums/2025-12-14/
LOCATION:Catalina Jazz Club\, 6725 W. Sunset Blvd.\, Hollywood\, California\, 90028.0
END:VEVENT
END:VCALENDAR