BEGIN:VCALENDAR
VERSION:2.0
PRODID:-//Discover Hollywood Magazine - ECPv6.15.20//NONSGML v1.0//EN
CALSCALE:GREGORIAN
METHOD:PUBLISH
X-WR-CALNAME:Discover Hollywood Magazine
X-ORIGINAL-URL:https://www.discoverhollywood.com
X-WR-CALDESC:Events for Discover Hollywood Magazine
REFRESH-INTERVAL;VALUE=DURATION:PT1H
X-Robots-Tag:noindex
X-PUBLISHED-TTL:PT1H
BEGIN:VTIMEZONE
TZID:Asia/Kolkata
BEGIN:STANDARD
TZOFFSETFROM:+0530
TZOFFSETTO:+0530
TZNAME:IST
DTSTART:20240101T000000
END:STANDARD
END:VTIMEZONE
BEGIN:VEVENT
DTSTART;TZID=Asia/Kolkata:20251218T190000
DTEND;TZID=Asia/Kolkata:20251218T200000
DTSTAMP:20260423T010520
CREATED:20251208T191955Z
LAST-MODIFIED:20251208T191955Z
UID:10025687-1766084400-1766088000@www.discoverhollywood.com
SUMMARY:A Short & Sketchy Evening With Chelsea & Michelle
DESCRIPTION:A Short & Sketchy Night With Chelsea & Michelle\nGet ready for a fun\, laugh filled evening with Chelsea and Michelle as they screen their shorts “Brain Spotting” (premiering for the first time!) and “The Anti-Social Network”\, followed by a preview of their upcoming sketch show (OooOo mystery show!)
URL:https://www.discoverhollywood.com/event/a-short-sketchy-evening-with-chelsea-michelle/2025-12-18/1/
LOCATION:The Broadwater\, 1076 Lillian Way\, Los Angeles\, California\, 90038.0
END:VEVENT
BEGIN:VEVENT
DTSTART;TZID=Asia/Kolkata:20251218T190000
DTEND;TZID=Asia/Kolkata:20251218T210000
DTSTAMP:20260423T010520
CREATED:20251215T182335Z
LAST-MODIFIED:20251215T182335Z
UID:10026538-1766084400-1766091600@www.discoverhollywood.com
SUMMARY:Robert Glasper
DESCRIPTION:Robert Glasper is a highly acclaimed American pianist\, record producer\, and songwriter who has made a significant mark on contemporary music through his distinctive blend of jazz\, hip hop\, R&B\, and neo-soul\, often described as a form of fusion jazz. His career\, which began around 2003\, features both acoustic jazz trio work and his electric band\, the Robert Glasper Experiment. A pivotal moment in his career was the release of the album Black Radio in 2012\, featuring a slew of guest vocalists from various genres\, which helped blur the boundaries between jazz and more popular music forms\, earning him a Grammy Award for Best R&B Album. Glasper has continued this successful\, genre-agnostic approach with subsequent releases in the Black Radio series and through high-profile collaborations with artists like Kendrick Lamar—playing keyboards on his celebrated album To Pimp a Butterfly—as well as Mac Miller\, H.E.R.\, and Common\, with whom he won an Emmy Award for the song “A Letter to the Free.” Throughout his work\, which has earned him five Grammy Awards from eleven nominations\, Glasper maintains a commitment to improvisational spirit and an intellectual approach to music while bringing jazz to a broader modern audience.
URL:https://www.discoverhollywood.com/event/robert-glasper/2025-12-18/1/
LOCATION:Blue Note Jazz Club
END:VEVENT
BEGIN:VEVENT
DTSTART;TZID=Asia/Kolkata:20251218T190000
DTEND;TZID=Asia/Kolkata:20251218T220000
DTSTAMP:20260423T010520
CREATED:20251210T120747Z
LAST-MODIFIED:20251210T120747Z
UID:10026507-1766084400-1766095200@www.discoverhollywood.com
SUMMARY:A LATIN JAZZ CHRISTMAS Holiday Classics with a Latin twist | Featuring The Sabor Jazz Collective
DESCRIPTION:The event A LATIN JAZZ CHRISTMAS Holiday Classics with a Latin twist\, featuring The Sabor Jazz Collective\, is a vibrant and festive musical celebration scheduled for Thursday\, December 18\, 2025\, at 8:30 PM at the Catalina Jazz Club in Hollywood\, California. This special concert offers a fresh\, high-energy take on beloved holiday music\, with the Sabor Jazz Collective—a group known for their expertise in blending diverse musical styles—reinterpreting traditional Christmas classics through the lens of Latin Jazz. The program fuses the sophisticated rhythms of Afro-Cuban jazz\, Salsa\, and Brazilian music with familiar holiday melodies\, transforming songs like “Jingle Bells” and “Silent Night” into captivating and danceable numbers rich with spicy percussion\, complex harmonies\, and brilliant improvisation. This show is designed to deliver a warm\, spirited\, and rhythmically complex celebration that brings a unique Latin fire to the holiday season.
URL:https://www.discoverhollywood.com/event/a-latin-jazz-christmas-holiday-classics-with-a-latin-twist-featuring-the-sabor-jazz-collective/
LOCATION:Catalina Jazz Club\, 6725 W. Sunset Blvd.\, Hollywood\, California\, 90028.0
END:VEVENT
BEGIN:VEVENT
DTSTART;TZID=Asia/Kolkata:20251218T190000
DTEND;TZID=Asia/Kolkata:20251218T230000
DTSTAMP:20260423T010520
CREATED:20251124T170628Z
LAST-MODIFIED:20251124T170628Z
UID:10025628-1766084400-1766098800@www.discoverhollywood.com
SUMMARY:Tinsel & Trunks
DESCRIPTION:The Tinsel & Trunks event is a live concert show scheduled for Sunday\, December 14\, 2025\, at 7:00 PM at the legendary Troubadour venue in West Hollywood\, California\, and is promoted by the venue as an Alternative music event. While details on the specific artists performing are often not listed in the initial booking title\, the phrase “Tinsel & Trunks” is often used in the music scene as a festive name for a holiday-themed multi-artist showcase\, sometimes featuring a mix of new and established acts who perform seasonal or festive-themed music. Given the Troubadour’s reputation\, this show is likely part of their annual December calendar\, focusing on emerging Alternative or Indie talent.
URL:https://www.discoverhollywood.com/event/tinsel-trunks/2025-12-18/
LOCATION:Troubadour\, 9081 Santa Monica Blvd.\, Hollywood\, California
END:VEVENT
BEGIN:VEVENT
DTSTART;TZID=Asia/Kolkata:20251218T193000
DTEND;TZID=Asia/Kolkata:20251218T223000
DTSTAMP:20260423T010520
CREATED:20251003T090846Z
LAST-MODIFIED:20251003T092415Z
UID:10020613-1766086200-1766097000@www.discoverhollywood.com
SUMMARY:Stereophonic
DESCRIPTION:
URL:https://www.discoverhollywood.com/event/stereophonic/2025-12-18/
LOCATION:Hollywood Pantages Theatre\, 6233 Hollywood Blvd. Wayne McWorter (213)365-3500\, Hollywood\, CA\, 90028.0
END:VEVENT
BEGIN:VEVENT
DTSTART;TZID=Asia/Kolkata:20251218T193000
DTEND;TZID=Asia/Kolkata:20251218T230000
DTSTAMP:20260423T010520
CREATED:20251212T172914Z
LAST-MODIFIED:20251212T172914Z
UID:10026529-1766086200-1766098800@www.discoverhollywood.com
SUMMARY:Amir K
DESCRIPTION:Amir K is a critically acclaimed Iranian-American comedian\, actor\, and writer based in Los Angeles\, known for his dynamic\, charismatic\, and multicultural comedic style that seamlessly blends improvisation\, storytelling\, and versatile character work. Born in Tehran and raised in Southern California\, Amir K’s unique perspective is often infused into his material\, which is further enhanced by his ability to perform various accents and impressions\, including in Farsi and Spanish. He gained widespread recognition as a cast member on the primetime CW reboot of MADtv and has appeared on numerous television shows for Comedy Central\, NBC’s Last Comic Standing\, and MTV’s Jerks with Cameras\, in addition to winning a SAG Award for his role in Ben Affleck’s Oscar-winning film Argo.
URL:https://www.discoverhollywood.com/event/amir-k/
LOCATION:Hollywood Improv\, 8162 Melrose Ave\, Hollywood\, California\, 90046.0
END:VEVENT
BEGIN:VEVENT
DTSTART;TZID=Asia/Kolkata:20251218T200000
DTEND;TZID=Asia/Kolkata:20251218T210000
DTSTAMP:20260423T010520
CREATED:20251208T191955Z
LAST-MODIFIED:20251208T191955Z
UID:10025688-1766088000-1766091600@www.discoverhollywood.com
SUMMARY:A Short & Sketchy Evening With Chelsea & Michelle
DESCRIPTION:A Short & Sketchy Night With Chelsea & Michelle\nGet ready for a fun\, laugh filled evening with Chelsea and Michelle as they screen their shorts “Brain Spotting” (premiering for the first time!) and “The Anti-Social Network”\, followed by a preview of their upcoming sketch show (OooOo mystery show!)
URL:https://www.discoverhollywood.com/event/a-short-sketchy-evening-with-chelsea-michelle/2025-12-18/2/
LOCATION:The Broadwater\, 1076 Lillian Way\, Los Angeles\, California\, 90038.0
END:VEVENT
BEGIN:VEVENT
DTSTART;TZID=Asia/Kolkata:20251218T200000
DTEND;TZID=Asia/Kolkata:20251218T233000
DTSTAMP:20260423T010520
CREATED:20251212T170521Z
LAST-MODIFIED:20251212T170521Z
UID:10026523-1766088000-1766100600@www.discoverhollywood.com
SUMMARY:JACKIE BEAT: PRETTY LADY CHRISTMAS!
DESCRIPTION:Prepare for a raucous and decidedly un-P.C. holiday celebration with the legendary drag queen Jackie Beat as she presents her annual seasonal spectacle\, JACKIE BEAT: PRETTY LADY CHRISTMAS! Taking place at the Largo at the Coronet in Los Angeles\, CA\, on Thursday\, December 18\, 2025\, at 8:00 PM\, this iconic show promises a night of all live singing and comedy stuffed with “naughty new numbers” and a sprinkling of her crass classics. Jackie Beat—a diva known for her wicked parodies and scathing wit—guarantees an evening that prioritizes being “pretty” over being generous or kind\, making it the perfect irreverent antidote to traditional Christmas cheer for mature audiences.
URL:https://www.discoverhollywood.com/event/jackie-beat-pretty-lady-christmas/
LOCATION:Largo at the Coronet\, 366 N. La Cienega Blvd. http://www.largo-la.com/event/1283859-doug-loves-movies-12-guests-los-angeles/\, Los Angeles\, California\, 90048.0
END:VEVENT
BEGIN:VEVENT
DTSTART;TZID=Asia/Kolkata:20251218T213000
DTEND;TZID=Asia/Kolkata:20251218T233000
DTSTAMP:20260423T010520
CREATED:20251212T173302Z
LAST-MODIFIED:20251212T173302Z
UID:10026532-1766093400-1766100600@www.discoverhollywood.com
SUMMARY:Godfrey
DESCRIPTION:A versatile actor\, writer\, host\, and standup comic\, Godfrey has made a name for himself for the range and depth in his work. With an ongoing successful career in standup comedy\, he tours internationally. His hilarious one-hour stand-up special\, REGULAR BLACK\, is currently streaming on Showtime\, along with his half hour Netflix Special under Tiffany Haddish’s THEY READY series. \nOn the acting front\, Godfrey played the hilarious recurring role of ‘Plaid Jeff’ in Adult Swim’s NEON JOE\, WEREWOLF HUNTER. He has also held great recurring roles in LOUIE for FX\, BENDERS for IFC and played the lead in the FX pilot\, BRONX WARRANTS. His Feature credits include ZOOLANDER\, SOUL PLANE\, and the Indie\, LEAVING LAS VEGAS\, in which he performed alongside Nicolas Cage. Godfrey has also used his creative depth in the development of an animated pilot for FOX\, that was based on his comedy act. He can next be seen on the upcoming Tracy Oliver project. \nAnd in the unscripted space\, Godfrey has also recently appeared on the hysterical gameshow produced by Dr. Phil’s Company\, TRIVIA CRACK\, based on the best-selling gaming app of the same name. He brought his characteristic humor and levity as the co-host of Fox’s highly-received gameshow\, BULLSEYE\, opposite Kellen Lutz. Godfrey also regularly appears as a guest on a variety of talkshows including THE NIGHTLY SHOW WITH LARRY WILMORE\, Howard Stern’s THE WRAP UP SHOW\, and Marc Maron’s hit podcast\, WTF. \nHis one man show called “The Godfrey Complex” was a major hit at the Just For Laughs festival in Montreal\, from which GQ Magazine said that Godfrey “is set to be one of the biggest performers in the US in 12 months\,” following his run at the festival. Godfrey’s one-hour special for Comedy Central\, “Godfrey: Black By Accident” is a great example of his witty\, intellectual capabilities as a standup.
URL:https://www.discoverhollywood.com/event/godfrey/2025-12-18/
LOCATION:Hollywood Improv\, 8162 Melrose Ave\, Hollywood\, California\, 90046.0
END:VEVENT
BEGIN:VEVENT
DTSTART;TZID=Asia/Kolkata:20251218T213000
DTEND;TZID=Asia/Kolkata:20251218T233000
DTSTAMP:20260423T010520
CREATED:20251215T182335Z
LAST-MODIFIED:20251215T182335Z
UID:10026539-1766093400-1766100600@www.discoverhollywood.com
SUMMARY:Robert Glasper
DESCRIPTION:Robert Glasper is a highly acclaimed American pianist\, record producer\, and songwriter who has made a significant mark on contemporary music through his distinctive blend of jazz\, hip hop\, R&B\, and neo-soul\, often described as a form of fusion jazz. His career\, which began around 2003\, features both acoustic jazz trio work and his electric band\, the Robert Glasper Experiment. A pivotal moment in his career was the release of the album Black Radio in 2012\, featuring a slew of guest vocalists from various genres\, which helped blur the boundaries between jazz and more popular music forms\, earning him a Grammy Award for Best R&B Album. Glasper has continued this successful\, genre-agnostic approach with subsequent releases in the Black Radio series and through high-profile collaborations with artists like Kendrick Lamar—playing keyboards on his celebrated album To Pimp a Butterfly—as well as Mac Miller\, H.E.R.\, and Common\, with whom he won an Emmy Award for the song “A Letter to the Free.” Throughout his work\, which has earned him five Grammy Awards from eleven nominations\, Glasper maintains a commitment to improvisational spirit and an intellectual approach to music while bringing jazz to a broader modern audience.
URL:https://www.discoverhollywood.com/event/robert-glasper/2025-12-18/2/
LOCATION:Blue Note Jazz Club
END:VEVENT
END:VCALENDAR