BEGIN:VCALENDAR
VERSION:2.0
PRODID:-//Discover Hollywood Magazine - ECPv6.15.20//NONSGML v1.0//EN
CALSCALE:GREGORIAN
METHOD:PUBLISH
X-WR-CALNAME:Discover Hollywood Magazine
X-ORIGINAL-URL:https://www.discoverhollywood.com
X-WR-CALDESC:Events for Discover Hollywood Magazine
REFRESH-INTERVAL;VALUE=DURATION:PT1H
X-Robots-Tag:noindex
X-PUBLISHED-TTL:PT1H
BEGIN:VTIMEZONE
TZID:Asia/Kolkata
BEGIN:STANDARD
TZOFFSETFROM:+0530
TZOFFSETTO:+0530
TZNAME:IST
DTSTART:20240101T000000
END:STANDARD
END:VTIMEZONE
BEGIN:VEVENT
DTSTART;TZID=Asia/Kolkata:20251226T180000
DTEND;TZID=Asia/Kolkata:20251226T230000
DTSTAMP:20260423T044733
CREATED:20251127T155516Z
LAST-MODIFIED:20251127T155516Z
UID:10025647-1766772000-1766790000@www.discoverhollywood.com
SUMMARY:Hookers & Blow featuring Dizzy Reed of Guns N' Roses\, Crenshaw\, Love And Other Demons
DESCRIPTION:Headlining the show is Hookers & Blow\, a long-running\, all-star hard rock/heavy metal covers band founded by Dizzy Reed and Quiet Riot guitarist Alex Grossi\, who are known for their high-energy performances of classic rock staples and for featuring a rotating cast of seasoned professional musicians. They are supported by Crenshaw\, an indie-folk duo consisting of Sarah and Steven Cardwell who blend quirky songwriting with strong harmonies\, although the name may also refer to a local rock band in the LA circuit. Rounding out the bill is Love And Other Demons\, a rock band who bring a heavy\, emotional sound to the evening.
URL:https://www.discoverhollywood.com/event/hookers-blow-featuring-dizzy-reed-of-guns-n-roses-crenshaw-love-and-other-demons/
LOCATION:Whisky A-Go-Go\, 8901 Sunset Blvd\, Los Angeles\, California
END:VEVENT
BEGIN:VEVENT
DTSTART;TZID=Asia/Kolkata:20251226T193000
DTEND;TZID=Asia/Kolkata:20251226T230000
DTSTAMP:20260423T044733
CREATED:20251216T181741Z
LAST-MODIFIED:20251216T181741Z
UID:10026600-1766777400-1766790000@www.discoverhollywood.com
SUMMARY:THE NUTCRACKER
DESCRIPTION:Los Angeles Ballet’s The Nutcracker is a beloved Los Angeles holiday tradition! Journey with young Clara and her beloved Nutcracker as they battle a very memorable Mouse King\, and then travel to the Land of Snow and the Palace of the Dolls. LAB stays true to the traditions of the classic holiday story while giving it a unique Southern California twist. From the elegant Spanish-style Hancock Park homes to the snowy slopes of Big Bear to the Venice Beach archways\, and the moonlit Pacific Ocean\, this production is a sunny slice of the Southland.
URL:https://www.discoverhollywood.com/event/the-nutcracker-3/2025-12-26/
LOCATION:Dolby Theatre\, 6801 Hollywood Blvd.\, Hollywood\, California\, 90028.0
END:VEVENT
BEGIN:VEVENT
DTSTART;TZID=Asia/Kolkata:20251226T200000
DTEND;TZID=Asia/Kolkata:20251226T230000
DTSTAMP:20260423T044733
CREATED:20251003T090846Z
LAST-MODIFIED:20251003T092415Z
UID:10020622-1766779200-1766790000@www.discoverhollywood.com
SUMMARY:Stereophonic
DESCRIPTION:
URL:https://www.discoverhollywood.com/event/stereophonic/2025-12-26/
LOCATION:Hollywood Pantages Theatre\, 6233 Hollywood Blvd. Wayne McWorter (213)365-3500\, Hollywood\, CA\, 90028.0
END:VEVENT
END:VCALENDAR