BEGIN:VCALENDAR
VERSION:2.0
PRODID:-//Discover Hollywood Magazine - ECPv6.15.17//NONSGML v1.0//EN
CALSCALE:GREGORIAN
METHOD:PUBLISH
X-WR-CALNAME:Discover Hollywood Magazine
X-ORIGINAL-URL:https://www.discoverhollywood.com
X-WR-CALDESC:Events for Discover Hollywood Magazine
REFRESH-INTERVAL;VALUE=DURATION:PT1H
X-Robots-Tag:noindex
X-PUBLISHED-TTL:PT1H
BEGIN:VTIMEZONE
TZID:Asia/Kolkata
BEGIN:STANDARD
TZOFFSETFROM:+0530
TZOFFSETTO:+0530
TZNAME:IST
DTSTART:20250101T000000
END:STANDARD
END:VTIMEZONE
BEGIN:VTIMEZONE
TZID:America/Los_Angeles
BEGIN:DAYLIGHT
TZOFFSETFROM:-0800
TZOFFSETTO:-0700
TZNAME:PDT
DTSTART:20250309T100000
END:DAYLIGHT
BEGIN:STANDARD
TZOFFSETFROM:-0700
TZOFFSETTO:-0800
TZNAME:PST
DTSTART:20251102T090000
END:STANDARD
BEGIN:DAYLIGHT
TZOFFSETFROM:-0800
TZOFFSETTO:-0700
TZNAME:PDT
DTSTART:20260308T100000
END:DAYLIGHT
BEGIN:STANDARD
TZOFFSETFROM:-0700
TZOFFSETTO:-0800
TZNAME:PST
DTSTART:20261101T090000
END:STANDARD
BEGIN:DAYLIGHT
TZOFFSETFROM:-0800
TZOFFSETTO:-0700
TZNAME:PDT
DTSTART:20270314T100000
END:DAYLIGHT
BEGIN:STANDARD
TZOFFSETFROM:-0700
TZOFFSETTO:-0800
TZNAME:PST
DTSTART:20271107T090000
END:STANDARD
END:VTIMEZONE
BEGIN:VEVENT
DTSTART;TZID=Asia/Kolkata:20260421T170000
DTEND;TZID=Asia/Kolkata:20260421T210000
DTSTAMP:20260421T015345
CREATED:20251028T165949Z
LAST-MODIFIED:20251028T165949Z
UID:10024838-1776790800-1776805200@www.discoverhollywood.com
SUMMARY:Keyon Harrold
DESCRIPTION:Keyon Harrold is a Grammy Award-winning trumpeter\, composer\, and producer celebrated for his masterful ability to blend jazz with elements of hip-hop\, neo-soul\, rock\, and blues\, creating a sound uniquely reflective of the modern American experience. Hailing from Ferguson\, Missouri\, his music often carries themes of social justice and personal resilience\, which are vividly explored in his critically acclaimed albums like The Mugician (a portmanteau of ‘musician’ and ‘magician’) and his recent release\, Foreverland. Harrold’s distinctively warm and commanding trumpet sound has made him one of the most in-demand session musicians in the industry; he is known for providing the “trumpet voice” for Miles Davis in the biopic Miles Ahead and has collaborated with a vast array of legends including Beyoncé\, Jay-Z\, D’Angelo\, Common\, and his frequent bandmate and New School classmate\, Robert Glasper. His career showcases a rare versatility\, moving seamlessly from the improvisational rigor of jazz clubs to the pop sensibility of mainstream music.
URL:https://www.discoverhollywood.com/event/keyon-harrold/2026-04-21/
LOCATION:Blue Note Jazz Club
END:VEVENT
BEGIN:VEVENT
DTSTART;TZID=America/Los_Angeles:20260421T190000
DTEND;TZID=America/Los_Angeles:20260421T210000
DTSTAMP:20260421T015345
CREATED:20260419T130615Z
LAST-MODIFIED:20260419T130615Z
UID:10030811-1776798000-1776805200@www.discoverhollywood.com
SUMMARY:Paul Russell
DESCRIPTION:Some nights feel instantly uplifting\, and this one leans fully into that energy. At Blue Note Jazz Club Los Angeles\, Paul Russell brings a vibrant\, feel good sound that blends pop\, funk\, and a touch of playful nostalgia. \nKnown for his infectious style and breakout hit Lil Boo Thang\, Russell creates music that is as catchy as it is charismatic. His performances carry an easy charm\, balancing polished vocals with a lighthearted presence that makes the room feel instantly more alive. \nExpect a set filled with upbeat rhythms\, smooth grooves\, and moments that invite the audience to fully lean into the fun. It is the kind of show that feels relaxed yet energetic\, where the connection between artist and crowd comes naturally and the mood stays bright from start to finish. \nP.S. A second performance will be happening that same day at 9:30pm.
URL:https://www.discoverhollywood.com/event/paul-russell/
LOCATION:Blue Note Jazz Club
CATEGORIES:music
END:VEVENT
END:VCALENDAR