BEGIN:VCALENDAR
VERSION:2.0
PRODID:-//Discover Hollywood Magazine - ECPv6.15.20//NONSGML v1.0//EN
CALSCALE:GREGORIAN
METHOD:PUBLISH
X-WR-CALNAME:Discover Hollywood Magazine
X-ORIGINAL-URL:https://www.discoverhollywood.com
X-WR-CALDESC:Events for Discover Hollywood Magazine
REFRESH-INTERVAL;VALUE=DURATION:PT1H
X-Robots-Tag:noindex
X-PUBLISHED-TTL:PT1H
BEGIN:VTIMEZONE
TZID:America/Los_Angeles
BEGIN:DAYLIGHT
TZOFFSETFROM:-0800
TZOFFSETTO:-0700
TZNAME:PDT
DTSTART:20250309T100000
END:DAYLIGHT
BEGIN:STANDARD
TZOFFSETFROM:-0700
TZOFFSETTO:-0800
TZNAME:PST
DTSTART:20251102T090000
END:STANDARD
BEGIN:DAYLIGHT
TZOFFSETFROM:-0800
TZOFFSETTO:-0700
TZNAME:PDT
DTSTART:20260308T100000
END:DAYLIGHT
BEGIN:STANDARD
TZOFFSETFROM:-0700
TZOFFSETTO:-0800
TZNAME:PST
DTSTART:20261101T090000
END:STANDARD
BEGIN:DAYLIGHT
TZOFFSETFROM:-0800
TZOFFSETTO:-0700
TZNAME:PDT
DTSTART:20270314T100000
END:DAYLIGHT
BEGIN:STANDARD
TZOFFSETFROM:-0700
TZOFFSETTO:-0800
TZNAME:PST
DTSTART:20271107T090000
END:STANDARD
END:VTIMEZONE
BEGIN:VEVENT
DTSTART;TZID=America/Los_Angeles:20260423T190000
DTEND;TZID=America/Los_Angeles:20260423T210000
DTSTAMP:20260423T015006
CREATED:20260419T131706Z
LAST-MODIFIED:20260419T131845Z
UID:10030813-1776970800-1776978000@www.discoverhollywood.com
SUMMARY:Sasha Keable
DESCRIPTION:Some nights feel intimate from the very first note\, and this one leans into that atmosphere with ease. At Blue Note Jazz Club Los Angeles\, Sasha Keable brings a sound that is both soulful and deeply expressive. \nKnown for her rich tone and emotionally layered delivery\, Keable moves effortlessly between R&B\, soul\, and subtle jazz influences. Her music feels personal yet expansive\, creating a space where each song unfolds with honesty and quiet intensity. \nBacked by a live band\, the performance carries a warm\, immersive quality\, with smooth instrumentation and vocals that draw the audience in rather than overwhelm. Expect a set that feels reflective\, atmospheric\, and connected\, where the focus stays on storytelling\, feeling\, and the kind of presence that lingers. \nP.S. A second performance will be happening that same day at 9:30pm.
URL:https://www.discoverhollywood.com/event/sasha-keable/2026-04-23/
LOCATION:Blue Note Jazz Club
CATEGORIES:music
END:VEVENT
BEGIN:VEVENT
DTSTART;TZID=America/Los_Angeles:20260423T190000
DTEND;TZID=America/Los_Angeles:20260423T210000
DTSTAMP:20260423T015006
CREATED:20260420T010058Z
LAST-MODIFIED:20260420T010058Z
UID:10030822-1776970800-1776978000@www.discoverhollywood.com
SUMMARY:Bring Me The Horizon
DESCRIPTION:Some nights are built on intensity\, and this one delivers it at full scale. At Hollywood Palladium\, Bring Me The Horizon takes the stage with a sound that is powerful\, genre blending\, and constantly evolving. \nLed by Oli Sykes\, the band has moved far beyond their metalcore roots\, incorporating elements of electronic\, pop\, and alternative rock into a style that feels both heavy and expansive. Their live shows are known for their scale and energy\, combining striking visuals with a setlist that moves between aggressive anthems and more melodic\, atmospheric moments. \nWith a lineup that continues to push boundaries\, the performance captures the band’s ability to shift moods without losing momentum. Expect a crowd that is fully engaged\, a stage presence that commands attention\, and a sound that feels immersive from start to finish. \nIt is the kind of night that feels intense\, dynamic\, and unapologetically loud\, driven by a band that thrives on reinvention and connection with their audience.
URL:https://www.discoverhollywood.com/event/bring-me-the-horizon-2/
LOCATION:Hollywood Palladium\, 6215 Sunset Blvd\, Hollywood\, California
CATEGORIES:music
END:VEVENT
BEGIN:VEVENT
DTSTART;TZID=America/Los_Angeles:20260423T190000
DTEND;TZID=America/Los_Angeles:20260423T213000
DTSTAMP:20260423T015006
CREATED:20260402T020719Z
LAST-MODIFIED:20260402T020719Z
UID:10030737-1776970800-1776979800@www.discoverhollywood.com
SUMMARY:Mother Courage and Her Children
DESCRIPTION:Experience a profound and resonant evening of classic drama as Theatre West presents a special staged reading of Bertolt Brecht’s masterpiece\, Mother Courage and Her Children. The vibe of the evening is one of intellectual depth and historical significance\, offering a sophisticated space for reflection on the enduring themes of survival and the human cost of conflict. It is an invitation to engage with a cornerstone of 20th-century theatre in a setting that prioritizes the raw power of the written word and the evocative strength of a live performance. \nThis unique production\, directed by the visionary Louis Fantasia\, features the iconic music of Paul Dessau\, adding a haunting and rhythmic layer to Brecht’s sharp\, satirical prose. Performed as a staged reading\, the focus remains squarely on the extraordinary performances and the translation by Paul Lawley\, which brings a fresh\, contemporary energy to this timeless narrative. It is a celebratory gathering of theatre lovers and thinkers\, promising an unforgettable night of high-concept storytelling that remains strikingly relevant in today’s world.
URL:https://www.discoverhollywood.com/event/mother-courage-and-her-children/
LOCATION:Theatre West\, 3333 Cahuenga Blvd\, Los Angeles\, California
CATEGORIES:Staged Reading
END:VEVENT
BEGIN:VEVENT
DTSTART;TZID=America/Los_Angeles:20260423T190000
DTEND;TZID=America/Los_Angeles:20260423T220000
DTSTAMP:20260423T015006
CREATED:20260314T233024Z
LAST-MODIFIED:20260314T233024Z
UID:10030625-1776970800-1776981600@www.discoverhollywood.com
SUMMARY:KCRW Presents: Thee Sacred Souls
DESCRIPTION:Prepare for an evening of timeless elegance and smooth\, soulful rhythms as Thee Sacred Souls take the stage at the historic Greek Theatre. Presented by KCRW\, this performance promises a perfect marriage of classic Chicano soul and modern R&B\, all set against the backdrop of one of Los Angeles’ most iconic outdoor settings. \nThe vibe is effortlessly cool and nostalgic—a starlit celebration of “sweet soul” music that feels both vintage and fresh. Thee Sacred Souls have captivated audiences worldwide with their warm\, analog sound and the velvet-smooth vocals of lead singer Josh Lane. Their music carries a weightless\, romantic quality that invites you to sway along to every groove\, creating an atmosphere that is as intimate as a small lounge but as grand as the Griffith Park canyon. \nWhether you are a longtime fan of their breakout hits or simply looking to immerse yourself in a night of heartfelt melodies and impeccable musicianship\, this is an invitation to witness one of the most exciting acts in contemporary soul. Join us under the stars for a sophisticated yet soulful experience that celebrates the enduring power of a great song.
URL:https://www.discoverhollywood.com/event/kcrw-presents-thee-sacred-souls-2/
LOCATION:CA
CATEGORIES:music
END:VEVENT
END:VCALENDAR