BEGIN:VCALENDAR
VERSION:2.0
PRODID:-//Discover Hollywood Magazine - ECPv6.15.20//NONSGML v1.0//EN
CALSCALE:GREGORIAN
METHOD:PUBLISH
X-WR-CALNAME:Discover Hollywood Magazine
X-ORIGINAL-URL:https://www.discoverhollywood.com
X-WR-CALDESC:Events for Discover Hollywood Magazine
REFRESH-INTERVAL;VALUE=DURATION:PT1H
X-Robots-Tag:noindex
X-PUBLISHED-TTL:PT1H
BEGIN:VTIMEZONE
TZID:America/Los_Angeles
BEGIN:DAYLIGHT
TZOFFSETFROM:-0800
TZOFFSETTO:-0700
TZNAME:PDT
DTSTART:20250309T100000
END:DAYLIGHT
BEGIN:STANDARD
TZOFFSETFROM:-0700
TZOFFSETTO:-0800
TZNAME:PST
DTSTART:20251102T090000
END:STANDARD
BEGIN:DAYLIGHT
TZOFFSETFROM:-0800
TZOFFSETTO:-0700
TZNAME:PDT
DTSTART:20260308T100000
END:DAYLIGHT
BEGIN:STANDARD
TZOFFSETFROM:-0700
TZOFFSETTO:-0800
TZNAME:PST
DTSTART:20261101T090000
END:STANDARD
BEGIN:DAYLIGHT
TZOFFSETFROM:-0800
TZOFFSETTO:-0700
TZNAME:PDT
DTSTART:20270314T100000
END:DAYLIGHT
BEGIN:STANDARD
TZOFFSETFROM:-0700
TZOFFSETTO:-0800
TZNAME:PST
DTSTART:20271107T090000
END:STANDARD
END:VTIMEZONE
BEGIN:VTIMEZONE
TZID:Asia/Kolkata
BEGIN:STANDARD
TZOFFSETFROM:+0530
TZOFFSETTO:+0530
TZNAME:IST
DTSTART:20250101T000000
END:STANDARD
END:VTIMEZONE
BEGIN:VEVENT
DTSTART;TZID=America/Los_Angeles:20260425T190000
DTEND;TZID=America/Los_Angeles:20260425T220000
DTSTAMP:20260425T015717
CREATED:20260223T005944Z
LAST-MODIFIED:20260223T005944Z
UID:10029558-1777143600-1777154400@www.discoverhollywood.com
SUMMARY:NEIL FOREVER celebrating 50 Years of Neil Diamond’s LOVE AT THE GREEK
DESCRIPTION:Celebrate a milestone in musical history as we pay tribute to the legendary showmanship of Neil Diamond. This special evening\, “Neil Forever\,” honors the 50th anniversary of the iconic Love at the Greek performances\, recreating the magic of one of the most beloved live eras of all time. The vibe is one of pure\, nostalgic celebration—a sophisticated yet high-energy journey through the soundtrack of a generation. \nThe stage comes alive with the charismatic artistry of David Jacobson and a powerhouse 14-piece ensemble\, whose authentic portrayal captures the essence of Diamond’s baritone power and commanding stage presence. Beyond the music\, this performance carries a deeper purpose: a portion of the evening’s proceeds will go toward Drive Toward A Cure\, a non-profit dedicated to raising funds for Parkinson’s research and patient care. \nThis event is more than a tribute; it is a cordial invitation to experience the communal joy of Diamond’s hits while supporting a vital cause. Whether you are a lifelong fan or discovering these classics for the first time\, join us for an unforgettable evening under the stars that celebrates an enduring legacy and a future of hope.
URL:https://www.discoverhollywood.com/event/neil-forever-celebrating-50-years-of-neil-diamonds-love-at-the-greek/
LOCATION:Greek Theatre\, 2700 North Vermont Ave.\, Los Angeles\, California\, 90027.0
CATEGORIES:music
END:VEVENT
BEGIN:VEVENT
DTSTART;TZID=America/Los_Angeles:20260425T193000
DTEND;TZID=America/Los_Angeles:20260425T220000
DTSTAMP:20260425T015717
CREATED:20260419T133842Z
LAST-MODIFIED:20260419T133842Z
UID:10030815-1777145400-1777154400@www.discoverhollywood.com
SUMMARY:Dancing With The Stars 2026
DESCRIPTION:Some nights are simply about great entertainment\, and this one brings it all together with style and energy. At Dolby Theatre\, Dancing with the Stars comes to life on stage in a way that feels vibrant\, polished\, and full of momentum. \nFeaturing fan favorite dancers from the show\, the performance highlights the talent and charisma that have made the series so widely loved. Performers like Daniella Karagach\, Pasha Pashkov\, Valentin Chmerkovskiy\, Jenna Johnson\, Artem Chigvintsev\, Emma Slater\, and Gleb Savchenko bring a mix of precision\, personality\, and stage presence that keeps the energy high throughout. \nThe show blends a range of dance styles\, from ballroom to Latin\, all set to well known music and enhanced by striking visuals. Each number feels dynamic and engaging\, with choreography that is both technically impressive and easy to enjoy. \nExpect a lively\, feel good atmosphere where the focus stays on movement\, rhythm\, and connection. It is the kind of evening that feels exciting from start to finish\, whether you are a longtime fan of the show or simply looking for a polished live performance.
URL:https://www.discoverhollywood.com/event/dancing-with-the-stars-2026/2026-04-25/
LOCATION:Dolby Theatre\, 6801 Hollywood Blvd.\, Hollywood\, California\, 90028.0
CATEGORIES:Live Performance
END:VEVENT
BEGIN:VEVENT
DTSTART;TZID=America/Los_Angeles:20260425T200000
DTEND;TZID=America/Los_Angeles:20260425T220000
DTSTAMP:20260425T015717
CREATED:20260420T011510Z
LAST-MODIFIED:20260420T011510Z
UID:10030824-1777147200-1777154400@www.discoverhollywood.com
SUMMARY:NGHTMRE Presents: MINDFULL
DESCRIPTION:Some nights are built for full immersion\, and this one leans completely into that experience. At Hollywood Palladium\, NGHTMRE presents Mindful\, a concept driven show that blends high energy electronic music with a more atmospheric\, intentional edge. \nKnown for his ability to move between festival scale drops and more melodic\, introspective moments\, NGHTMRE brings a set that feels both powerful and carefully crafted. Mindful reflects that duality\, pairing heavy bass with immersive visuals and a sense of progression that carries throughout the night. \nThe experience is designed to go beyond a standard DJ set\, with production\, lighting\, and pacing all working together to create something cohesive and engaging. Expect a crowd that is fully locked in\, moments of intensity balanced with more reflective transitions\, and a sound that keeps evolving from start to finish. \nIt is the kind of night that feels dynamic\, immersive\, and emotionally charged\, where music and atmosphere come together to create something that stays with you long after it ends.
URL:https://www.discoverhollywood.com/event/nghtmre-presents-mindfull/
LOCATION:Hollywood Palladium\, 6215 Sunset Blvd\, Hollywood\, California
CATEGORIES:music
END:VEVENT
BEGIN:VEVENT
DTSTART;TZID=America/Los_Angeles:20260425T200000
DTEND;TZID=America/Los_Angeles:20260425T230000
DTSTAMP:20260425T015717
CREATED:20260402T001024Z
LAST-MODIFIED:20260402T001024Z
UID:10030724-1777147200-1777158000@www.discoverhollywood.com
SUMMARY:What Price Freedom
DESCRIPTION:Step into the high-stakes world of revolutionary diplomacy with What Price Freedom\, a compelling new production from Moving Arts. The vibe is one of intellectual tension and historical intrigue\, offering a sophisticated look at the hidden costs of building a nation. It is an invitation to witness a clash of titans in an intimate setting\, where the grand sweep of history is brought down to the human level of two legendary figures wrestling with the future of liberty. \nThe production features powerhouse performances by Rob Nagle as Benjamin Franklin and Brandon Bales as John Adams. Together\, they bring to life the friction and brilliance of these Founding Fathers as they attempt a covert peace negotiation with Britain. Under the direction of Darin Anthony\, this play explores the fragile nature of peace and the personal sacrifices required for freedom. It is a nuanced and gripping theatrical experience\, promising an evening of star-powered performance and thought-provoking storytelling that resonates far beyond the final curtain.
URL:https://www.discoverhollywood.com/event/what-price-freedom/2026-04-25/
LOCATION:Moving Arts Bold New Theater\, 3191 Casitas Ave.\, Los Angeles\, CA\, 90039\, United States
CATEGORIES:Theater
END:VEVENT
BEGIN:VEVENT
DTSTART;TZID=Asia/Kolkata:20260425T200000
DTEND;TZID=Asia/Kolkata:20260425T233000
DTSTAMP:20260425T015717
CREATED:20260114T104424Z
LAST-MODIFIED:20260227T124629Z
UID:10028484-1777147200-1777159800@www.discoverhollywood.com
SUMMARY:INCITATION TO THE DANCE
DESCRIPTION:World Premiere Comedy: Incitation to the Dance at Theatre West\nHOLLYWOOD\, CA – Prepare for a “sexy\, dark gay comedy” as Theatre West presents the world premiere of Incitation to the Dance. Written and directed by resident playwright Michael Van Duzer\, the production runs from Friday\, February 13\, through Sunday\, March 15\, 2026. \nPart of Theatre West’s prestigious Writers-in-Residence Series\, the play explores the volatile dynamics of a long-term couple whose world is upended by a provocative intruder. Combining sharp verbal battles with intense\, stylized choreography\, the stage becomes both a mental landscape and a literal battlefield for its three central characters. \nA Trio of Conflict\nThe story follows Malcolm\, a film historian obsessed with “homoerotic coding” in 1940s Film Noir\, and his partner Asher\, an unemployed dance instructor struggling with depression. Their precarious balance is shattered by Finn\, a young man whose blend of candid sexuality and menace forces the couple into a dangerous game of physical and emotional confrontation. \n\n\nMichael Gabiano as Malcolm \n\n\nDavid Mingrino as Asher \n\n\nCasey Alcoser as Finn \n\n\nThe Creative Vision\nPlaywright/Director Michael Van Duzer brings a rich background in both theater and opera to this production\, having previously helmed works like The Man Who Saved Everything and Edward II. Produced by Bryan Siu and Dina Morrone\, Incitation to the Dance promises to make audiences “laugh\, blush\, and maybe want to dance” while tackling mature themes with frankness and wit.
URL:https://www.discoverhollywood.com/event/incitation-to-the-dance/2026-04-25/
LOCATION:Theatre West\, 3333 Cahuenga Blvd\, Los Angeles\, California
END:VEVENT
END:VCALENDAR