BEGIN:VCALENDAR
VERSION:2.0
PRODID:-//Discover Hollywood Magazine - ECPv6.15.17//NONSGML v1.0//EN
CALSCALE:GREGORIAN
METHOD:PUBLISH
X-WR-CALNAME:Discover Hollywood Magazine
X-ORIGINAL-URL:https://www.discoverhollywood.com
X-WR-CALDESC:Events for Discover Hollywood Magazine
REFRESH-INTERVAL;VALUE=DURATION:PT1H
X-Robots-Tag:noindex
X-PUBLISHED-TTL:PT1H
BEGIN:VTIMEZONE
TZID:America/Los_Angeles
BEGIN:DAYLIGHT
TZOFFSETFROM:-0800
TZOFFSETTO:-0700
TZNAME:PDT
DTSTART:20250309T100000
END:DAYLIGHT
BEGIN:STANDARD
TZOFFSETFROM:-0700
TZOFFSETTO:-0800
TZNAME:PST
DTSTART:20251102T090000
END:STANDARD
BEGIN:DAYLIGHT
TZOFFSETFROM:-0800
TZOFFSETTO:-0700
TZNAME:PDT
DTSTART:20260308T100000
END:DAYLIGHT
BEGIN:STANDARD
TZOFFSETFROM:-0700
TZOFFSETTO:-0800
TZNAME:PST
DTSTART:20261101T090000
END:STANDARD
BEGIN:DAYLIGHT
TZOFFSETFROM:-0800
TZOFFSETTO:-0700
TZNAME:PDT
DTSTART:20270314T100000
END:DAYLIGHT
BEGIN:STANDARD
TZOFFSETFROM:-0700
TZOFFSETTO:-0800
TZNAME:PST
DTSTART:20271107T090000
END:STANDARD
END:VTIMEZONE
BEGIN:VEVENT
DTSTART;TZID=America/Los_Angeles:20260523T190000
DTEND;TZID=America/Los_Angeles:20260523T210000
DTSTAMP:20260420T014116
CREATED:20260412T231543Z
LAST-MODIFIED:20260412T231824Z
UID:10030791-1779562800-1779570000@www.discoverhollywood.com
SUMMARY:Bright Eyes – 21 Years of Wide Awake & Digital Ash The Moldy Peaches
DESCRIPTION:Step into an evening of profound musical reflection as the legendary Bright Eyes celebrates two decades of their most transformative work at the Hollywood Bowl. This special performance honors the dual legacy of I’m Wide Awake\, It’s Morning and Digital Ash in a Digital Urn\, offering a rare\, comprehensive journey through the indie-rock landscapes that defined an era. \nThe atmosphere promises to be one of sophisticated nostalgia and artistic depth. Against the serene backdrop of the Hollywood Hills\, the vibe will shift seamlessly between the warm\, acoustic intimacy of folk-inspired storytelling and the shimmering\, expansive textures of electronic-forward arrangements. It is a night designed for the true listener—an invitation to experience the evolution of Conor Oberst\, Mike Mogis\, and Nate Walcott as they revisit the poetry and sonic experimentation that captured a generation’s imagination. \nWhether you have followed their journey since the beginning or are discovering the complexity of these records for the first time\, the evening offers a welcoming space to appreciate the enduring power of thoughtful songwriting. Join us for a cultural milestone under the stars\, where the grandeur of the venue meets the raw\, evocative heart of one of music’s most celebrated discographies.
URL:https://www.discoverhollywood.com/event/bright-eyes-21-years-of-wide-awake-digital-ash-the-moldy-peaches/
LOCATION:Hollywood Bowl\, 2301 N. Highland Ave.\, Hollywood\, California\, 90068.0
CATEGORIES:music
END:VEVENT
BEGIN:VEVENT
DTSTART;TZID=America/Los_Angeles:20260530T200000
DTEND;TZID=America/Los_Angeles:20260530T220000
DTSTAMP:20260420T014116
CREATED:20260412T234313Z
LAST-MODIFIED:20260412T235040Z
UID:10030792-1780171200-1780178400@www.discoverhollywood.com
SUMMARY:Pitbull Lil Jon
DESCRIPTION:Prepare for an evening of unparalleled energy and global flair as the incomparable Pitbull takes center stage at the legendary Hollywood Bowl. Known worldwide as “Mr. Worldwide\,” his performances are more than just concerts—they are high-octane celebrations that bridge cultures and genres through the universal language of rhythm and movement. \nThe vibe is one of sophisticated electricity and pure\, sun-drenched joy. As the evening air cools over the Hollywood Hills\, the atmosphere will ignite with a seamless fusion of Latin beats\, pop sensibilities\, and the charismatic stage presence that has made Pitbull a global icon. It is an invitation to leave the everyday behind and step into a world of vibrant sound\, where every beat is designed to inspire and every moment feels like a premier international gala. \nThe setting of the Bowl provides the perfect grand backdrop for an artist of such immense scale\, offering a space that is both spectacular in its scope and warmly festive in its spirit. Whether you are a lifelong fan or looking to experience the thrill of his live show for the first time\, this performance promises an unforgettable highlight of the season—a night of style\, passion\, and world-class entertainment under the stars.
URL:https://www.discoverhollywood.com/event/pitbull-lil-jon/
LOCATION:Hollywood Bowl\, 2301 N. Highland Ave.\, Hollywood\, California\, 90068.0
CATEGORIES:music
END:VEVENT
END:VCALENDAR