BEGIN:VCALENDAR
VERSION:2.0
PRODID:-//Discover Hollywood Magazine - ECPv6.15.17//NONSGML v1.0//EN
CALSCALE:GREGORIAN
METHOD:PUBLISH
X-WR-CALNAME:Discover Hollywood Magazine
X-ORIGINAL-URL:https://www.discoverhollywood.com
X-WR-CALDESC:Events for Discover Hollywood Magazine
REFRESH-INTERVAL;VALUE=DURATION:PT1H
X-Robots-Tag:noindex
X-PUBLISHED-TTL:PT1H
BEGIN:VTIMEZONE
TZID:America/Los_Angeles
BEGIN:DAYLIGHT
TZOFFSETFROM:-0800
TZOFFSETTO:-0700
TZNAME:PDT
DTSTART:20250309T100000
END:DAYLIGHT
BEGIN:STANDARD
TZOFFSETFROM:-0700
TZOFFSETTO:-0800
TZNAME:PST
DTSTART:20251102T090000
END:STANDARD
BEGIN:DAYLIGHT
TZOFFSETFROM:-0800
TZOFFSETTO:-0700
TZNAME:PDT
DTSTART:20260308T100000
END:DAYLIGHT
BEGIN:STANDARD
TZOFFSETFROM:-0700
TZOFFSETTO:-0800
TZNAME:PST
DTSTART:20261101T090000
END:STANDARD
BEGIN:DAYLIGHT
TZOFFSETFROM:-0800
TZOFFSETTO:-0700
TZNAME:PDT
DTSTART:20270314T100000
END:DAYLIGHT
BEGIN:STANDARD
TZOFFSETFROM:-0700
TZOFFSETTO:-0800
TZNAME:PST
DTSTART:20271107T090000
END:STANDARD
END:VTIMEZONE
BEGIN:VEVENT
DTSTART;TZID=America/Los_Angeles:20260404T190000
DTEND;TZID=America/Los_Angeles:20260404T230000
DTSTAMP:20260422T033506
CREATED:20260222T233632Z
LAST-MODIFIED:20260222T233632Z
UID:10029553-1775329200-1775343600@www.discoverhollywood.com
SUMMARY:PaleyFest LA: Pluribus
DESCRIPTION:Step into the spotlight of television excellence as PaleyFest LA presents an exclusive look at the groundbreaking series\, Pluribus. This evening offers a sophisticated yet intimate “vibe\,” transforming the iconic Dolby Theatre into a sanctuary for television enthusiasts and creators alike. It is a cordial invitation to go behind the scenes of one of the most compelling narratives on screen today. \nThe heart of the event lies in the vibrant exchange between the audience and the visionary talent behind the show. Expect an evening of witty repartee\, profound insights\, and a shared passion for the craft of storytelling. The atmosphere is one of warm intellectual curiosity\, where fans can witness the unique chemistry of the cast and creative team in a setting that celebrates the cultural impact of their work. \nJoin us for a celebratory experience that honors the art of the small screen. Whether you are a dedicated follower of the series or a lover of modern media\, this evening provides a welcoming space to hear first-hand accounts of the creative process and the inspirations that bring these beloved characters to life. It is more than just a panel; it is a tribute to the power of stories that unite us.
URL:https://www.discoverhollywood.com/event/paleyfest-la-pluribus/
LOCATION:Dolby Theatre\, 6801 Hollywood Blvd.\, Hollywood\, California\, 90028.0
CATEGORIES:TV Festival
ATTACH;FMTTYPE=image/png:https://www.discoverhollywood.com/wp-content/uploads/2026/02/image_2026-02-22_193601770.png
END:VEVENT
END:VCALENDAR