BEGIN:VCALENDAR
VERSION:2.0
PRODID:-//Discover Hollywood Magazine - ECPv6.15.20//NONSGML v1.0//EN
CALSCALE:GREGORIAN
METHOD:PUBLISH
X-WR-CALNAME:Discover Hollywood Magazine
X-ORIGINAL-URL:https://www.discoverhollywood.com
X-WR-CALDESC:Events for Discover Hollywood Magazine
REFRESH-INTERVAL;VALUE=DURATION:PT1H
X-Robots-Tag:noindex
X-PUBLISHED-TTL:PT1H
BEGIN:VTIMEZONE
TZID:Asia/Kolkata
BEGIN:STANDARD
TZOFFSETFROM:+0530
TZOFFSETTO:+0530
TZNAME:IST
DTSTART:20140101T000000
END:STANDARD
END:VTIMEZONE
BEGIN:VEVENT
DTSTART;TZID=Asia/Kolkata:20150427T000000
DTEND;TZID=Asia/Kolkata:20150427T000000
DTSTAMP:20260424T182318
CREATED:20250630T113806Z
LAST-MODIFIED:20250630T113806Z
UID:10002108-1430092800-1430092800@www.discoverhollywood.com
SUMMARY:Annette Warren and Paul Smith
DESCRIPTION:DesignHTMLWords: 0   Characters: 0
URL:https://www.discoverhollywood.com/event/annette-warren-and-paul-smith/
LOCATION:Catalina Jazz Club\, 6725 W. Sunset Blvd.\, Hollywood\, California\, 90028.0
END:VEVENT
BEGIN:VEVENT
DTSTART;TZID=Asia/Kolkata:20150425T000000
DTEND;TZID=Asia/Kolkata:20150425T000000
DTSTAMP:20260424T182318
CREATED:20250630T113806Z
LAST-MODIFIED:20250630T113806Z
UID:10002109-1429920000-1429920000@www.discoverhollywood.com
SUMMARY:Annie
DESCRIPTION:The Classic Family Musical. The sun will come out. https%3a//www.broadwayinhollywood.com/DesignHTMLWords: 10   Characters: 82
URL:https://www.discoverhollywood.com/event/annie/
LOCATION:Dolby Theatre\, 6801 Hollywood Blvd.\, Hollywood\, California\, 90028.0
END:VEVENT
BEGIN:VEVENT
DTSTART;TZID=Asia/Kolkata:20150423T000000
DTEND;TZID=Asia/Kolkata:20150423T000000
DTSTAMP:20260424T182318
CREATED:20250630T113820Z
LAST-MODIFIED:20250630T113820Z
UID:10002110-1429747200-1429747200@www.discoverhollywood.com
SUMMARY:Annie - The Musical
DESCRIPTION:The world’s best-loved musical returns in time-honored form.%26nbsp%3b Directed by original lyricist and director Martin Charnin and choreographed by Liza Gennaro%2c this production of %3cem%3e%3cstrong%3eANNIE%3c/strong%3e%3c/em%3e will be a brand new incarnation of the iconic original.DesignHTMLWords: 35   Characters: 230
URL:https://www.discoverhollywood.com/event/annie-the-musical/
LOCATION:Hollywood Pantages Theatre\, 6233 Hollywood Blvd. Wayne McWorter (213)365-3500\, Hollywood\, CA\, 90028.0
END:VEVENT
BEGIN:VEVENT
DTSTART;TZID=Asia/Kolkata:20150421T000000
DTEND;TZID=Asia/Kolkata:20150421T000000
DTSTAMP:20260424T182318
CREATED:20250630T113820Z
LAST-MODIFIED:20250630T113820Z
UID:10002111-1429574400-1429574400@www.discoverhollywood.com
SUMMARY:Annie Lapin: Strange Little Beast thru Dec 21
DESCRIPTION:%3ca href%3d%22http%3a//www.shulamitnazarian.com/%22%3ehttp%3a//www.shulamitnazarian.com/%3c/a%3eDesignHTMLWords: 1   Characters: 29
URL:https://www.discoverhollywood.com/event/annie-lapin-strange-little-beast-thru-dec-21/
LOCATION:California
END:VEVENT
BEGIN:VEVENT
DTSTART;TZID=Asia/Kolkata:20150419T000000
DTEND;TZID=Asia/Kolkata:20150419T000000
DTSTAMP:20260424T182318
CREATED:20250630T113820Z
LAST-MODIFIED:20250630T113820Z
UID:10002112-1429401600-1429401600@www.discoverhollywood.com
SUMMARY:Annie Owens\, Daria Theodora\, Cristina Paulos\, Edith Waddell\, & Karen Hydendahl
DESCRIPTION:DesignHTMLWords: 0   Characters: 0
URL:https://www.discoverhollywood.com/event/annie-owens-daria-theodora-cristina-paulos-edith-waddell-karen-hydendahl/
LOCATION:La Luz de Jesus Gallery\, 4633 Hollywood Blvd.\, Hollywood\, California
END:VEVENT
BEGIN:VEVENT
DTSTART;TZID=Asia/Kolkata:20150417T000000
DTEND;TZID=Asia/Kolkata:20150417T000000
DTSTAMP:20260424T182318
CREATED:20250630T113820Z
LAST-MODIFIED:20250630T113820Z
UID:10002113-1429228800-1429228800@www.discoverhollywood.com
SUMMARY:Annie REINER
DESCRIPTION:%3cbr%3eDesignHTMLWords: 0   Characters: 0
URL:https://www.discoverhollywood.com/event/annie-reiner/
LOCATION:Catalina Jazz Club\, 6725 W. Sunset Blvd.\, Hollywood\, California\, 90028.0
END:VEVENT
BEGIN:VEVENT
DTSTART;TZID=Asia/Kolkata:20150415T000000
DTEND;TZID=Asia/Kolkata:20150415T000000
DTSTAMP:20260424T182318
CREATED:20250630T113821Z
LAST-MODIFIED:20250630T113821Z
UID:10002114-1429056000-1429056000@www.discoverhollywood.com
SUMMARY:Annie Reiner
DESCRIPTION:DesignHTMLWords: 0   Characters: 0
URL:https://www.discoverhollywood.com/event/annie-reiner-2/
LOCATION:Catalina Jazz Club\, 6725 W. Sunset Blvd.\, Hollywood\, California\, 90028.0
END:VEVENT
BEGIN:VEVENT
DTSTART;TZID=Asia/Kolkata:20150413T000000
DTEND;TZID=Asia/Kolkata:20150413T000000
DTSTAMP:20260424T182318
CREATED:20250630T113835Z
LAST-MODIFIED:20250630T113835Z
UID:10002115-1428883200-1428883200@www.discoverhollywood.com
SUMMARY:Annie Reiner
DESCRIPTION:Annie Reiner returns to sing her eclectic style%2c ranging from jazz and blues%2c standards and rock and roll to the songs of Leonard Cohen. %3ca href%3d%22https%3a//www.ticketweb.com/event/annie-reiner-catalina-bar-grill-tickets/8643125%3fpl%3dcbg%22 target%3d%22_blank%22%3ewww.ticketweb.com/event/annie-reiner-catalina-bar-grill-tickets/8643125%3c/a%3eDesignHTMLWords: 25   Characters: 198
URL:https://www.discoverhollywood.com/event/annie-reiner-3/
LOCATION:Catalina Jazz Club\, 6725 W. Sunset Blvd.\, Hollywood\, California\, 90028.0
END:VEVENT
BEGIN:VEVENT
DTSTART;TZID=Asia/Kolkata:20150411T000000
DTEND;TZID=Asia/Kolkata:20150411T000000
DTSTAMP:20260424T182318
CREATED:20250630T113835Z
LAST-MODIFIED:20250630T113835Z
UID:10002116-1428710400-1428710400@www.discoverhollywood.com
SUMMARY:Anniversa-Tease! 3 Year Anniversary Burlesque!
DESCRIPTION:%3cbr%3eDesignHTMLWords: 0   Characters: 0
URL:https://www.discoverhollywood.com/event/anniversa-tease-3-year-anniversary-burlesque/
LOCATION:Rockwell: Table & Stage\, 1714 N. Vermont Ave.\, Los Angeles\, California\, 90027.0
END:VEVENT
BEGIN:VEVENT
DTSTART;TZID=Asia/Kolkata:20150409T000000
DTEND;TZID=Asia/Kolkata:20150409T000000
DTSTAMP:20260424T182318
CREATED:20250630T113835Z
LAST-MODIFIED:20250630T113835Z
UID:10002117-1428537600-1428537600@www.discoverhollywood.com
SUMMARY:Annual Coaster Show
DESCRIPTION:%3cbr%3eDesignHTMLWords: 0   Characters: 0
URL:https://www.discoverhollywood.com/event/annual-coaster-show/
LOCATION:La Luz de Jesus Gallery\, 4633 Hollywood Blvd.\, Hollywood\, California
END:VEVENT
BEGIN:VEVENT
DTSTART;TZID=Asia/Kolkata:20150407T000000
DTEND;TZID=Asia/Kolkata:20150407T000000
DTSTAMP:20260424T182318
CREATED:20250630T113835Z
LAST-MODIFIED:20250630T113835Z
UID:10002118-1428364800-1428364800@www.discoverhollywood.com
SUMMARY:Annual Farmers Market Fall Festival
DESCRIPTION:The Farmers Market’s oldest annual tradition%2c Fall Festival%2c is back for another year of seasonal fun. Featuring live music%2c a petting zoo%2c crafts%2c pig races%2c and a pie-eating contest%2c the weekend-long event has activities that the whole family can enjoy.DesignHTMLWords: 40   Characters: 244
URL:https://www.discoverhollywood.com/event/annual-farmers-market-fall-festival/
LOCATION:Original Farmers Market\, Third St. and Fairfax Ave.\, Hollywood\, California
END:VEVENT
BEGIN:VEVENT
DTSTART;TZID=Asia/Kolkata:20150405T000000
DTEND;TZID=Asia/Kolkata:20150405T000000
DTSTAMP:20260424T182318
CREATED:20250630T113835Z
LAST-MODIFIED:20250630T113835Z
UID:10002119-1428192000-1428192000@www.discoverhollywood.com
SUMMARY:Annual Filipino American Jazz & World Music Festival
DESCRIPTION:www.catalinajazzclub.com%26nbsp%3b\n%3cbr%3eDesignHTMLWords: 1   Characters: 22
URL:https://www.discoverhollywood.com/event/annual-filipino-american-jazz-world-music-festival/
LOCATION:Catalina Jazz Club\, 6725 W. Sunset Blvd.\, Hollywood\, California\, 90028.0
END:VEVENT
BEGIN:VEVENT
DTSTART;TZID=Asia/Kolkata:20150403T000000
DTEND;TZID=Asia/Kolkata:20150403T000000
DTSTAMP:20260424T182318
CREATED:20250630T113850Z
LAST-MODIFIED:20250630T113850Z
UID:10002120-1428019200-1428019200@www.discoverhollywood.com
SUMMARY:Annual Gala at the Autry
DESCRIPTION:Held at the Autry%27s campus in Griffith Park%2c this annual gala includes a cocktail reception%2c a live auction%2c an elegant dinner%2c and dancing under the stars.%26nbsp%3b%3cstrong%3eKen Burns%3c/strong%3e will be recognized with the Spirit of the West® Award for his many contributions to the art%2c history%2c and cultures of the American West. Winner of 14 Emmy Awards%2c two Grammy Awards%2c and a 1991 National Humanities Medalist%2c Burns has directed and produced some of the most significant historical documentaries ever made.\n%3cDesignHTMLWords: 81   Characters: 475
URL:https://www.discoverhollywood.com/event/annual-gala-at-the-autry/
LOCATION:Autry National Center\, 4700 Western Heritage Way\, Hollywood\, California
END:VEVENT
BEGIN:VEVENT
DTSTART;TZID=Asia/Kolkata:20150401T000000
DTEND;TZID=Asia/Kolkata:20150401T000000
DTSTAMP:20260424T182318
CREATED:20250630T113850Z
LAST-MODIFIED:20250630T113850Z
UID:10002121-1427846400-1427846400@www.discoverhollywood.com
SUMMARY:Annual Hollywood Music in Media Awards
DESCRIPTION:The %3cb%3eHollywood Music in Media Awards %28HMMA%29%3c/b%3e is Hollywood%27s premier award show honoring musical excellence in visual media%2c the music of mainstream and emerging artists around the globe.\n%3cbr%3eDesignHTMLWords: 28   Characters: 179
URL:https://www.discoverhollywood.com/event/annual-hollywood-music-in-media-awards/
LOCATION:The Fonda\, 6126 Hollywood Blvd.\, Hollywood\, California
END:VEVENT
BEGIN:VEVENT
DTSTART;TZID=Asia/Kolkata:20150330T000000
DTEND;TZID=Asia/Kolkata:20150330T000000
DTSTAMP:20260424T182318
CREATED:20250630T113850Z
LAST-MODIFIED:20250630T113850Z
UID:10002122-1427673600-1427673600@www.discoverhollywood.com
SUMMARY:Annual Indian Film Festival of Los Angeles
DESCRIPTION:14th Annual Indian Film Festival of Los Angeles featuring more than 25 films%2c%26nbsp%3bgalas%2c live music and dance performances%2c and awards for best feature film%2c%26nbsp%3bdocumentary%2c and short film.%26nbsp%3b\n%3cbr%3e\n%3cbr%3e\n%3cbr%3eDesignHTMLWords: 29   Characters: 176
URL:https://www.discoverhollywood.com/event/annual-indian-film-festival-of-los-angeles/
LOCATION:California
END:VEVENT
BEGIN:VEVENT
DTSTART;TZID=Asia/Kolkata:20150328T000000
DTEND;TZID=Asia/Kolkata:20150328T000000
DTSTAMP:20260424T182318
CREATED:20250630T113850Z
LAST-MODIFIED:20250630T113850Z
UID:10002123-1427500800-1427500800@www.discoverhollywood.com
SUMMARY:Annual Italian Feast of San Gennaro
DESCRIPTION:%3cbr%3eDesignHTMLWords: 0   Characters: 0
URL:https://www.discoverhollywood.com/event/annual-italian-feast-of-san-gennaro/
LOCATION:California
END:VEVENT
BEGIN:VEVENT
DTSTART;TZID=Asia/Kolkata:20150326T000000
DTEND;TZID=Asia/Kolkata:20150326T000000
DTSTAMP:20260424T182318
CREATED:20250630T113850Z
LAST-MODIFIED:20250630T113850Z
UID:10002124-1427328000-1427328000@www.discoverhollywood.com
SUMMARY:Annual Jazz Tribute Awards
DESCRIPTION:%3cbr%3eDesignHTMLWords: 0   Characters: 0
URL:https://www.discoverhollywood.com/event/annual-jazz-tribute-awards/
LOCATION:Ricardo Montalban Theatre\, 1615 N. Vine St\, Hollywood\, California
END:VEVENT
BEGIN:VEVENT
DTSTART;TZID=Asia/Kolkata:20150324T000000
DTEND;TZID=Asia/Kolkata:20150324T000000
DTSTAMP:20260424T182318
CREATED:20250630T113905Z
LAST-MODIFIED:20250630T113905Z
UID:10002125-1427155200-1427155200@www.discoverhollywood.com
SUMMARY:Annual Music Box Day
DESCRIPTION:%3cbr%3eDesignHTMLWords: 0   Characters: 0
URL:https://www.discoverhollywood.com/event/annual-music-box-day/
LOCATION:California
END:VEVENT
BEGIN:VEVENT
DTSTART;TZID=Asia/Kolkata:20150322T000000
DTEND;TZID=Asia/Kolkata:20150322T000000
DTSTAMP:20260424T182318
CREATED:20250630T113906Z
LAST-MODIFIED:20250630T113906Z
UID:10002126-1426982400-1426982400@www.discoverhollywood.com
SUMMARY:Annual Real To Reel Global Youth Film Festival
DESCRIPTION:%3cp%3eThe festival will screen a diverse slate of short films by youth filmmakers from different countries. In between screenings will be acting workshops%2c filmmaker panels featuring industry professionals%2c producer and film financing panels featuring industry experts. The festival is created for youth by youth and is free and open to the general public thanks to its sponsors .%3c/p%3eDesignHTMLWords: 57   Characters: 368
URL:https://www.discoverhollywood.com/event/annual-real-to-reel-global-youth-film-festival/
LOCATION:California
END:VEVENT
BEGIN:VEVENT
DTSTART;TZID=Asia/Kolkata:20150320T000000
DTEND;TZID=Asia/Kolkata:20150320T000000
DTSTAMP:20260424T182318
CREATED:20250630T113906Z
LAST-MODIFIED:20250630T113906Z
UID:10002127-1426809600-1426809600@www.discoverhollywood.com
SUMMARY:Annual Young Playwrights Festival
DESCRIPTION:%3cp%3eProfessional actors and directors present 12 winning plays by young playwrights from across the nation during this prestigious four-week festival. Three different plays are presented each week. %3c/p%3e\n%3cbr%3eDesignHTMLWords: 27   Characters: 190
URL:https://www.discoverhollywood.com/event/annual-young-playwrights-festival/
LOCATION:California
END:VEVENT
BEGIN:VEVENT
DTSTART;TZID=Asia/Kolkata:20150318T000000
DTEND;TZID=Asia/Kolkata:20150318T000000
DTSTAMP:20260424T182318
CREATED:20250630T113906Z
LAST-MODIFIED:20250630T113906Z
UID:10002128-1426636800-1426636800@www.discoverhollywood.com
SUMMARY:Anomalie Live
DESCRIPTION:%3ca href%3d%22https%3a//www.theroxy.com/%22 target%3d%22_blank%22%3ehttps%3a//www.theroxy.com/%3c/a%3eDesignHTMLWords: 1   Characters: 21
URL:https://www.discoverhollywood.com/event/anomalie-live/
LOCATION:The Roxy\, 9009 Sunset Blvd.\, Los Angeles\, California
END:VEVENT
BEGIN:VEVENT
DTSTART;TZID=Asia/Kolkata:20150316T000000
DTEND;TZID=Asia/Kolkata:20150316T000000
DTSTAMP:20260424T182318
CREATED:20250630T113906Z
LAST-MODIFIED:20250630T113906Z
UID:10002129-1426464000-1426464000@www.discoverhollywood.com
SUMMARY:Anonymization
DESCRIPTION:Fulbright winner Robert Harding Pittman photographs anonymous development and urban sprawl from Los Angeles to Dubai. In his first Los Angeles exhibition since he received a dual Masters Degree in Art and Film from CalArts%2c Pittman joins us from Spain%2c presenting a selection from the first decade of his ongoing body of work.DesignHTMLWords: 53   Characters: 322
URL:https://www.discoverhollywood.com/event/anonymization/
LOCATION:California
END:VEVENT
BEGIN:VEVENT
DTSTART;TZID=Asia/Kolkata:20150314T000000
DTEND;TZID=Asia/Kolkata:20150314T000000
DTSTAMP:20260424T182318
CREATED:20250630T113920Z
LAST-MODIFIED:20250630T113920Z
UID:10002130-1426291200-1426291200@www.discoverhollywood.com
SUMMARY:Anonymization
DESCRIPTION:Fulbright winner Robert Harding Pittman photographs anonymous development and urban sprawl from Los Angeles to Dubai. In his first Los Angeles exhibition since he received a dual Masters Degree in Art and Film from CalArts%2c Pittman joins us from Spain%2c presenting a selection from the first decade of his ongoing body of work.DesignHTMLWords: 53   Characters: 322
URL:https://www.discoverhollywood.com/event/anonymization-2/
LOCATION:California
END:VEVENT
BEGIN:VEVENT
DTSTART;TZID=Asia/Kolkata:20150312T000000
DTEND;TZID=Asia/Kolkata:20150312T000000
DTSTAMP:20260424T182318
CREATED:20250630T113920Z
LAST-MODIFIED:20250630T113920Z
UID:10002131-1426118400-1426118400@www.discoverhollywood.com
SUMMARY:Anoushka Shankar - Land of Gold
DESCRIPTION:DesignHTMLWords: 0   Characters: 0
URL:https://www.discoverhollywood.com/event/anoushka-shankar-land-of-gold/
LOCATION:Masonic Lodge at Hollywood Forever Cemetery\, 6000 Santa Monica Blvd\, Los Angeles\, California\, 90038.0
END:VEVENT
BEGIN:VEVENT
DTSTART;TZID=Asia/Kolkata:20150310T000000
DTEND;TZID=Asia/Kolkata:20150310T000000
DTSTAMP:20260424T182318
CREATED:20250630T113920Z
LAST-MODIFIED:20250630T113920Z
UID:10002132-1425945600-1425945600@www.discoverhollywood.com
SUMMARY:Antenna The End
DESCRIPTION:%3cbr%3eDesignHTMLWords: 0   Characters: 0
URL:https://www.discoverhollywood.com/event/antenna-the-end/
LOCATION:Troubadour\, 9081 Santa Monica Blvd.\, Hollywood\, California
END:VEVENT
BEGIN:VEVENT
DTSTART;TZID=Asia/Kolkata:20150308T000000
DTEND;TZID=Asia/Kolkata:20150308T000000
DTSTAMP:20260424T182318
CREATED:20250630T113920Z
LAST-MODIFIED:20250630T113920Z
UID:10002133-1425772800-1425772800@www.discoverhollywood.com
SUMMARY:Antenna The End\, Marzoña\, Carbonine
DESCRIPTION:%3ca target%3d%22_blank%22 href%3d%22http%3a//www.whiskyagogo.com/site/event/antenna-the-end-marzona-ravens-cry/%22%3eAntenna The End%2c%3c/a%3e Marzoña%2c Carbonine%2c Ravens Cry%2c Fuzzy Eye%2c The Light DistrictDesignHTMLWords: 12   Characters: 73
URL:https://www.discoverhollywood.com/event/antenna-the-end-marzona-carbonine/
LOCATION:Whisky A-Go-Go\, 8901 Sunset Blvd\, Los Angeles\, California
END:VEVENT
BEGIN:VEVENT
DTSTART;TZID=Asia/Kolkata:20150306T000000
DTEND;TZID=Asia/Kolkata:20150306T000000
DTSTAMP:20260424T182318
CREATED:20250630T113921Z
LAST-MODIFIED:20250630T113921Z
UID:10002134-1425600000-1425600000@www.discoverhollywood.com
SUMMARY:Anthony Bourdain: The Hunger
DESCRIPTION:%3cem%3e%3cstrong%3e%3c/strong%3e%3c/em%3e\n%3cem%3e%3cstrong%3eThe Hunger%3c/strong%3e%3c/em%3e serves audiences an all new live show featuring an unyielding%2c brutally honest monologue reflecting on diverse culture%2c street cuisine and his travels to lesser-known locations around the world%2c followed by an open Q%26amp%3bA session. Currently filming the hit CNN original series\n%3cem%3eAnthony Bourdain Parts Unknown%3c/em%3e%2c Bourdain will bring audiences a menu loaded with lots of laughs%2c serious discussions and unapologetic irreverence.DesignHTMLWords: 63   Characters: 422
URL:https://www.discoverhollywood.com/event/anthony-bourdain-the-hunger/
LOCATION:Hollywood Pantages Theatre\, 6233 Hollywood Blvd. Wayne McWorter (213)365-3500\, Hollywood\, CA\, 90028.0
END:VEVENT
BEGIN:VEVENT
DTSTART;TZID=Asia/Kolkata:20150304T000000
DTEND;TZID=Asia/Kolkata:20150304T000000
DTSTAMP:20260424T182318
CREATED:20250630T113935Z
LAST-MODIFIED:20250630T113935Z
UID:10002135-1425427200-1425427200@www.discoverhollywood.com
SUMMARY:Anthony Burdin
DESCRIPTION:Exhibition continues through Jan 26.DesignHTMLWords: 5   Characters: 35
URL:https://www.discoverhollywood.com/event/anthony-burdin/
LOCATION:California
END:VEVENT
BEGIN:VEVENT
DTSTART;TZID=Asia/Kolkata:20150302T000000
DTEND;TZID=Asia/Kolkata:20150302T000000
DTSTAMP:20260424T182318
CREATED:20250630T113935Z
LAST-MODIFIED:20250630T113935Z
UID:10002136-1425254400-1425254400@www.discoverhollywood.com
SUMMARY:Anthony Jeselnik and Enemies
DESCRIPTION:%3ca href%3d%22https%3a//www.largo-la.com/%22 target%3d%22_blank%22%3ehttps%3a//www.largo-la.com/%3c/a%3eDesignHTMLWords: 1   Characters: 21
URL:https://www.discoverhollywood.com/event/anthony-jeselnik-and-enemies/
LOCATION:Largo at the Coronet\, 366 N. La Cienega Blvd. http://www.largo-la.com/event/1283859-doug-loves-movies-12-guests-los-angeles/\, Los Angeles\, California\, 90048.0
END:VEVENT
BEGIN:VEVENT
DTSTART;TZID=Asia/Kolkata:20150228T000000
DTEND;TZID=Asia/Kolkata:20150228T000000
DTSTAMP:20260424T182318
CREATED:20250630T113935Z
LAST-MODIFIED:20250630T113935Z
UID:10002137-1425081600-1425081600@www.discoverhollywood.com
SUMMARY:Anthony Miserendino
DESCRIPTION:DesignHTMLWords: 0   Characters: 0
URL:https://www.discoverhollywood.com/event/anthony-miserendino/
LOCATION:Moskowitz Bayse\, 743 N. La Brea Avenue\, Los Angeles\, California\, 90038.0
END:VEVENT
END:VCALENDAR