BEGIN:VCALENDAR
VERSION:2.0
PRODID:-//Discover Hollywood Magazine - ECPv6.15.17//NONSGML v1.0//EN
CALSCALE:GREGORIAN
METHOD:PUBLISH
X-WR-CALNAME:Discover Hollywood Magazine
X-ORIGINAL-URL:https://www.discoverhollywood.com
X-WR-CALDESC:Events for Discover Hollywood Magazine
REFRESH-INTERVAL;VALUE=DURATION:PT1H
X-Robots-Tag:noindex
X-PUBLISHED-TTL:PT1H
BEGIN:VTIMEZONE
TZID:Asia/Kolkata
BEGIN:STANDARD
TZOFFSETFROM:+0530
TZOFFSETTO:+0530
TZNAME:IST
DTSTART:20070101T000000
END:STANDARD
END:VTIMEZONE
BEGIN:VEVENT
DTSTART;TZID=Asia/Kolkata:20090106T000000
DTEND;TZID=Asia/Kolkata:20090106T000000
DTSTAMP:20260421T224704
CREATED:20250701T062336Z
LAST-MODIFIED:20250701T062336Z
UID:10003255-1231200000-1231200000@www.discoverhollywood.com
SUMMARY:Broken Bells
DESCRIPTION:DesignHTMLWords: 0   Characters: 0
URL:https://www.discoverhollywood.com/event/broken-bells/
LOCATION:The Fonda\, 6126 Hollywood Blvd.\, Hollywood\, California
END:VEVENT
BEGIN:VEVENT
DTSTART;TZID=Asia/Kolkata:20090104T000000
DTEND;TZID=Asia/Kolkata:20090104T000000
DTSTAMP:20260421T224704
CREATED:20250701T063020Z
LAST-MODIFIED:20250701T063020Z
UID:10003256-1231027200-1231027200@www.discoverhollywood.com
SUMMARY:Broken Heart
DESCRIPTION:%3cp%3eAntebellum presents their annual valentine%27s day show%7e BROKEN HEART curated by rick castro%7e FEB 14TH%7e 2015%2c Thru Mar 4%3cbr%3eLive performances%3c/p%3e\n%3cp%3e%3cimg class%3d%22%22 alt%3d%22Hector de Gregorio%22 src%3d%22images/hector-de-gregorio3748.jpg%22 height%3d%22298%22 width%3d%22202%22%3e%3c/p%3e\n%3cp%3e%3c/p%3eDesignHTMLWords: 21   Characters: 131
URL:https://www.discoverhollywood.com/event/broken-heart/
LOCATION:Antebellum Gallery\, 1643 N. Las Palmas Ave.\, Hollywood\, California
END:VEVENT
BEGIN:VEVENT
DTSTART;TZID=Asia/Kolkata:20090102T000000
DTEND;TZID=Asia/Kolkata:20090102T000000
DTSTAMP:20260421T224704
CREATED:20250701T063020Z
LAST-MODIFIED:20250701T063020Z
UID:10003257-1230854400-1230854400@www.discoverhollywood.com
SUMMARY:Broken Panda
DESCRIPTION:%3cbr%3eDesignHTMLWords: 0   Characters: 0
URL:https://www.discoverhollywood.com/event/broken-panda/
LOCATION:Lounge Theatre\, 6201 Santa Monica Blvd. https://www.plays411.com/donna or by calling (323) 206-6427\, Hollywood\, California
END:VEVENT
BEGIN:VEVENT
DTSTART;TZID=Asia/Kolkata:20081231T000000
DTEND;TZID=Asia/Kolkata:20081231T000000
DTSTAMP:20260421T224704
CREATED:20250701T063020Z
LAST-MODIFIED:20250701T063020Z
UID:10003258-1230681600-1230681600@www.discoverhollywood.com
SUMMARY:Broken Social Scene
DESCRIPTION:%3ca href%3d%22https%3a//www.fondatheatre.com%22 target%3d%22_blank%22%3ehttps%3a//www.fondatheatre.com%3c/a%3eDesignHTMLWords: 1   Characters: 25
URL:https://www.discoverhollywood.com/event/broken-social-scene/
LOCATION:The Fonda\, 6126 Hollywood Blvd.\, Hollywood\, California
END:VEVENT
BEGIN:VEVENT
DTSTART;TZID=Asia/Kolkata:20081229T000000
DTEND;TZID=Asia/Kolkata:20081229T000000
DTSTAMP:20260421T224704
CREATED:20250701T063020Z
LAST-MODIFIED:20250701T063020Z
UID:10003259-1230508800-1230508800@www.discoverhollywood.com
SUMMARY:Broken\, Chaotic Five
DESCRIPTION:%3cbr%3eDesignHTMLWords: 0   Characters: 0
URL:https://www.discoverhollywood.com/event/broken-chaotic-five/
LOCATION:Whisky A-Go-Go\, 8901 Sunset Blvd\, Los Angeles\, California
END:VEVENT
BEGIN:VEVENT
DTSTART;TZID=Asia/Kolkata:20081227T000000
DTEND;TZID=Asia/Kolkata:20081227T000000
DTSTAMP:20260421T224704
CREATED:20250701T063020Z
LAST-MODIFIED:20250701T063020Z
UID:10003260-1230336000-1230336000@www.discoverhollywood.com
SUMMARY:Brolesque
DESCRIPTION:%3ca href%3d%22https%3a//rockwell-la.com/event/brolesque/2020-01-31/%22%3ehttps%3a//rockwell-la.com/event/brolesque/2020-01-31/%3c/a%3eDesignHTMLWords: 1   Characters: 46
URL:https://www.discoverhollywood.com/event/brolesque/
LOCATION:Rockwell: Table & Stage\, 1714 N. Vermont Ave.\, Los Angeles\, California\, 90027.0
END:VEVENT
BEGIN:VEVENT
DTSTART;TZID=Asia/Kolkata:20081225T000000
DTEND;TZID=Asia/Kolkata:20081225T000000
DTSTAMP:20260421T224704
CREATED:20250701T063037Z
LAST-MODIFIED:20250701T063037Z
UID:10003261-1230163200-1230163200@www.discoverhollywood.com
SUMMARY:Broncho
DESCRIPTION:%3ca href%3d%22https%3a//www.theroxy.com/events/detail/380260%22%3ehttps%3a//www.theroxy.com/events/detail/380260%3c/a%3eDesignHTMLWords: 1   Characters: 41
URL:https://www.discoverhollywood.com/event/broncho/
LOCATION:The Roxy\, 9009 Sunset Blvd.\, Los Angeles\, California
END:VEVENT
BEGIN:VEVENT
DTSTART;TZID=Asia/Kolkata:20081223T000000
DTEND;TZID=Asia/Kolkata:20081223T000000
DTSTAMP:20260421T224704
CREATED:20250701T063037Z
LAST-MODIFIED:20250701T063037Z
UID:10003262-1229990400-1229990400@www.discoverhollywood.com
SUMMARY:Bronco
DESCRIPTION:DesignHTMLWords: 0   Characters: 0
URL:https://www.discoverhollywood.com/event/bronco/
LOCATION:Gibson Amphitheatre\, Select
END:VEVENT
BEGIN:VEVENT
DTSTART;TZID=Asia/Kolkata:20081221T000000
DTEND;TZID=Asia/Kolkata:20081221T000000
DTSTAMP:20260421T224704
CREATED:20250701T063037Z
LAST-MODIFIED:20250701T063037Z
UID:10003263-1229817600-1229817600@www.discoverhollywood.com
SUMMARY:Bronco Billy! The Musical
DESCRIPTION:%3ca href%3d%22https%3a//ci.ovationtix.com/34914%3f_ga%3d2.106221891.1712457156.1560191558-1895808075.1560191558%22%3ehttps%3a//ci.ovationtix.com/34914%3f_ga%3d2.106221891.1712457156.1560191558-1895808075.1560191558%3c/a%3eDesignHTMLWords: 1   Characters: 81
URL:https://www.discoverhollywood.com/event/bronco-billy-the-musical/
LOCATION:Skylight Theatre Company\, 1816 1/2 N. Vermont Ave.\, Hollywood\, California\, 90027.0
END:VEVENT
BEGIN:VEVENT
DTSTART;TZID=Asia/Kolkata:20081219T000000
DTEND;TZID=Asia/Kolkata:20081219T000000
DTSTAMP:20260421T224704
CREATED:20250701T063037Z
LAST-MODIFIED:20250701T063037Z
UID:10003264-1229644800-1229644800@www.discoverhollywood.com
SUMMARY:Bronfman Plays Brahms
DESCRIPTION:DesignHTMLWords: 0   Characters: 0
URL:https://www.discoverhollywood.com/event/bronfman-plays-brahms/
LOCATION:Hollywood Bowl\, 2301 N. Highland Ave.\, Hollywood\, California\, 90068.0
END:VEVENT
BEGIN:VEVENT
DTSTART;TZID=Asia/Kolkata:20081217T000000
DTEND;TZID=Asia/Kolkata:20081217T000000
DTSTAMP:20260421T224704
CREATED:20250701T063037Z
LAST-MODIFIED:20250701T063037Z
UID:10003265-1229472000-1229472000@www.discoverhollywood.com
SUMMARY:Bronies: The Musical
DESCRIPTION:%3cbr%3eDesignHTMLWords: 0   Characters: 0
URL:https://www.discoverhollywood.com/event/bronies-the-musical/
LOCATION:Lounge 2 Theatre\, 6201 Santa Monica Blvd.\, Hollywood\, California\, 90038.0
END:VEVENT
BEGIN:VEVENT
DTSTART;TZID=Asia/Kolkata:20081215T000000
DTEND;TZID=Asia/Kolkata:20081215T000000
DTSTAMP:20260421T224704
CREATED:20250701T063054Z
LAST-MODIFIED:20250701T063054Z
UID:10003266-1229299200-1229299200@www.discoverhollywood.com
SUMMARY:Brontosaurus/Cowfield
DESCRIPTION:DesignHTMLWords: 0   Characters: 0
URL:https://www.discoverhollywood.com/event/brontosaurus-cowfield/
END:VEVENT
BEGIN:VEVENT
DTSTART;TZID=Asia/Kolkata:20081213T000000
DTEND;TZID=Asia/Kolkata:20081213T000000
DTSTAMP:20260421T224704
CREATED:20250701T063054Z
LAST-MODIFIED:20250701T063054Z
UID:10003267-1229126400-1229126400@www.discoverhollywood.com
SUMMARY:Bronze Radio Return
DESCRIPTION:DesignHTMLWords: 0   Characters: 0
URL:https://www.discoverhollywood.com/event/bronze-radio-return/
LOCATION:Troubadour\, 9081 Santa Monica Blvd.\, Hollywood\, California
END:VEVENT
BEGIN:VEVENT
DTSTART;TZID=Asia/Kolkata:20081211T000000
DTEND;TZID=Asia/Kolkata:20081211T000000
DTSTAMP:20260421T224704
CREATED:20250701T063054Z
LAST-MODIFIED:20250701T063054Z
UID:10003268-1228953600-1228953600@www.discoverhollywood.com
SUMMARY:Broods
DESCRIPTION:DesignHTMLWords: 0   Characters: 0
URL:https://www.discoverhollywood.com/event/broods/
LOCATION:The Roxy\, 9009 Sunset Blvd.\, Los Angeles\, California
END:VEVENT
BEGIN:VEVENT
DTSTART;TZID=Asia/Kolkata:20081209T000000
DTEND;TZID=Asia/Kolkata:20081209T000000
DTSTAMP:20260421T224704
CREATED:20250701T063054Z
LAST-MODIFIED:20250701T063054Z
UID:10003269-1228780800-1228780800@www.discoverhollywood.com
SUMMARY:Broods
DESCRIPTION:DesignHTMLWords: 0   Characters: 0
URL:https://www.discoverhollywood.com/event/broods-2/
LOCATION:The Fonda\, 6126 Hollywood Blvd.\, Hollywood\, California
END:VEVENT
BEGIN:VEVENT
DTSTART;TZID=Asia/Kolkata:20081207T000000
DTEND;TZID=Asia/Kolkata:20081207T000000
DTSTAMP:20260421T224704
CREATED:20250701T063054Z
LAST-MODIFIED:20250701T063054Z
UID:10003270-1228608000-1228608000@www.discoverhollywood.com
SUMMARY:Brooke Fraser
DESCRIPTION:%3ca target%3d%22_blank%22 href%3d%22http%3a//www.fondatheatre.com/events%22%3ehttp%3a//www.fondatheatre.com/events%3c/a%3eDesignHTMLWords: 1   Characters: 31
URL:https://www.discoverhollywood.com/event/brooke-fraser/
LOCATION:The Fonda\, 6126 Hollywood Blvd.\, Hollywood\, California
END:VEVENT
BEGIN:VEVENT
DTSTART;TZID=Asia/Kolkata:20081205T000000
DTEND;TZID=Asia/Kolkata:20081205T000000
DTSTAMP:20260421T224704
CREATED:20250701T063111Z
LAST-MODIFIED:20250701T063111Z
UID:10003271-1228435200-1228435200@www.discoverhollywood.com
SUMMARY:Brooklyn Quartet
DESCRIPTION:A showcase performance written and performed by Rock WILK.%26nbsp%3b%26nbsp%3b %3ca href%3d%22http%3a//www.brooklynquartet.com/%22 target%3d%22_blank%22%3ewww.brooklynquartet.com%3c/a%3eDesignHTMLWords: 10   Characters: 81
URL:https://www.discoverhollywood.com/event/brooklyn-quartet/
END:VEVENT
BEGIN:VEVENT
DTSTART;TZID=Asia/Kolkata:20081203T000000
DTEND;TZID=Asia/Kolkata:20081203T000000
DTSTAMP:20260421T224704
CREATED:20250701T063111Z
LAST-MODIFIED:20250701T063111Z
UID:10003272-1228262400-1228262400@www.discoverhollywood.com
SUMMARY:Brooklyn USA
DESCRIPTION:DesignHTMLWords: 0   Characters: 0
URL:https://www.discoverhollywood.com/event/brooklyn-usa/
LOCATION:Write Act Theatre\, 6128 Yucca St\, Los Angeles\, California
END:VEVENT
BEGIN:VEVENT
DTSTART;TZID=Asia/Kolkata:20081201T000000
DTEND;TZID=Asia/Kolkata:20081201T000000
DTSTAMP:20260421T224704
CREATED:20250701T063111Z
LAST-MODIFIED:20250701T063111Z
UID:10003273-1228089600-1228089600@www.discoverhollywood.com
SUMMARY:Brooklyn USA
DESCRIPTION:DesignHTMLWords: 0   Characters: 0
URL:https://www.discoverhollywood.com/event/brooklyn-usa-2/
LOCATION:Write Act Theatre\, 6128 Yucca St\, Los Angeles\, California
END:VEVENT
BEGIN:VEVENT
DTSTART;TZID=Asia/Kolkata:20081129T000000
DTEND;TZID=Asia/Kolkata:20081129T000000
DTSTAMP:20260421T224704
CREATED:20250701T063111Z
LAST-MODIFIED:20250701T063111Z
UID:10003274-1227916800-1227916800@www.discoverhollywood.com
SUMMARY:Brooks Nielsen Performing An All Growlers Show
DESCRIPTION:Tickets%3a%26nbsp%3b https%3a//www.ticketmaster.com/hollywood-palladium-tickets-hollywood/venue/73794DesignHTMLWords: 2   Characters: 81
URL:https://www.discoverhollywood.com/event/brooks-nielsen-performing-an-all-growlers-show/
LOCATION:Hollywood Palladium\, 6215 Sunset Blvd\, Hollywood\, California
END:VEVENT
BEGIN:VEVENT
DTSTART;TZID=Asia/Kolkata:20081127T000000
DTEND;TZID=Asia/Kolkata:20081127T000000
DTSTAMP:20260421T224704
CREATED:20250701T063111Z
LAST-MODIFIED:20250701T063111Z
UID:10003275-1227744000-1227744000@www.discoverhollywood.com
SUMMARY:Brooks Wheelan
DESCRIPTION:%3cp%3eBrooks originally hails from Iowa where he attended the University of Iowa. Most recently Brooks wrapped his debut year as a cast member on NBC%27s %3cb%3eSaturday Night Live%3c/b%3e and will be appearing in the upcoming season of\n	%3cb%3eHBO%27s Girls%3c/b%3e. In 2013 he made his stand up television debut on\n	%3cb%3eComedy Central%27s Adam Devine%27s House Party%3c/b%3e.\n	%3cb%3e%3cbr%3e%3c/b%3e\n%3c/p%3eDesignHTMLWords: 55   Characters: 312
URL:https://www.discoverhollywood.com/event/brooks-wheelan/
LOCATION:Largo at the Coronet\, 366 N. La Cienega Blvd. http://www.largo-la.com/event/1283859-doug-loves-movies-12-guests-los-angeles/\, Los Angeles\, California\, 90048.0
END:VEVENT
BEGIN:VEVENT
DTSTART;TZID=Asia/Kolkata:20081125T000000
DTEND;TZID=Asia/Kolkata:20081125T000000
DTSTAMP:20260421T224704
CREATED:20250701T063120Z
LAST-MODIFIED:20250701T063120Z
UID:10003276-1227571200-1227571200@www.discoverhollywood.com
SUMMARY:Broomstick
DESCRIPTION:Is she really a witch%3f Who knows%3f Either way%2c she%27ll put a spell on you. %3ca href%3d%22www.FountainTheatre.com%22%3ewww.FountainTheatre.com%3c/a%3e\n%3ca href%3d%22http%3a//ZDSCommunications.pr-optout.com/Tracking.aspx%3fData%3dHHL%253d%253f171%253f%2526JDG%253c%253d2%253c180.LP%253f%2540083%253a%26amp%3bRE%3dMC%26amp%3bRI%3d3689821%26amp%3bPreview%3dFalse%26amp%3bDistributionActionID%3d6059%26amp%3bAction%3dFollow%2bLink%22%3e%3c/a%3e\n%3ca target%3d%22_blank%22 href%3d%22www.FountainTheatre.com%22%3e%3c/a%3eDesignHTMLWords: 16   Characters: 89
URL:https://www.discoverhollywood.com/event/broomstick/
LOCATION:Fountain Theatre\, 5060 Fountain Ave. (323) 663-1525 or www.FountainTheatre.com\, Hollywood\, California
END:VEVENT
BEGIN:VEVENT
DTSTART;TZID=Asia/Kolkata:20081123T000000
DTEND;TZID=Asia/Kolkata:20081123T000000
DTSTAMP:20260421T224704
CREATED:20250701T063120Z
LAST-MODIFIED:20250701T063120Z
UID:10003277-1227398400-1227398400@www.discoverhollywood.com
SUMMARY:Brother Ali
DESCRIPTION:%3cbr%3eDesignHTMLWords: 0   Characters: 0
URL:https://www.discoverhollywood.com/event/brother-ali/
LOCATION:Troubadour\, 9081 Santa Monica Blvd.\, Hollywood\, California
END:VEVENT
BEGIN:VEVENT
DTSTART;TZID=Asia/Kolkata:20081121T000000
DTEND;TZID=Asia/Kolkata:20081121T000000
DTSTAMP:20260421T224704
CREATED:20250701T063120Z
LAST-MODIFIED:20250701T063120Z
UID:10003278-1227225600-1227225600@www.discoverhollywood.com
SUMMARY:Brother Ali
DESCRIPTION:DesignHTMLWords: 0   Characters: 0
URL:https://www.discoverhollywood.com/event/brother-ali-2/
LOCATION:The Roxy\, 9009 Sunset Blvd.\, Los Angeles\, California
END:VEVENT
BEGIN:VEVENT
DTSTART;TZID=Asia/Kolkata:20081119T000000
DTEND;TZID=Asia/Kolkata:20081119T000000
DTSTAMP:20260421T224704
CREATED:20250701T063121Z
LAST-MODIFIED:20250701T063121Z
UID:10003279-1227052800-1227052800@www.discoverhollywood.com
SUMMARY:Brother Bradley
DESCRIPTION:%3ca href%3d%22https%3a//www.secondcity.com/sc-long-form-party%22%3ehttps%3a//www.secondcity.com/sc-long-form-party%3c/a%3eDesignHTMLWords: 1   Characters: 39
URL:https://www.discoverhollywood.com/event/brother-bradley/
LOCATION:Second City Studio\, 6560 Hollywood Blvd.\, Los Angeles\, California
END:VEVENT
BEGIN:VEVENT
DTSTART;TZID=Asia/Kolkata:20081117T000000
DTEND;TZID=Asia/Kolkata:20081117T000000
DTSTAMP:20260421T224704
CREATED:20250701T063121Z
LAST-MODIFIED:20250701T063121Z
UID:10003280-1226880000-1226880000@www.discoverhollywood.com
SUMMARY:Brother Sun\, Sister Moon
DESCRIPTION:%3ca href%3d%22http%3a//thenewbev.com%22 target%3d%22_blank%22%3ehttp%3a//thenewbev.com%3c/a%3eDesignHTMLWords: 1   Characters: 18
URL:https://www.discoverhollywood.com/event/brother-sun-sister-moon/
LOCATION:New Beverly Cinema\, 7165 Beverly Blvd.\, Hollywood\, California
END:VEVENT
BEGIN:VEVENT
DTSTART;TZID=Asia/Kolkata:20081115T000000
DTEND;TZID=Asia/Kolkata:20081115T000000
DTSTAMP:20260421T224704
CREATED:20250701T063128Z
LAST-MODIFIED:20250701T063128Z
UID:10003281-1226707200-1226707200@www.discoverhollywood.com
SUMMARY:Brothers Osborne
DESCRIPTION:with Travis Denning %26amp%3b Tenille TownesDesignHTMLWords: 5   Characters: 35
URL:https://www.discoverhollywood.com/event/brothers-osborne/
LOCATION:Greek Theatre\, 2700 North Vermont Ave.\, Los Angeles\, California\, 90027.0
END:VEVENT
BEGIN:VEVENT
DTSTART;TZID=Asia/Kolkata:20081113T000000
DTEND;TZID=Asia/Kolkata:20081113T000000
DTSTAMP:20260421T224704
CREATED:20250701T063128Z
LAST-MODIFIED:20250701T063128Z
UID:10003282-1226534400-1226534400@www.discoverhollywood.com
SUMMARY:Brought To You By The Letter T
DESCRIPTION:%3cbr%3eDesignHTMLWords: 0   Characters: 0
URL:https://www.discoverhollywood.com/event/brought-to-you-by-the-letter-t/
LOCATION:Advocate Gallery\, 1125 N. McCadden\, Hollywood\, California
END:VEVENT
BEGIN:VEVENT
DTSTART;TZID=Asia/Kolkata:20081111T000000
DTEND;TZID=Asia/Kolkata:20081111T000000
DTSTAMP:20260421T224704
CREATED:20250701T063128Z
LAST-MODIFIED:20250701T063128Z
UID:10003283-1226361600-1226361600@www.discoverhollywood.com
SUMMARY:Brown Christmas
DESCRIPTION:DesignHTMLWords: 0   Characters: 0
URL:https://www.discoverhollywood.com/event/brown-christmas/
LOCATION:Barnsdall Gallery Theatre\, 4800 Hollywood Blvd\, Los Angeles\, California
END:VEVENT
BEGIN:VEVENT
DTSTART;TZID=Asia/Kolkata:20081109T000000
DTEND;TZID=Asia/Kolkata:20081109T000000
DTSTAMP:20260421T224704
CREATED:20250701T063128Z
LAST-MODIFIED:20250701T063128Z
UID:10003284-1226188800-1226188800@www.discoverhollywood.com
SUMMARY:Brown Sabbath
DESCRIPTION:DesignHTMLWords: 0   Characters: 0
URL:https://www.discoverhollywood.com/event/brown-sabbath/
LOCATION:The Roxy\, 9009 Sunset Blvd.\, Los Angeles\, California
END:VEVENT
END:VCALENDAR