BEGIN:VCALENDAR
VERSION:2.0
PRODID:-//Discover Hollywood Magazine - ECPv6.15.20//NONSGML v1.0//EN
CALSCALE:GREGORIAN
METHOD:PUBLISH
X-WR-CALNAME:Discover Hollywood Magazine
X-ORIGINAL-URL:https://www.discoverhollywood.com
X-WR-CALDESC:Events for Discover Hollywood Magazine
REFRESH-INTERVAL;VALUE=DURATION:PT1H
X-Robots-Tag:noindex
X-PUBLISHED-TTL:PT1H
BEGIN:VTIMEZONE
TZID:Asia/Kolkata
BEGIN:STANDARD
TZOFFSETFROM:+0530
TZOFFSETTO:+0530
TZNAME:IST
DTSTART:20070101T000000
END:STANDARD
END:VTIMEZONE
BEGIN:VEVENT
DTSTART;TZID=Asia/Kolkata:20081119T000000
DTEND;TZID=Asia/Kolkata:20081119T000000
DTSTAMP:20260423T154853
CREATED:20250701T063121Z
LAST-MODIFIED:20250701T063121Z
UID:10003279-1227052800-1227052800@www.discoverhollywood.com
SUMMARY:Brother Bradley
DESCRIPTION:%3ca href%3d%22https%3a//www.secondcity.com/sc-long-form-party%22%3ehttps%3a//www.secondcity.com/sc-long-form-party%3c/a%3eDesignHTMLWords: 1   Characters: 39
URL:https://www.discoverhollywood.com/event/brother-bradley/
LOCATION:Second City Studio\, 6560 Hollywood Blvd.\, Los Angeles\, California
END:VEVENT
BEGIN:VEVENT
DTSTART;TZID=Asia/Kolkata:20081117T000000
DTEND;TZID=Asia/Kolkata:20081117T000000
DTSTAMP:20260423T154853
CREATED:20250701T063121Z
LAST-MODIFIED:20250701T063121Z
UID:10003280-1226880000-1226880000@www.discoverhollywood.com
SUMMARY:Brother Sun\, Sister Moon
DESCRIPTION:%3ca href%3d%22http%3a//thenewbev.com%22 target%3d%22_blank%22%3ehttp%3a//thenewbev.com%3c/a%3eDesignHTMLWords: 1   Characters: 18
URL:https://www.discoverhollywood.com/event/brother-sun-sister-moon/
LOCATION:New Beverly Cinema\, 7165 Beverly Blvd.\, Hollywood\, California
END:VEVENT
BEGIN:VEVENT
DTSTART;TZID=Asia/Kolkata:20081115T000000
DTEND;TZID=Asia/Kolkata:20081115T000000
DTSTAMP:20260423T154853
CREATED:20250701T063128Z
LAST-MODIFIED:20250701T063128Z
UID:10003281-1226707200-1226707200@www.discoverhollywood.com
SUMMARY:Brothers Osborne
DESCRIPTION:with Travis Denning %26amp%3b Tenille TownesDesignHTMLWords: 5   Characters: 35
URL:https://www.discoverhollywood.com/event/brothers-osborne/
LOCATION:Greek Theatre\, 2700 North Vermont Ave.\, Los Angeles\, California\, 90027.0
END:VEVENT
BEGIN:VEVENT
DTSTART;TZID=Asia/Kolkata:20081113T000000
DTEND;TZID=Asia/Kolkata:20081113T000000
DTSTAMP:20260423T154853
CREATED:20250701T063128Z
LAST-MODIFIED:20250701T063128Z
UID:10003282-1226534400-1226534400@www.discoverhollywood.com
SUMMARY:Brought To You By The Letter T
DESCRIPTION:%3cbr%3eDesignHTMLWords: 0   Characters: 0
URL:https://www.discoverhollywood.com/event/brought-to-you-by-the-letter-t/
LOCATION:Advocate Gallery\, 1125 N. McCadden\, Hollywood\, California
END:VEVENT
BEGIN:VEVENT
DTSTART;TZID=Asia/Kolkata:20081111T000000
DTEND;TZID=Asia/Kolkata:20081111T000000
DTSTAMP:20260423T154853
CREATED:20250701T063128Z
LAST-MODIFIED:20250701T063128Z
UID:10003283-1226361600-1226361600@www.discoverhollywood.com
SUMMARY:Brown Christmas
DESCRIPTION:DesignHTMLWords: 0   Characters: 0
URL:https://www.discoverhollywood.com/event/brown-christmas/
LOCATION:Barnsdall Gallery Theatre\, 4800 Hollywood Blvd\, Los Angeles\, California
END:VEVENT
BEGIN:VEVENT
DTSTART;TZID=Asia/Kolkata:20081109T000000
DTEND;TZID=Asia/Kolkata:20081109T000000
DTSTAMP:20260423T154853
CREATED:20250701T063128Z
LAST-MODIFIED:20250701T063128Z
UID:10003284-1226188800-1226188800@www.discoverhollywood.com
SUMMARY:Brown Sabbath
DESCRIPTION:DesignHTMLWords: 0   Characters: 0
URL:https://www.discoverhollywood.com/event/brown-sabbath/
LOCATION:The Roxy\, 9009 Sunset Blvd.\, Los Angeles\, California
END:VEVENT
BEGIN:VEVENT
DTSTART;TZID=Asia/Kolkata:20081107T000000
DTEND;TZID=Asia/Kolkata:20081107T000000
DTSTAMP:20260423T154853
CREATED:20250701T063128Z
LAST-MODIFIED:20250701T063128Z
UID:10003285-1226016000-1226016000@www.discoverhollywood.com
SUMMARY:Brownies & Lemonade: The M Machine
DESCRIPTION:%3cbr%3eDesignHTMLWords: 0   Characters: 0
URL:https://www.discoverhollywood.com/event/brownies-lemonade-the-m-machine/
LOCATION:The Roxy\, 9009 Sunset Blvd.\, Los Angeles\, California
END:VEVENT
BEGIN:VEVENT
DTSTART;TZID=Asia/Kolkata:20081105T000000
DTEND;TZID=Asia/Kolkata:20081105T000000
DTSTAMP:20260423T154853
CREATED:20250701T063138Z
LAST-MODIFIED:20250701T063138Z
UID:10003286-1225843200-1225843200@www.discoverhollywood.com
SUMMARY:Brownsville Bred
DESCRIPTION:DesignHTMLWords: 0   Characters: 0
URL:https://www.discoverhollywood.com/event/brownsville-bred/
LOCATION:Theatre of NOTE\, 1517 N. Cahuenga Blvd\, Los Angeles\, California
END:VEVENT
BEGIN:VEVENT
DTSTART;TZID=Asia/Kolkata:20081103T000000
DTEND;TZID=Asia/Kolkata:20081103T000000
DTSTAMP:20260423T154853
CREATED:20250701T063138Z
LAST-MODIFIED:20250701T063138Z
UID:10003287-1225670400-1225670400@www.discoverhollywood.com
SUMMARY:Brownsville Bred
DESCRIPTION:DesignHTMLWords: 0   Characters: 0
URL:https://www.discoverhollywood.com/event/brownsville-bred-2/
LOCATION:California
END:VEVENT
BEGIN:VEVENT
DTSTART;TZID=Asia/Kolkata:20081101T000000
DTEND;TZID=Asia/Kolkata:20081101T000000
DTSTAMP:20260423T154853
CREATED:20250701T063138Z
LAST-MODIFIED:20250701T063138Z
UID:10003288-1225497600-1225497600@www.discoverhollywood.com
SUMMARY:Bruce Conner
DESCRIPTION:%3cp%3e%3cspan%3eWith A MOVIE %281958%29%2c Conner launched a lifelong celebration of moving images alongside his other artistic practices of collage%2c assemblage%2c drawing and photography. %3c/span%3e%3c/p%3e\n%3cp%3e%3cspan%3eExhibition opening thru 01/14/2017%3c/span%3e%3c/p%3eDesignHTMLWords: 27   Characters: 194
URL:https://www.discoverhollywood.com/event/bruce-conner/
LOCATION:California
END:VEVENT
BEGIN:VEVENT
DTSTART;TZID=Asia/Kolkata:20081030T000000
DTEND;TZID=Asia/Kolkata:20081030T000000
DTSTAMP:20260423T154853
CREATED:20250701T063138Z
LAST-MODIFIED:20250701T063138Z
UID:10003289-1225324800-1225324800@www.discoverhollywood.com
SUMMARY:Bruce Connor
DESCRIPTION:Crossroads 1976 and Works on Paper\n%3cbr%3eDesignHTMLWords: 6   Characters: 34
URL:https://www.discoverhollywood.com/event/bruce-connor/
LOCATION:California
END:VEVENT
BEGIN:VEVENT
DTSTART;TZID=Asia/Kolkata:20081028T000000
DTEND;TZID=Asia/Kolkata:20081028T000000
DTSTAMP:20260423T154853
CREATED:20250701T063139Z
LAST-MODIFIED:20250701T063139Z
UID:10003290-1225152000-1225152000@www.discoverhollywood.com
SUMMARY:Bruce Eichelberger and Mark Gleason
DESCRIPTION:%3cp class%3d%22MsoNormal%22%3eBruce Eichelberger presents Al Ateo and Mark Gleason presents Sleepless. %3ca href%3d%22http%3a//laluzdejesus.com/%22 target%3d%22_blank%22%3ewww.laluzdejesus.com%3c/a%3e%3c/p%3eDesignHTMLWords: 11   Characters: 90
URL:https://www.discoverhollywood.com/event/bruce-eichelberger-and-mark-gleason/
LOCATION:La Luz de Jesus Gallery\, 4633 Hollywood Blvd.\, Hollywood\, California
END:VEVENT
BEGIN:VEVENT
DTSTART;TZID=Asia/Kolkata:20081026T000000
DTEND;TZID=Asia/Kolkata:20081026T000000
DTSTAMP:20260423T154853
CREATED:20250701T063145Z
LAST-MODIFIED:20250701T063145Z
UID:10003291-1224979200-1224979200@www.discoverhollywood.com
SUMMARY:Bruce Eichelberger and Mark Gleason
DESCRIPTION:%3cp class%3d%22MsoNormal%22%3eBruce Eichelberger presents Al Ateo and Mark Gleason presents Sleepless. %3ca href%3d%22http%3a//laluzdejesus.com/%22 target%3d%22_blank%22%3ewww.laluzdejesus.com%3c/a%3e%3c/p%3eDesignHTMLWords: 11   Characters: 90
URL:https://www.discoverhollywood.com/event/bruce-eichelberger-and-mark-gleason-2/
LOCATION:La Luz de Jesus Gallery\, 4633 Hollywood Blvd.\, Hollywood\, California
END:VEVENT
BEGIN:VEVENT
DTSTART;TZID=Asia/Kolkata:20081024T000000
DTEND;TZID=Asia/Kolkata:20081024T000000
DTSTAMP:20260423T154853
CREATED:20250701T063145Z
LAST-MODIFIED:20250701T063145Z
UID:10003292-1224806400-1224806400@www.discoverhollywood.com
SUMMARY:Bruce Richards
DESCRIPTION:%3cb%3eBruce Richards%3a Future/Past%3c/b%3e offers a full view of Bruce Richard%27s works spanning several decades. His paintings – frequently in dialogue with related polychromed bronze sculptures – are created with meticulous clarity%2c taking on an otherworldly luminosity that catapults them into the surreal.%26nbsp%3bDesignHTMLWords: 40   Characters: 286
URL:https://www.discoverhollywood.com/event/bruce-richards/
LOCATION:Jack Rutberg Fine Arts\, 357 N. La Brea Ave.\, Hollywood\, California
END:VEVENT
BEGIN:VEVENT
DTSTART;TZID=Asia/Kolkata:20081022T000000
DTEND;TZID=Asia/Kolkata:20081022T000000
DTSTAMP:20260423T154853
CREATED:20250701T063145Z
LAST-MODIFIED:20250701T063145Z
UID:10003293-1224633600-1224633600@www.discoverhollywood.com
SUMMARY:Bruce Richards
DESCRIPTION:%3cb%3eBruce Richards%3a Future/Past%3c/b%3e offers a full view of Bruce Richard%27s works spanning several decades. His paintings – frequently in dialogue with related polychromed bronze sculptures – are created with meticulous clarity%2c taking on an otherworldly luminosity that catapults them into the surreal.%26nbsp%3bDesignHTMLWords: 40   Characters: 286
URL:https://www.discoverhollywood.com/event/bruce-richards-2/
LOCATION:Jack Rutberg Fine Arts\, 357 N. La Brea Ave.\, Hollywood\, California
END:VEVENT
BEGIN:VEVENT
DTSTART;TZID=Asia/Kolkata:20081020T000000
DTEND;TZID=Asia/Kolkata:20081020T000000
DTSTAMP:20260423T154853
CREATED:20250701T063145Z
LAST-MODIFIED:20250701T063145Z
UID:10003294-1224460800-1224460800@www.discoverhollywood.com
SUMMARY:Bruce White: Velvet Paintings For Your Inner Nerd
DESCRIPTION:For his first solo exhibit at the gallery%2c %22Velvet Paintings for Your Inner Nerd%2c%22 White gives more than 30 nerd-approved cult%2c horror and sci-fi icons the velvety touch%2c from Stars Wars and Star Trek characters to Pee-wee Herman and Will Ferrell as Ron Burgundy.DesignHTMLWords: 44   Characters: 253
URL:https://www.discoverhollywood.com/event/bruce-white-velvet-paintings-for-your-inner-nerd/
LOCATION:Gallery 1988\, 7020 Melrose Ave.\, Hollywood\, California
END:VEVENT
BEGIN:VEVENT
DTSTART;TZID=Asia/Kolkata:20081018T000000
DTEND;TZID=Asia/Kolkata:20081018T000000
DTSTAMP:20260423T154853
CREATED:20250701T063145Z
LAST-MODIFIED:20250701T063145Z
UID:10003295-1224288000-1224288000@www.discoverhollywood.com
SUMMARY:Bruised But Unbeaten: Montgomery Clift In Focus
DESCRIPTION:DesignHTMLWords: 0   Characters: 0
URL:https://www.discoverhollywood.com/event/bruised-but-unbeaten-montgomery-clift-in-focus/
LOCATION:Egyptian Theatre\, 6712 Hollywood Blvd.\, Hollywood\, California
END:VEVENT
BEGIN:VEVENT
DTSTART;TZID=Asia/Kolkata:20081016T000000
DTEND;TZID=Asia/Kolkata:20081016T000000
DTSTAMP:20260423T154853
CREATED:20250701T063156Z
LAST-MODIFIED:20250701T063156Z
UID:10003296-1224115200-1224115200@www.discoverhollywood.com
SUMMARY:Brujeria
DESCRIPTION:%3cbr%3eDesignHTMLWords: 0   Characters: 0
URL:https://www.discoverhollywood.com/event/brujeria/
LOCATION:The Roxy\, 9009 Sunset Blvd.\, Los Angeles\, California
END:VEVENT
BEGIN:VEVENT
DTSTART;TZID=Asia/Kolkata:20081014T000000
DTEND;TZID=Asia/Kolkata:20081014T000000
DTSTAMP:20260423T154853
CREATED:20250701T063156Z
LAST-MODIFIED:20250701T063156Z
UID:10003297-1223942400-1223942400@www.discoverhollywood.com
SUMMARY:Bruno Major
DESCRIPTION:%3ca href%3d%22https%3a//www.fondatheatre.com/events%22%3ehttps%3a//www.fondatheatre.com/events%3c/a%3eDesignHTMLWords: 1   Characters: 32
URL:https://www.discoverhollywood.com/event/bruno-major/
LOCATION:The Fonda\, 6126 Hollywood Blvd.\, Hollywood\, California
END:VEVENT
BEGIN:VEVENT
DTSTART;TZID=Asia/Kolkata:20081012T000000
DTEND;TZID=Asia/Kolkata:20081012T000000
DTSTAMP:20260423T154853
CREATED:20250701T063156Z
LAST-MODIFIED:20250701T063156Z
UID:10003298-1223769600-1223769600@www.discoverhollywood.com
SUMMARY:Bruno Mars
DESCRIPTION:DesignHTMLWords: 0   Characters: 0
URL:https://www.discoverhollywood.com/event/bruno-mars/
LOCATION:Hollywood Bowl\, 2301 N. Highland Ave.\, Hollywood\, California\, 90068.0
END:VEVENT
BEGIN:VEVENT
DTSTART;TZID=Asia/Kolkata:20081010T000000
DTEND;TZID=Asia/Kolkata:20081010T000000
DTSTAMP:20260423T154853
CREATED:20250701T063156Z
LAST-MODIFIED:20250701T063156Z
UID:10003299-1223596800-1223596800@www.discoverhollywood.com
SUMMARY:Bruns Collective with Kevin Baché
DESCRIPTION:%3ca href%3d%22https%3a//www.ticketweb.com/event/bruns-collective-with-kevin-bach-catalina-bar-grill-tickets/9700625%3fpl%3dcbg%26amp%3bedpPlParam%3d%253Fpl%253Dcbg%22%3ehttps%3a//www.ticketweb.com/event/bruns-collective-with-kevin-bach-catalina-bar-grill-tickets/9700625%3fpl%3dcbg%26amp%3bedpPlParam%3d%253Fpl%253Dcbg%3c/a%3eDesignHTMLWords: 1   Characters: 116
URL:https://www.discoverhollywood.com/event/bruns-collective-with-kevin-bache/
LOCATION:Catalina Jazz Club\, 6725 W. Sunset Blvd.\, Hollywood\, California\, 90028.0
END:VEVENT
BEGIN:VEVENT
DTSTART;TZID=Asia/Kolkata:20081008T000000
DTEND;TZID=Asia/Kolkata:20081008T000000
DTSTAMP:20260423T154853
CREATED:20250701T063157Z
LAST-MODIFIED:20250701T063157Z
UID:10003300-1223424000-1223424000@www.discoverhollywood.com
SUMMARY:Bryan Adams
DESCRIPTION:%3cbr%3eDesignHTMLWords: 0   Characters: 0
URL:https://www.discoverhollywood.com/event/bryan-adams/
LOCATION:Greek Theatre\, 2700 North Vermont Ave.\, Los Angeles\, California\, 90027.0
END:VEVENT
BEGIN:VEVENT
DTSTART;TZID=Asia/Kolkata:20081006T000000
DTEND;TZID=Asia/Kolkata:20081006T000000
DTSTAMP:20260423T154853
CREATED:20250701T063202Z
LAST-MODIFIED:20250701T063202Z
UID:10003301-1223251200-1223251200@www.discoverhollywood.com
SUMMARY:Bryan Ferry
DESCRIPTION:DesignHTMLWords: 0   Characters: 0
URL:https://www.discoverhollywood.com/event/bryan-ferry/
LOCATION:Greek Theatre\, 2700 North Vermont Ave.\, Los Angeles\, California\, 90027.0
END:VEVENT
BEGIN:VEVENT
DTSTART;TZID=Asia/Kolkata:20081004T000000
DTEND;TZID=Asia/Kolkata:20081004T000000
DTSTAMP:20260423T154853
CREATED:20250701T063202Z
LAST-MODIFIED:20250701T063202Z
UID:10003302-1223078400-1223078400@www.discoverhollywood.com
SUMMARY:Bryan Ferry
DESCRIPTION:%3ca href%3d%22https%3a//www.lagreektheatre.com/events/detail/bryan-ferry%22 target%3d%22_blank%22%3ehttps%3a//www.lagreektheatre.com/events/detail/bryan-ferry%3c/a%3eDesignHTMLWords: 1   Characters: 52
URL:https://www.discoverhollywood.com/event/bryan-ferry-2/
LOCATION:Greek Theatre\, 2700 North Vermont Ave.\, Los Angeles\, California\, 90027.0
END:VEVENT
BEGIN:VEVENT
DTSTART;TZID=Asia/Kolkata:20081002T000000
DTEND;TZID=Asia/Kolkata:20081002T000000
DTSTAMP:20260423T154853
CREATED:20250701T063202Z
LAST-MODIFIED:20250701T063202Z
UID:10003303-1222905600-1222905600@www.discoverhollywood.com
SUMMARY:Bryan Guardado
DESCRIPTION:DesignHTMLWords: 0   Characters: 0
URL:https://www.discoverhollywood.com/event/bryan-guardado/
LOCATION:Genghis Cohen\, 7358 Beverly Blvd. http://www.ticketweb.com/t3/sale/SaleEventDetail?dispatch=loadSelectionData&eventId=7034415\, Hollywood\, California
END:VEVENT
BEGIN:VEVENT
DTSTART;TZID=Asia/Kolkata:20080930T000000
DTEND;TZID=Asia/Kolkata:20080930T000000
DTSTAMP:20260423T154853
CREATED:20250701T063203Z
LAST-MODIFIED:20250701T063203Z
UID:10003304-1222732800-1222732800@www.discoverhollywood.com
SUMMARY:Bryce Ryness
DESCRIPTION:DesignHTMLWords: 0   Characters: 0
URL:https://www.discoverhollywood.com/event/bryce-ryness/
LOCATION:Barre vt\, 1714 N. Vermont Avenue\, Hollywood\, California
END:VEVENT
BEGIN:VEVENT
DTSTART;TZID=Asia/Kolkata:20080928T000000
DTEND;TZID=Asia/Kolkata:20080928T000000
DTSTAMP:20260423T154853
CREATED:20250701T063203Z
LAST-MODIFIED:20250701T063203Z
UID:10003305-1222560000-1222560000@www.discoverhollywood.com
SUMMARY:Bryce Vine
DESCRIPTION:%3ca href%3d%22https%3a//www.fondatheatre.com/events%22%3ehttps%3a//www.fondatheatre.com/events%3c/a%3eDesignHTMLWords: 1   Characters: 32
URL:https://www.discoverhollywood.com/event/bryce-vine/
LOCATION:The Fonda\, 6126 Hollywood Blvd.\, Hollywood\, California
END:VEVENT
BEGIN:VEVENT
DTSTART;TZID=Asia/Kolkata:20080926T000000
DTEND;TZID=Asia/Kolkata:20080926T000000
DTSTAMP:20260423T154853
CREATED:20250701T063214Z
LAST-MODIFIED:20250701T063214Z
UID:10003306-1222387200-1222387200@www.discoverhollywood.com
SUMMARY:Bryce Vine w/Travis Thompson
DESCRIPTION:%3ca href%3d%22https%3a//www.troubadour.com/%22 target%3d%22_blank%22%3ehttps%3a//www.troubadour.com/%3c/a%3eDesignHTMLWords: 1   Characters: 24
URL:https://www.discoverhollywood.com/event/bryce-vine-w-travis-thompson/
LOCATION:Troubadour\, 9081 Santa Monica Blvd.\, Hollywood\, California
END:VEVENT
BEGIN:VEVENT
DTSTART;TZID=Asia/Kolkata:20080924T000000
DTEND;TZID=Asia/Kolkata:20080924T000000
DTSTAMP:20260423T154853
CREATED:20250701T063214Z
LAST-MODIFIED:20250701T063214Z
UID:10003307-1222214400-1222214400@www.discoverhollywood.com
SUMMARY:Bubbly Brunch & Benoit
DESCRIPTION:DesignHTMLWords: 0   Characters: 0
URL:https://www.discoverhollywood.com/event/bubbly-brunch-benoit/
LOCATION:Catalina’s Bar & Grill\, Select
END:VEVENT
BEGIN:VEVENT
DTSTART;TZID=Asia/Kolkata:20080922T000000
DTEND;TZID=Asia/Kolkata:20080922T000000
DTSTAMP:20260423T154853
CREATED:20250701T063214Z
LAST-MODIFIED:20250701T063214Z
UID:10003308-1222041600-1222041600@www.discoverhollywood.com
SUMMARY:Bubbly\, Brunch\, and Benoit: A Sunday Jazz Brunch with David Benoit
DESCRIPTION:DesignHTMLWords: 0   Characters: 0
URL:https://www.discoverhollywood.com/event/bubbly-brunch-and-benoit-a-sunday-jazz-brunch-with-david-benoit/
LOCATION:Catalina’s Bar & Grill\, Select
END:VEVENT
END:VCALENDAR