BEGIN:VCALENDAR
VERSION:2.0
PRODID:-//Discover Hollywood Magazine - ECPv6.15.20//NONSGML v1.0//EN
CALSCALE:GREGORIAN
METHOD:PUBLISH
X-WR-CALNAME:Discover Hollywood Magazine
X-ORIGINAL-URL:https://www.discoverhollywood.com
X-WR-CALDESC:Events for Discover Hollywood Magazine
REFRESH-INTERVAL;VALUE=DURATION:PT1H
X-Robots-Tag:noindex
X-PUBLISHED-TTL:PT1H
BEGIN:VTIMEZONE
TZID:Asia/Kolkata
BEGIN:STANDARD
TZOFFSETFROM:+0530
TZOFFSETTO:+0530
TZNAME:IST
DTSTART:20070101T000000
END:STANDARD
END:VTIMEZONE
BEGIN:VEVENT
DTSTART;TZID=Asia/Kolkata:20081002T000000
DTEND;TZID=Asia/Kolkata:20081002T000000
DTSTAMP:20260423T204210
CREATED:20250701T063202Z
LAST-MODIFIED:20250701T063202Z
UID:10003303-1222905600-1222905600@www.discoverhollywood.com
SUMMARY:Bryan Guardado
DESCRIPTION:DesignHTMLWords: 0   Characters: 0
URL:https://www.discoverhollywood.com/event/bryan-guardado/
LOCATION:Genghis Cohen\, 7358 Beverly Blvd. http://www.ticketweb.com/t3/sale/SaleEventDetail?dispatch=loadSelectionData&eventId=7034415\, Hollywood\, California
END:VEVENT
BEGIN:VEVENT
DTSTART;TZID=Asia/Kolkata:20080930T000000
DTEND;TZID=Asia/Kolkata:20080930T000000
DTSTAMP:20260423T204210
CREATED:20250701T063203Z
LAST-MODIFIED:20250701T063203Z
UID:10003304-1222732800-1222732800@www.discoverhollywood.com
SUMMARY:Bryce Ryness
DESCRIPTION:DesignHTMLWords: 0   Characters: 0
URL:https://www.discoverhollywood.com/event/bryce-ryness/
LOCATION:Barre vt\, 1714 N. Vermont Avenue\, Hollywood\, California
END:VEVENT
BEGIN:VEVENT
DTSTART;TZID=Asia/Kolkata:20080928T000000
DTEND;TZID=Asia/Kolkata:20080928T000000
DTSTAMP:20260423T204210
CREATED:20250701T063203Z
LAST-MODIFIED:20250701T063203Z
UID:10003305-1222560000-1222560000@www.discoverhollywood.com
SUMMARY:Bryce Vine
DESCRIPTION:%3ca href%3d%22https%3a//www.fondatheatre.com/events%22%3ehttps%3a//www.fondatheatre.com/events%3c/a%3eDesignHTMLWords: 1   Characters: 32
URL:https://www.discoverhollywood.com/event/bryce-vine/
LOCATION:The Fonda\, 6126 Hollywood Blvd.\, Hollywood\, California
END:VEVENT
BEGIN:VEVENT
DTSTART;TZID=Asia/Kolkata:20080926T000000
DTEND;TZID=Asia/Kolkata:20080926T000000
DTSTAMP:20260423T204210
CREATED:20250701T063214Z
LAST-MODIFIED:20250701T063214Z
UID:10003306-1222387200-1222387200@www.discoverhollywood.com
SUMMARY:Bryce Vine w/Travis Thompson
DESCRIPTION:%3ca href%3d%22https%3a//www.troubadour.com/%22 target%3d%22_blank%22%3ehttps%3a//www.troubadour.com/%3c/a%3eDesignHTMLWords: 1   Characters: 24
URL:https://www.discoverhollywood.com/event/bryce-vine-w-travis-thompson/
LOCATION:Troubadour\, 9081 Santa Monica Blvd.\, Hollywood\, California
END:VEVENT
BEGIN:VEVENT
DTSTART;TZID=Asia/Kolkata:20080924T000000
DTEND;TZID=Asia/Kolkata:20080924T000000
DTSTAMP:20260423T204210
CREATED:20250701T063214Z
LAST-MODIFIED:20250701T063214Z
UID:10003307-1222214400-1222214400@www.discoverhollywood.com
SUMMARY:Bubbly Brunch & Benoit
DESCRIPTION:DesignHTMLWords: 0   Characters: 0
URL:https://www.discoverhollywood.com/event/bubbly-brunch-benoit/
LOCATION:Catalina’s Bar & Grill\, Select
END:VEVENT
BEGIN:VEVENT
DTSTART;TZID=Asia/Kolkata:20080922T000000
DTEND;TZID=Asia/Kolkata:20080922T000000
DTSTAMP:20260423T204210
CREATED:20250701T063214Z
LAST-MODIFIED:20250701T063214Z
UID:10003308-1222041600-1222041600@www.discoverhollywood.com
SUMMARY:Bubbly\, Brunch\, and Benoit: A Sunday Jazz Brunch with David Benoit
DESCRIPTION:DesignHTMLWords: 0   Characters: 0
URL:https://www.discoverhollywood.com/event/bubbly-brunch-and-benoit-a-sunday-jazz-brunch-with-david-benoit/
LOCATION:Catalina’s Bar & Grill\, Select
END:VEVENT
BEGIN:VEVENT
DTSTART;TZID=Asia/Kolkata:20080920T000000
DTEND;TZID=Asia/Kolkata:20080920T000000
DTSTAMP:20260423T204210
CREATED:20250701T063214Z
LAST-MODIFIED:20250701T063214Z
UID:10003309-1221868800-1221868800@www.discoverhollywood.com
SUMMARY:Buck
DESCRIPTION:DesignHTMLWords: 0   Characters: 0
URL:https://www.discoverhollywood.com/event/buck/
LOCATION:California
END:VEVENT
BEGIN:VEVENT
DTSTART;TZID=Asia/Kolkata:20080918T000000
DTEND;TZID=Asia/Kolkata:20080918T000000
DTSTAMP:20260423T204210
CREATED:20250701T063214Z
LAST-MODIFIED:20250701T063214Z
UID:10003310-1221696000-1221696000@www.discoverhollywood.com
SUMMARY:Buck 65
DESCRIPTION:Richard Terfry%2c better known as Buck 65%2c is a Canadian hip hop artist%2c MC and turntablist. However he has recently moved away from hip hop in a stylistic context%2c and is moving closer to blues%2c country%2c rock%2c folk and avant-garde genres. That said%2c his new direction is seemingly still underpinned by an extensive background in abstract hip hop%2c his trademark rhyme-phrasing and lyrical aspiration evident in the altered timbre vocal delivery displayed in his more recent releases.\n%3cbr%3eDesignHTMLWords: 77   Characters: 467
URL:https://www.discoverhollywood.com/event/buck-65/
LOCATION:The Roxy\, 9009 Sunset Blvd.\, Los Angeles\, California
END:VEVENT
BEGIN:VEVENT
DTSTART;TZID=Asia/Kolkata:20080916T000000
DTEND;TZID=Asia/Kolkata:20080916T000000
DTSTAMP:20260423T204210
CREATED:20250701T063220Z
LAST-MODIFIED:20250701T063220Z
UID:10003311-1221523200-1221523200@www.discoverhollywood.com
SUMMARY:Buck-O-Nine
DESCRIPTION:DesignHTMLWords: 0   Characters: 0
URL:https://www.discoverhollywood.com/event/buck-o-nine/
LOCATION:The Roxy\, 9009 Sunset Blvd.\, Los Angeles\, California
END:VEVENT
BEGIN:VEVENT
DTSTART;TZID=Asia/Kolkata:20080914T000000
DTEND;TZID=Asia/Kolkata:20080914T000000
DTSTAMP:20260423T204210
CREATED:20250701T063220Z
LAST-MODIFIED:20250701T063220Z
UID:10003312-1221350400-1221350400@www.discoverhollywood.com
SUMMARY:Buckcherry
DESCRIPTION:%3cbr%3eDesignHTMLWords: 0   Characters: 0
URL:https://www.discoverhollywood.com/event/buckcherry/
LOCATION:Whisky A-Go-Go\, 8901 Sunset Blvd\, Los Angeles\, California
END:VEVENT
BEGIN:VEVENT
DTSTART;TZID=Asia/Kolkata:20080912T000000
DTEND;TZID=Asia/Kolkata:20080912T000000
DTSTAMP:20260423T204210
CREATED:20250701T063220Z
LAST-MODIFIED:20250701T063220Z
UID:10003313-1221177600-1221177600@www.discoverhollywood.com
SUMMARY:Buddy Colette's Big Band
DESCRIPTION:DesignHTMLWords: 0   Characters: 0
URL:https://www.discoverhollywood.com/event/buddy-colettes-big-band/
LOCATION:Catalina’s Bar & Grill\, Select
END:VEVENT
BEGIN:VEVENT
DTSTART;TZID=Asia/Kolkata:20080910T000000
DTEND;TZID=Asia/Kolkata:20080910T000000
DTSTAMP:20260423T204210
CREATED:20250701T063220Z
LAST-MODIFIED:20250701T063220Z
UID:10003314-1221004800-1221004800@www.discoverhollywood.com
SUMMARY:Buddy Collette Birthday Celebration
DESCRIPTION:DesignHTMLWords: 0   Characters: 0
URL:https://www.discoverhollywood.com/event/buddy-collette-birthday-celebration/
LOCATION:Catalina Jazz Club\, 6725 W. Sunset Blvd.\, Hollywood\, California\, 90028.0
END:VEVENT
BEGIN:VEVENT
DTSTART;TZID=Asia/Kolkata:20080908T000000
DTEND;TZID=Asia/Kolkata:20080908T000000
DTSTAMP:20260423T204210
CREATED:20250701T063220Z
LAST-MODIFIED:20250701T063220Z
UID:10003315-1220832000-1220832000@www.discoverhollywood.com
SUMMARY:Buddy Collette Birthday Celebration!
DESCRIPTION:DesignHTMLWords: 0   Characters: 0
URL:https://www.discoverhollywood.com/event/buddy-collette-birthday-celebration-2/
LOCATION:Catalina’s Bar & Grill\, Select
END:VEVENT
BEGIN:VEVENT
DTSTART;TZID=Asia/Kolkata:20080906T000000
DTEND;TZID=Asia/Kolkata:20080906T000000
DTSTAMP:20260423T204210
CREATED:20250701T063221Z
LAST-MODIFIED:20250701T063221Z
UID:10003316-1220659200-1220659200@www.discoverhollywood.com
SUMMARY:Buddy Guy
DESCRIPTION:%3cdiv%3e\n	%3cspan%3eChristone %22Kingfish%22 Ingram kicks off the evening.%26nbsp%3b%3c/span%3e\n	%3cspan%3eEight-time Grammy winner and a guitar slinger whose slick take on the rough-and-ready style of the Windy City has made him one of the most beloved blues musicians of all%26nbsp%3b%3c/span%3e\n	%3cspan%3etime.%3c/span%3e\n%3c/div%3e\n%3cdiv%3e\n	%3cbr%3e\n%3c/div%3e\n%3cdiv%3ehttps%3a//www.hollywoodbowl.com/events%3c/div%3eDesignHTMLWords: 39   Characters: 257
URL:https://www.discoverhollywood.com/event/buddy-guy/
LOCATION:Hollywood Bowl\, 2301 N. Highland Ave.\, Hollywood\, California\, 90068.0
END:VEVENT
BEGIN:VEVENT
DTSTART;TZID=Asia/Kolkata:20080904T000000
DTEND;TZID=Asia/Kolkata:20080904T000000
DTSTAMP:20260423T204210
CREATED:20250701T063221Z
LAST-MODIFIED:20250701T063221Z
UID:10003317-1220486400-1220486400@www.discoverhollywood.com
SUMMARY:Buddy Guy & Funky Meters
DESCRIPTION:DesignHTMLWords: 0   Characters: 0
URL:https://www.discoverhollywood.com/event/buddy-guy-funky-meters/
LOCATION:Hollywood Bowl\, 2301 N. Highland Ave.\, Hollywood\, California\, 90068.0
END:VEVENT
BEGIN:VEVENT
DTSTART;TZID=Asia/Kolkata:20080902T000000
DTEND;TZID=Asia/Kolkata:20080902T000000
DTSTAMP:20260423T204210
CREATED:20250701T063221Z
LAST-MODIFIED:20250701T063221Z
UID:10003318-1220313600-1220313600@www.discoverhollywood.com
SUMMARY:Buddy Guy & Jonny Lang
DESCRIPTION:DesignHTMLWords: 0   Characters: 0
URL:https://www.discoverhollywood.com/event/buddy-guy-jonny-lang/
LOCATION:Greek Theatre\, 2700 North Vermont Ave.\, Los Angeles\, California\, 90027.0
END:VEVENT
BEGIN:VEVENT
DTSTART;TZID=Asia/Kolkata:20080831T000000
DTEND;TZID=Asia/Kolkata:20080831T000000
DTSTAMP:20260423T204210
CREATED:20250701T063221Z
LAST-MODIFIED:20250701T063221Z
UID:10003319-1220140800-1220140800@www.discoverhollywood.com
SUMMARY:Buddy Guy\, Dr. John & The Lower 911\, James Cotton
DESCRIPTION:DesignHTMLWords: 0   Characters: 0
URL:https://www.discoverhollywood.com/event/buddy-guy-dr-john-the-lower-911-james-cotton/
LOCATION:Hollywood Bowl\, 2301 N. Highland Ave.\, Hollywood\, California\, 90068.0
END:VEVENT
BEGIN:VEVENT
DTSTART;TZID=Asia/Kolkata:20080829T000000
DTEND;TZID=Asia/Kolkata:20080829T000000
DTSTAMP:20260423T204210
CREATED:20250701T063221Z
LAST-MODIFIED:20250701T063221Z
UID:10003320-1219968000-1219968000@www.discoverhollywood.com
SUMMARY:Buddy Guy\, Jimmie Vaughn\, and Charlie Musselwhite
DESCRIPTION:%3ca href%3d%22https%3a//www.hollywoodbowl.com/%22 target%3d%22_blank%22%3ehttps%3a//www.hollywoodbowl.com/%3c/a%3eDesignHTMLWords: 1   Characters: 27
URL:https://www.discoverhollywood.com/event/buddy-guy-jimmie-vaughn-and-charlie-musselwhite/
LOCATION:Hollywood Bowl\, 2301 N. Highland Ave.\, Hollywood\, California\, 90068.0
END:VEVENT
BEGIN:VEVENT
DTSTART;TZID=Asia/Kolkata:20080827T000000
DTEND;TZID=Asia/Kolkata:20080827T000000
DTSTAMP:20260423T204210
CREATED:20250701T063231Z
LAST-MODIFIED:20250701T063231Z
UID:10003321-1219795200-1219795200@www.discoverhollywood.com
SUMMARY:Buddy Rich
DESCRIPTION:%3ca href%3d%22http%3a//catalinajazzclub.com/calendar.htm%22%3ehttp%3a//catalinajazzclub.com/calendar.htm%3c/a%3eDesignHTMLWords: 1   Characters: 37
URL:https://www.discoverhollywood.com/event/buddy-rich/
LOCATION:Catalina Jazz Club\, 6725 W. Sunset Blvd.\, Hollywood\, California\, 90028.0
END:VEVENT
BEGIN:VEVENT
DTSTART;TZID=Asia/Kolkata:20080825T000000
DTEND;TZID=Asia/Kolkata:20080825T000000
DTSTAMP:20260423T204210
CREATED:20250701T063231Z
LAST-MODIFIED:20250701T063231Z
UID:10003322-1219622400-1219622400@www.discoverhollywood.com
SUMMARY:Budweiser Superfest - Anthony Hamilton\, Kem\, Jaheim
DESCRIPTION:DesignHTMLWords: 0   Characters: 0
URL:https://www.discoverhollywood.com/event/budweiser-superfest-anthony-hamilton-kem-jaheim/
LOCATION:Gibson Amphitheatre\, Select
END:VEVENT
BEGIN:VEVENT
DTSTART;TZID=Asia/Kolkata:20080823T000000
DTEND;TZID=Asia/Kolkata:20080823T000000
DTSTAMP:20260423T204210
CREATED:20250701T063231Z
LAST-MODIFIED:20250701T063231Z
UID:10003323-1219449600-1219449600@www.discoverhollywood.com
SUMMARY:Buena Noche
DESCRIPTION:%3cbr%3eDesignHTMLWords: 0   Characters: 0
URL:https://www.discoverhollywood.com/event/buena-noche/
LOCATION:California
END:VEVENT
BEGIN:VEVENT
DTSTART;TZID=Asia/Kolkata:20080821T000000
DTEND;TZID=Asia/Kolkata:20080821T000000
DTSTAMP:20260423T204210
CREATED:20250701T063231Z
LAST-MODIFIED:20250701T063231Z
UID:10003324-1219276800-1219276800@www.discoverhollywood.com
SUMMARY:Buena Vista Social Club Adios Tour
DESCRIPTION:%3cbr%3eDesignHTMLWords: 0   Characters: 0
URL:https://www.discoverhollywood.com/event/buena-vista-social-club-adios-tour/
LOCATION:Hollywood Bowl\, 2301 N. Highland Ave.\, Hollywood\, California\, 90068.0
END:VEVENT
BEGIN:VEVENT
DTSTART;TZID=Asia/Kolkata:20080819T000000
DTEND;TZID=Asia/Kolkata:20080819T000000
DTSTAMP:20260423T204210
CREATED:20250701T063232Z
LAST-MODIFIED:20250701T063232Z
UID:10003325-1219104000-1219104000@www.discoverhollywood.com
SUMMARY:Buffalo Hole
DESCRIPTION:DesignHTMLWords: 0   Characters: 0
URL:https://www.discoverhollywood.com/event/buffalo-hole/
LOCATION:California
END:VEVENT
BEGIN:VEVENT
DTSTART;TZID=Asia/Kolkata:20080817T000000
DTEND;TZID=Asia/Kolkata:20080817T000000
DTSTAMP:20260423T204210
CREATED:20250701T063237Z
LAST-MODIFIED:20250701T063237Z
UID:10003326-1218931200-1218931200@www.discoverhollywood.com
SUMMARY:Bugaboo & The Silent One
DESCRIPTION:Chris Bender Presents%3a Marja-Lewis Ryan’s world premier drama about two female inmates faced with life in prison.DesignHTMLWords: 17   Characters: 110
URL:https://www.discoverhollywood.com/event/bugaboo-the-silent-one/
LOCATION:Lounge Theatre\, 6201 Santa Monica Blvd. https://www.plays411.com/donna or by calling (323) 206-6427\, Hollywood\, California
END:VEVENT
BEGIN:VEVENT
DTSTART;TZID=Asia/Kolkata:20080815T000000
DTEND;TZID=Asia/Kolkata:20080815T000000
DTSTAMP:20260423T204210
CREATED:20250701T063237Z
LAST-MODIFIED:20250701T063237Z
UID:10003327-1218758400-1218758400@www.discoverhollywood.com
SUMMARY:Bugs Bunny at the Symphony II
DESCRIPTION:DesignHTMLWords: 0   Characters: 0
URL:https://www.discoverhollywood.com/event/bugs-bunny-at-the-symphony-ii/
LOCATION:Hollywood Bowl\, 2301 N. Highland Ave.\, Hollywood\, California\, 90068.0
END:VEVENT
BEGIN:VEVENT
DTSTART;TZID=Asia/Kolkata:20080813T000000
DTEND;TZID=Asia/Kolkata:20080813T000000
DTSTAMP:20260423T204210
CREATED:20250701T063237Z
LAST-MODIFIED:20250701T063237Z
UID:10003328-1218585600-1218585600@www.discoverhollywood.com
SUMMARY:Bugsy Malone
DESCRIPTION:%3ca href%3d%22http%3a//thenewbev.com%22 target%3d%22_blank%22%3ehttp%3a//thenewbev.com%3c/a%3eDesignHTMLWords: 1   Characters: 18
URL:https://www.discoverhollywood.com/event/bugsy-malone/
LOCATION:New Beverly Cinema\, 7165 Beverly Blvd.\, Hollywood\, California
END:VEVENT
BEGIN:VEVENT
DTSTART;TZID=Asia/Kolkata:20080811T000000
DTEND;TZID=Asia/Kolkata:20080811T000000
DTSTAMP:20260423T204210
CREATED:20250701T063237Z
LAST-MODIFIED:20250701T063237Z
UID:10003329-1218412800-1218412800@www.discoverhollywood.com
SUMMARY:Building the Wall
DESCRIPTION:It%27s the very near future%2c and the Trump administration has carried out his campaign promise to round up and detain millions of immigrants. Now%2c a writer interviews the supervisor of a private prison as he awaits sentencing for carrying out the federal policy that has escalated into the unimaginable.\n%3cbr%3eDesignHTMLWords: 49   Characters: 296
URL:https://www.discoverhollywood.com/event/building-the-wall/
LOCATION:Fountain Theatre\, 5060 Fountain Ave. (323) 663-1525 or www.FountainTheatre.com\, Hollywood\, California
END:VEVENT
BEGIN:VEVENT
DTSTART;TZID=Asia/Kolkata:20080809T000000
DTEND;TZID=Asia/Kolkata:20080809T000000
DTSTAMP:20260423T204210
CREATED:20250701T063237Z
LAST-MODIFIED:20250701T063237Z
UID:10003330-1218240000-1218240000@www.discoverhollywood.com
SUMMARY:Built to Spill
DESCRIPTION:DesignHTMLWords: 0   Characters: 0
URL:https://www.discoverhollywood.com/event/built-to-spill/
LOCATION:The Roxy\, 9009 Sunset Blvd.\, Los Angeles\, California
END:VEVENT
BEGIN:VEVENT
DTSTART;TZID=Asia/Kolkata:20080807T000000
DTEND;TZID=Asia/Kolkata:20080807T000000
DTSTAMP:20260423T204210
CREATED:20250701T063238Z
LAST-MODIFIED:20250701T063238Z
UID:10003331-1218067200-1218067200@www.discoverhollywood.com
SUMMARY:Built To Spill + Slam Dunk
DESCRIPTION:%3cbr%3eDesignHTMLWords: 0   Characters: 0
URL:https://www.discoverhollywood.com/event/built-to-spill-slam-dunk/
LOCATION:The Roxy\, 9009 Sunset Blvd.\, Los Angeles\, California
END:VEVENT
BEGIN:VEVENT
DTSTART;TZID=Asia/Kolkata:20080805T000000
DTEND;TZID=Asia/Kolkata:20080805T000000
DTSTAMP:20260423T204210
CREATED:20250701T063238Z
LAST-MODIFIED:20250701T063238Z
UID:10003332-1217894400-1217894400@www.discoverhollywood.com
SUMMARY:Built To Spill - Keep It Like A Secret Tour
DESCRIPTION:%3ca href%3d%22https%3a//www.troubadour.com/event/1839772-built-spill-keep-it-like-los-angeles/%22%3ehttps%3a//www.troubadour.com/event/1839772-built-spill-keep-it-like-los-angeles/%3c/a%3eDesignHTMLWords: 1   Characters: 68
URL:https://www.discoverhollywood.com/event/built-to-spill-keep-it-like-a-secret-tour/
LOCATION:Troubadour\, 9081 Santa Monica Blvd.\, Hollywood\, California
END:VEVENT
END:VCALENDAR