BEGIN:VCALENDAR
VERSION:2.0
PRODID:-//Discover Hollywood Magazine - ECPv6.15.20//NONSGML v1.0//EN
CALSCALE:GREGORIAN
METHOD:PUBLISH
X-WR-CALNAME:Discover Hollywood Magazine
X-ORIGINAL-URL:https://www.discoverhollywood.com
X-WR-CALDESC:Events for Discover Hollywood Magazine
REFRESH-INTERVAL;VALUE=DURATION:PT1H
X-Robots-Tag:noindex
X-PUBLISHED-TTL:PT1H
BEGIN:VTIMEZONE
TZID:Asia/Kolkata
BEGIN:STANDARD
TZOFFSETFROM:+0530
TZOFFSETTO:+0530
TZNAME:IST
DTSTART:20070101T000000
END:STANDARD
END:VTIMEZONE
BEGIN:VEVENT
DTSTART;TZID=Asia/Kolkata:20080626T000000
DTEND;TZID=Asia/Kolkata:20080626T000000
DTSTAMP:20260424T071635
CREATED:20250701T063307Z
LAST-MODIFIED:20250701T063307Z
UID:10003352-1214438400-1214438400@www.discoverhollywood.com
SUMMARY:BurlyQ Moon
DESCRIPTION:DesignHTMLWords: 0   Characters: 0
URL:https://www.discoverhollywood.com/event/burlyq-moon/
LOCATION:Studio/Stage Theatre\, 520 N. Western\, Hollywood\, California
END:VEVENT
BEGIN:VEVENT
DTSTART;TZID=Asia/Kolkata:20080624T000000
DTEND;TZID=Asia/Kolkata:20080624T000000
DTSTAMP:20260424T071635
CREATED:20250701T063307Z
LAST-MODIFIED:20250701T063307Z
UID:10003353-1214265600-1214265600@www.discoverhollywood.com
SUMMARY:Burn The Floor
DESCRIPTION:DesignHTMLWords: 0   Characters: 0
URL:https://www.discoverhollywood.com/event/burn-the-floor/
LOCATION:Hollywood Pantages Theatre\, 6233 Hollywood Blvd. Wayne McWorter (213)365-3500\, Hollywood\, CA\, 90028.0
END:VEVENT
BEGIN:VEVENT
DTSTART;TZID=Asia/Kolkata:20080622T000000
DTEND;TZID=Asia/Kolkata:20080622T000000
DTSTAMP:20260424T071635
CREATED:20250701T063308Z
LAST-MODIFIED:20250701T063308Z
UID:10003354-1214092800-1214092800@www.discoverhollywood.com
SUMMARY:Burna Boy
DESCRIPTION:DesignHTMLWords: 0   Characters: 0
URL:https://www.discoverhollywood.com/event/burna-boy/
LOCATION:Hollywood Bowl\, 2301 N. Highland Ave.\, Hollywood\, California\, 90068.0
END:VEVENT
BEGIN:VEVENT
DTSTART;TZID=Asia/Kolkata:20080620T000000
DTEND;TZID=Asia/Kolkata:20080620T000000
DTSTAMP:20260424T071635
CREATED:20250701T063308Z
LAST-MODIFIED:20250701T063308Z
UID:10003355-1213920000-1213920000@www.discoverhollywood.com
SUMMARY:Burners
DESCRIPTION:%3cb%3eThe not-so-distant future. The privileged few live inside a high-tech fortified megacity while the majority struggles for survival in massive polluted slums. Liv arrives in a junk depot in a war-torn industrial zone seeking Nix%2c a smuggler who can get her past the barricades and into the restricted megacity. Both have hidden agendas%2c and when drone bombs trap them inside the depot and their true identities are revealed%2c Liv and Nix are plunged into a violent conflict that takes on many levels. %3c/b%3eDesignHTMLWords: 82   Characters: 487
URL:https://www.discoverhollywood.com/event/burners/
LOCATION:Atwater Village Theatre\, 3269 Casitas Ave 310-307-3753; www.EchoTheaterCompany.com\, Los Angeles\, California\, 90039.0
END:VEVENT
BEGIN:VEVENT
DTSTART;TZID=Asia/Kolkata:20080618T000000
DTEND;TZID=Asia/Kolkata:20080618T000000
DTSTAMP:20260424T071635
CREATED:20250701T063312Z
LAST-MODIFIED:20250701T063312Z
UID:10003356-1213747200-1213747200@www.discoverhollywood.com
SUMMARY:Burnt at the Steak (A Musical Comedy)
DESCRIPTION:%3cbr%3eDesignHTMLWords: 0   Characters: 0
URL:https://www.discoverhollywood.com/event/burnt-at-the-steak-a-musical-comedy/
LOCATION:Lounge Theatre\, 6201 Santa Monica Blvd. https://www.plays411.com/donna or by calling (323) 206-6427\, Hollywood\, California
END:VEVENT
BEGIN:VEVENT
DTSTART;TZID=Asia/Kolkata:20080616T000000
DTEND;TZID=Asia/Kolkata:20080616T000000
DTSTAMP:20260424T071635
CREATED:20250701T063312Z
LAST-MODIFIED:20250701T063312Z
UID:10003357-1213574400-1213574400@www.discoverhollywood.com
SUMMARY:Burq Off!
DESCRIPTION:%3cbr%3eDesignHTMLWords: 0   Characters: 0
URL:https://www.discoverhollywood.com/event/burq-off/
LOCATION:California
END:VEVENT
BEGIN:VEVENT
DTSTART;TZID=Asia/Kolkata:20080614T000000
DTEND;TZID=Asia/Kolkata:20080614T000000
DTSTAMP:20260424T071635
CREATED:20250701T063312Z
LAST-MODIFIED:20250701T063312Z
UID:10003358-1213401600-1213401600@www.discoverhollywood.com
SUMMARY:Burton
DESCRIPTION:DesignHTMLWords: 0   Characters: 0
URL:https://www.discoverhollywood.com/event/burton/
LOCATION:California
END:VEVENT
BEGIN:VEVENT
DTSTART;TZID=Asia/Kolkata:20080612T000000
DTEND;TZID=Asia/Kolkata:20080612T000000
DTSTAMP:20260424T071635
CREATED:20250701T063312Z
LAST-MODIFIED:20250701T063312Z
UID:10003359-1213228800-1213228800@www.discoverhollywood.com
SUMMARY:Burton
DESCRIPTION:DesignHTMLWords: 0   Characters: 0
URL:https://www.discoverhollywood.com/event/burton-2/
LOCATION:Theatre of NOTE\, 1517 N. Cahuenga Blvd\, Los Angeles\, California
END:VEVENT
BEGIN:VEVENT
DTSTART;TZID=Asia/Kolkata:20080610T000000
DTEND;TZID=Asia/Kolkata:20080610T000000
DTSTAMP:20260424T071635
CREATED:20250701T063312Z
LAST-MODIFIED:20250701T063312Z
UID:10003360-1213056000-1213056000@www.discoverhollywood.com
SUMMARY:Burton
DESCRIPTION:DesignHTMLWords: 0   Characters: 0
URL:https://www.discoverhollywood.com/event/burton-3/
LOCATION:Theatre Asylum\, 6320 Santa Monica Blvd.\, Los Angeles\, California
END:VEVENT
BEGIN:VEVENT
DTSTART;TZID=Asia/Kolkata:20080608T000000
DTEND;TZID=Asia/Kolkata:20080608T000000
DTSTAMP:20260424T071635
CREATED:20250701T063325Z
LAST-MODIFIED:20250701T063325Z
UID:10003361-1212883200-1212883200@www.discoverhollywood.com
SUMMARY:Burton
DESCRIPTION:DesignHTMLWords: 0   Characters: 0
URL:https://www.discoverhollywood.com/event/burton-4/
LOCATION:Stella Adler Theatre\, 6773 Hollywood Blvd\, Los Angeles\, California
END:VEVENT
BEGIN:VEVENT
DTSTART;TZID=Asia/Kolkata:20080606T000000
DTEND;TZID=Asia/Kolkata:20080606T000000
DTSTAMP:20260424T071635
CREATED:20250701T063325Z
LAST-MODIFIED:20250701T063325Z
UID:10003362-1212710400-1212710400@www.discoverhollywood.com
SUMMARY:Burton Car
DESCRIPTION:DesignHTMLWords: 0   Characters: 0
URL:https://www.discoverhollywood.com/event/burton-car/
LOCATION:Whisky A-Go-Go\, 8901 Sunset Blvd\, Los Angeles\, California
END:VEVENT
BEGIN:VEVENT
DTSTART;TZID=Asia/Kolkata:20080604T000000
DTEND;TZID=Asia/Kolkata:20080604T000000
DTSTAMP:20260424T071635
CREATED:20250701T063325Z
LAST-MODIFIED:20250701T063325Z
UID:10003363-1212537600-1212537600@www.discoverhollywood.com
SUMMARY:Bush - Loaded: The Greatest Hits Tour
DESCRIPTION:%3cdiv%3eWith Jerry Cantrell %26amp%3b Candlebox %26amp%3b Bones%3c/div%3e\n%3cdiv%3e\n	%3cbr%3e\n%3c/div%3e\n%3cdiv%3eTickets%3a%26nbsp%3bhttps%3a//www.lagreektheatre.com/events/all%3c/div%3eDesignHTMLWords: 7   Characters: 86
URL:https://www.discoverhollywood.com/event/bush-loaded-the-greatest-hits-tour/
LOCATION:Greek Theatre\, 2700 North Vermont Ave.\, Los Angeles\, California\, 90027.0
END:VEVENT
BEGIN:VEVENT
DTSTART;TZID=Asia/Kolkata:20080602T000000
DTEND;TZID=Asia/Kolkata:20080602T000000
DTSTAMP:20260424T071635
CREATED:20250701T063325Z
LAST-MODIFIED:20250701T063325Z
UID:10003364-1212364800-1212364800@www.discoverhollywood.com
SUMMARY:Bush/Live
DESCRIPTION:The Altimate Tour with special guest Our Lady Peace.%26nbsp%3b%26nbsp%3bDesignHTMLWords: 9   Characters: 51
URL:https://www.discoverhollywood.com/event/bush-live/
LOCATION:Greek Theatre\, 2700 North Vermont Ave.\, Los Angeles\, California\, 90027.0
END:VEVENT
BEGIN:VEVENT
DTSTART;TZID=Asia/Kolkata:20080531T000000
DTEND;TZID=Asia/Kolkata:20080531T000000
DTSTAMP:20260424T071635
CREATED:20250701T063325Z
LAST-MODIFIED:20250701T063325Z
UID:10003365-1212192000-1212192000@www.discoverhollywood.com
SUMMARY:Busted
DESCRIPTION:%3cbr%3eDesignHTMLWords: 0   Characters: 0
URL:https://www.discoverhollywood.com/event/busted/
LOCATION:Troubadour\, 9081 Santa Monica Blvd.\, Hollywood\, California
END:VEVENT
BEGIN:VEVENT
DTSTART;TZID=Asia/Kolkata:20080529T000000
DTEND;TZID=Asia/Kolkata:20080529T000000
DTSTAMP:20260424T071635
CREATED:20250701T063329Z
LAST-MODIFIED:20250701T063329Z
UID:10003366-1212019200-1212019200@www.discoverhollywood.com
SUMMARY:Buster Keaton Weekend Opening Night Gala
DESCRIPTION:%3cspan%3eThe International Buster Keaton Society is teaming up with Hollywood Heritage for a night of screenings%2c talks%2c light dinner%2c dessert%2c and time to spend with friends%3c/span%3e.\n%3ca href%3d%22http%3a//www.busterkeaton.org/weekend%22 target%3d%22_blank%22%3ewww.busterkeaton.org/weekend%3c/a%3eDesignHTMLWords: 27   Characters: 188
URL:https://www.discoverhollywood.com/event/buster-keaton-weekend-opening-night-gala/
LOCATION:Hollywood Heritage\, 2100 N. Highland Ave\, Hollywood\, California
END:VEVENT
BEGIN:VEVENT
DTSTART;TZID=Asia/Kolkata:20080527T000000
DTEND;TZID=Asia/Kolkata:20080527T000000
DTSTAMP:20260424T071635
CREATED:20250701T063329Z
LAST-MODIFIED:20250701T063329Z
UID:10003367-1211846400-1211846400@www.discoverhollywood.com
SUMMARY:Buster Williams Quartet
DESCRIPTION:Featuring Patrick Rushen%2c Mark Gross and Ndugu ChanclerDesignHTMLWords: 8   Characters: 54
URL:https://www.discoverhollywood.com/event/buster-williams-quartet/
LOCATION:Catalina Jazz Club\, 6725 W. Sunset Blvd.\, Hollywood\, California\, 90028.0
END:VEVENT
BEGIN:VEVENT
DTSTART;TZID=Asia/Kolkata:20080525T000000
DTEND;TZID=Asia/Kolkata:20080525T000000
DTSTAMP:20260424T071635
CREATED:20250701T063329Z
LAST-MODIFIED:20250701T063329Z
UID:10003368-1211673600-1211673600@www.discoverhollywood.com
SUMMARY:Buster Williams\, Patrice Rushen\, Cindy Blackman & Bennie Maupin
DESCRIPTION:DesignHTMLWords: 0   Characters: 0
URL:https://www.discoverhollywood.com/event/buster-williams-patrice-rushen-cindy-blackman-bennie-maupin/
LOCATION:Catalina’s Bar & Grill\, Select
END:VEVENT
BEGIN:VEVENT
DTSTART;TZID=Asia/Kolkata:20080523T000000
DTEND;TZID=Asia/Kolkata:20080523T000000
DTSTAMP:20260424T071635
CREATED:20250701T063329Z
LAST-MODIFIED:20250701T063329Z
UID:10003369-1211500800-1211500800@www.discoverhollywood.com
SUMMARY:Butch & Sundance: The Early Days
DESCRIPTION:%3ca href%3d%22http%3a//thenewbev.com/%22 target%3d%22_blank%22%3ehttp%3a//thenewbev.com/%3c/a%3eDesignHTMLWords: 1   Characters: 19
URL:https://www.discoverhollywood.com/event/butch-sundance-the-early-days/
LOCATION:New Beverly Cinema\, 7165 Beverly Blvd.\, Hollywood\, California
END:VEVENT
BEGIN:VEVENT
DTSTART;TZID=Asia/Kolkata:20080521T000000
DTEND;TZID=Asia/Kolkata:20080521T000000
DTSTAMP:20260424T071635
CREATED:20250701T063329Z
LAST-MODIFIED:20250701T063329Z
UID:10003370-1211328000-1211328000@www.discoverhollywood.com
SUMMARY:Butch Cassidy and the Sundance Kid
DESCRIPTION:%3ca href%3d%22http%3a//thenewbev.com/%22 target%3d%22_blank%22%3ehttp%3a//thenewbev.com/%3c/a%3eDesignHTMLWords: 1   Characters: 19
URL:https://www.discoverhollywood.com/event/butch-cassidy-and-the-sundance-kid/
LOCATION:New Beverly Cinema\, 7165 Beverly Blvd.\, Hollywood\, California
END:VEVENT
BEGIN:VEVENT
DTSTART;TZID=Asia/Kolkata:20080519T000000
DTEND;TZID=Asia/Kolkata:20080519T000000
DTSTAMP:20260424T071635
CREATED:20250701T063342Z
LAST-MODIFIED:20250701T063342Z
UID:10003371-1211155200-1211155200@www.discoverhollywood.com
SUMMARY:Butch Cassidy and the Sundance Kid: What is a Western? Film Series at the Autry
DESCRIPTION:DesignHTMLWords: 0   Characters: 0
URL:https://www.discoverhollywood.com/event/butch-cassidy-and-the-sundance-kid-what-is-a-western-film-series-at-the-autry/
LOCATION:Autry National Center\, 4700 Western Heritage Way\, Hollywood\, California
END:VEVENT
BEGIN:VEVENT
DTSTART;TZID=Asia/Kolkata:20080517T000000
DTEND;TZID=Asia/Kolkata:20080517T000000
DTSTAMP:20260424T071635
CREATED:20250701T063342Z
LAST-MODIFIED:20250701T063342Z
UID:10003372-1210982400-1210982400@www.discoverhollywood.com
SUMMARY:Butch Walker
DESCRIPTION:%3ca href%3d%22https%3a//www.hotelcafe.com/calendar.html%22%3ewww.hotelcafe.com%3c/a%3eDesignHTMLWords: 1   Characters: 15
URL:https://www.discoverhollywood.com/event/butch-walker/
LOCATION:Hotel Cafe\, 1623 1/2 Cahuenga Blvd\, Hollywood\, California\, 90028.0
END:VEVENT
BEGIN:VEVENT
DTSTART;TZID=Asia/Kolkata:20080515T000000
DTEND;TZID=Asia/Kolkata:20080515T000000
DTSTAMP:20260424T071635
CREATED:20250701T063342Z
LAST-MODIFIED:20250701T063342Z
UID:10003373-1210809600-1210809600@www.discoverhollywood.com
SUMMARY:Butterfly
DESCRIPTION:DesignHTMLWords: 0   Characters: 0
URL:https://www.discoverhollywood.com/event/butterfly/
LOCATION:Write Act Theatre\, 6128 Yucca St\, Los Angeles\, California
END:VEVENT
BEGIN:VEVENT
DTSTART;TZID=Asia/Kolkata:20080513T000000
DTEND;TZID=Asia/Kolkata:20080513T000000
DTSTAMP:20260424T071635
CREATED:20250701T063342Z
LAST-MODIFIED:20250701T063342Z
UID:10003374-1210636800-1210636800@www.discoverhollywood.com
SUMMARY:Buyers & Cellars
DESCRIPTION:DesignHTMLWords: 0   Characters: 0
URL:https://www.discoverhollywood.com/event/buyers-cellars/
LOCATION:California
END:VEVENT
BEGIN:VEVENT
DTSTART;TZID=Asia/Kolkata:20080511T000000
DTEND;TZID=Asia/Kolkata:20080511T000000
DTSTAMP:20260424T071635
CREATED:20250701T063342Z
LAST-MODIFIED:20250701T063342Z
UID:10003375-1210464000-1210464000@www.discoverhollywood.com
SUMMARY:Buzz'd Out Live
DESCRIPTION:%3cspan%3e\n	%3cbr%3e\n	Clever%2c entertaining%2c and just plain wild%2c%26nbsp%3bBuzz%27d Out%21%26nbsp%3bis a popular game show that currently airs on The Arroyo Channel. Like%26nbsp%3b%3ci%3eDouble Dare%3c/i%3e%2c the show pairs crazy challenges with mind boggling trivia. This special live version will have new challenges%2c new questions%2c and new contestants with each performance.%26nbsp%3b\n%3c/span%3e\n%3ca href%3d%22https%3a//piepieproductions.wixsite.com/buzzdout%22 target%3d%22_blank%22%3ehttps%3a//piepieproductions.wixsite.com/buzzdout%3c/a%3eDesignHTMLWords: 49   Characters: 341
URL:https://www.discoverhollywood.com/event/buzzd-out-live/
LOCATION:Studio/Stage Theatre\, 520 N. Western\, Hollywood\, California
END:VEVENT
BEGIN:VEVENT
DTSTART;TZID=Asia/Kolkata:20080509T000000
DTEND;TZID=Asia/Kolkata:20080509T000000
DTSTAMP:20260424T071635
CREATED:20250701T063345Z
LAST-MODIFIED:20250701T063345Z
UID:10003376-1210291200-1210291200@www.discoverhollywood.com
SUMMARY:Buzzcocks
DESCRIPTION:%3cbr%3eDesignHTMLWords: 0   Characters: 0
URL:https://www.discoverhollywood.com/event/buzzcocks/
LOCATION:The Fonda\, 6126 Hollywood Blvd.\, Hollywood\, California
END:VEVENT
BEGIN:VEVENT
DTSTART;TZID=Asia/Kolkata:20080507T000000
DTEND;TZID=Asia/Kolkata:20080507T000000
DTSTAMP:20260424T071635
CREATED:20250701T063345Z
LAST-MODIFIED:20250701T063345Z
UID:10003377-1210118400-1210118400@www.discoverhollywood.com
SUMMARY:Buzzcocks
DESCRIPTION:%3cbr%3eDesignHTMLWords: 0   Characters: 0
URL:https://www.discoverhollywood.com/event/buzzcocks-2/
LOCATION:The Roxy\, 9009 Sunset Blvd.\, Los Angeles\, California
END:VEVENT
BEGIN:VEVENT
DTSTART;TZID=Asia/Kolkata:20080505T000000
DTEND;TZID=Asia/Kolkata:20080505T000000
DTSTAMP:20260424T071635
CREATED:20250701T063345Z
LAST-MODIFIED:20250701T063345Z
UID:10003378-1209945600-1209945600@www.discoverhollywood.com
SUMMARY:By Jupiter
DESCRIPTION:DesignHTMLWords: 0   Characters: 0
URL:https://www.discoverhollywood.com/event/by-jupiter/
LOCATION:Theatre West\, 3333 Cahuenga Blvd\, Los Angeles\, California
END:VEVENT
BEGIN:VEVENT
DTSTART;TZID=Asia/Kolkata:20080503T000000
DTEND;TZID=Asia/Kolkata:20080503T000000
DTSTAMP:20260424T071635
CREATED:20250701T063345Z
LAST-MODIFIED:20250701T063345Z
UID:10003379-1209772800-1209772800@www.discoverhollywood.com
SUMMARY:By Way Of Camelot
DESCRIPTION:DesignHTMLWords: 0   Characters: 0
URL:https://www.discoverhollywood.com/event/by-way-of-camelot/
LOCATION:Celebration Theatre\, 6760 Lexington Avenue http://www.celebrationtheatre.com/#!shows/cqnr\, Hollywood\, California\, 90028.0
END:VEVENT
BEGIN:VEVENT
DTSTART;TZID=Asia/Kolkata:20080501T000000
DTEND;TZID=Asia/Kolkata:20080501T000000
DTSTAMP:20260424T071635
CREATED:20250701T063345Z
LAST-MODIFIED:20250701T063345Z
UID:10003380-1209600000-1209600000@www.discoverhollywood.com
SUMMARY:Bye Bye Bombay
DESCRIPTION:DesignHTMLWords: 0   Characters: 0
URL:https://www.discoverhollywood.com/event/bye-bye-bombay/
LOCATION:Theatre Asylum\, 6320 Santa Monica Blvd.\, Los Angeles\, California
END:VEVENT
BEGIN:VEVENT
DTSTART;TZID=Asia/Kolkata:20080429T000000
DTEND;TZID=Asia/Kolkata:20080429T000000
DTSTAMP:20260424T071635
CREATED:20250701T063346Z
LAST-MODIFIED:20250701T063346Z
UID:10003381-1209427200-1209427200@www.discoverhollywood.com
SUMMARY:Bye Bye Bombay
DESCRIPTION:DesignHTMLWords: 0   Characters: 0
URL:https://www.discoverhollywood.com/event/bye-bye-bombay-2/
LOCATION:California
END:VEVENT
END:VCALENDAR