BEGIN:VCALENDAR
VERSION:2.0
PRODID:-//Discover Hollywood Magazine - ECPv6.15.20//NONSGML v1.0//EN
CALSCALE:GREGORIAN
METHOD:PUBLISH
X-WR-CALNAME:Discover Hollywood Magazine
X-ORIGINAL-URL:https://www.discoverhollywood.com
X-WR-CALDESC:Events for Discover Hollywood Magazine
REFRESH-INTERVAL;VALUE=DURATION:PT1H
X-Robots-Tag:noindex
X-PUBLISHED-TTL:PT1H
BEGIN:VTIMEZONE
TZID:Asia/Kolkata
BEGIN:STANDARD
TZOFFSETFROM:+0530
TZOFFSETTO:+0530
TZNAME:IST
DTSTART:20070101T000000
END:STANDARD
END:VTIMEZONE
BEGIN:VEVENT
DTSTART;TZID=Asia/Kolkata:20080509T000000
DTEND;TZID=Asia/Kolkata:20080509T000000
DTSTAMP:20260424T104000
CREATED:20250701T063345Z
LAST-MODIFIED:20250701T063345Z
UID:10003376-1210291200-1210291200@www.discoverhollywood.com
SUMMARY:Buzzcocks
DESCRIPTION:%3cbr%3eDesignHTMLWords: 0   Characters: 0
URL:https://www.discoverhollywood.com/event/buzzcocks/
LOCATION:The Fonda\, 6126 Hollywood Blvd.\, Hollywood\, California
END:VEVENT
BEGIN:VEVENT
DTSTART;TZID=Asia/Kolkata:20080507T000000
DTEND;TZID=Asia/Kolkata:20080507T000000
DTSTAMP:20260424T104000
CREATED:20250701T063345Z
LAST-MODIFIED:20250701T063345Z
UID:10003377-1210118400-1210118400@www.discoverhollywood.com
SUMMARY:Buzzcocks
DESCRIPTION:%3cbr%3eDesignHTMLWords: 0   Characters: 0
URL:https://www.discoverhollywood.com/event/buzzcocks-2/
LOCATION:The Roxy\, 9009 Sunset Blvd.\, Los Angeles\, California
END:VEVENT
BEGIN:VEVENT
DTSTART;TZID=Asia/Kolkata:20080505T000000
DTEND;TZID=Asia/Kolkata:20080505T000000
DTSTAMP:20260424T104000
CREATED:20250701T063345Z
LAST-MODIFIED:20250701T063345Z
UID:10003378-1209945600-1209945600@www.discoverhollywood.com
SUMMARY:By Jupiter
DESCRIPTION:DesignHTMLWords: 0   Characters: 0
URL:https://www.discoverhollywood.com/event/by-jupiter/
LOCATION:Theatre West\, 3333 Cahuenga Blvd\, Los Angeles\, California
END:VEVENT
BEGIN:VEVENT
DTSTART;TZID=Asia/Kolkata:20080503T000000
DTEND;TZID=Asia/Kolkata:20080503T000000
DTSTAMP:20260424T104000
CREATED:20250701T063345Z
LAST-MODIFIED:20250701T063345Z
UID:10003379-1209772800-1209772800@www.discoverhollywood.com
SUMMARY:By Way Of Camelot
DESCRIPTION:DesignHTMLWords: 0   Characters: 0
URL:https://www.discoverhollywood.com/event/by-way-of-camelot/
LOCATION:Celebration Theatre\, 6760 Lexington Avenue http://www.celebrationtheatre.com/#!shows/cqnr\, Hollywood\, California\, 90028.0
END:VEVENT
BEGIN:VEVENT
DTSTART;TZID=Asia/Kolkata:20080501T000000
DTEND;TZID=Asia/Kolkata:20080501T000000
DTSTAMP:20260424T104000
CREATED:20250701T063345Z
LAST-MODIFIED:20250701T063345Z
UID:10003380-1209600000-1209600000@www.discoverhollywood.com
SUMMARY:Bye Bye Bombay
DESCRIPTION:DesignHTMLWords: 0   Characters: 0
URL:https://www.discoverhollywood.com/event/bye-bye-bombay/
LOCATION:Theatre Asylum\, 6320 Santa Monica Blvd.\, Los Angeles\, California
END:VEVENT
BEGIN:VEVENT
DTSTART;TZID=Asia/Kolkata:20080429T000000
DTEND;TZID=Asia/Kolkata:20080429T000000
DTSTAMP:20260424T104000
CREATED:20250701T063346Z
LAST-MODIFIED:20250701T063346Z
UID:10003381-1209427200-1209427200@www.discoverhollywood.com
SUMMARY:Bye Bye Bombay
DESCRIPTION:DesignHTMLWords: 0   Characters: 0
URL:https://www.discoverhollywood.com/event/bye-bye-bombay-2/
LOCATION:California
END:VEVENT
BEGIN:VEVENT
DTSTART;TZID=Asia/Kolkata:20080427T000000
DTEND;TZID=Asia/Kolkata:20080427T000000
DTSTAMP:20260424T104000
CREATED:20250701T063346Z
LAST-MODIFIED:20250701T063346Z
UID:10003382-1209254400-1209254400@www.discoverhollywood.com
SUMMARY:Bz
DESCRIPTION:DesignHTMLWords: 0   Characters: 0
URL:https://www.discoverhollywood.com/event/bz/
LOCATION:Gibson Amphitheatre\, Select
END:VEVENT
BEGIN:VEVENT
DTSTART;TZID=Asia/Kolkata:20080425T000000
DTEND;TZID=Asia/Kolkata:20080425T000000
DTSTAMP:20260424T104000
CREATED:20250701T063346Z
LAST-MODIFIED:20250701T063346Z
UID:10003383-1209081600-1209081600@www.discoverhollywood.com
SUMMARY:C & C Holiday Heroes
DESCRIPTION:%3cbr%3e\n%3cb%3e%3cspan%3eC %26amp%3b C %5bCrissy Guerrero%26nbsp%3b%28El Vez%2c%26nbsp%3bEban Schletter%27s%26nbsp%3bWitching Hour%26nbsp%3band%26nbsp%3bWhite Trash%26nbsp%3bWins Lotto%29 %26amp%3b%26nbsp%3bClaudia Dolph%26nbsp%3b%28ACME Comedy%26nbsp%3bTheater%2c Ed Begley Jr.%27s%26nbsp%3bCesar %26amp%3b%26nbsp%3bRuben%29%5d%26nbsp%3band their amazingly talented cast of singers%2c dancers%2c musicians and comedians are back with a brand new darkly spirited holiday show%21 Bring the family for a twisted take on the holidays to put you in the holiday spirit. Or%2c at least make you want some spirits….DesignHTMLWords: 71   Characters: 402
URL:https://www.discoverhollywood.com/event/c-c-holiday-heroes/
LOCATION:Trepany House at the Steve Allen Theatre\, 4773 Hollywood Blvd.\, Hollywood\, California\, 90027.0
END:VEVENT
BEGIN:VEVENT
DTSTART;TZID=Asia/Kolkata:20080423T000000
DTEND;TZID=Asia/Kolkata:20080423T000000
DTSTAMP:20260424T104000
CREATED:20250701T063346Z
LAST-MODIFIED:20250701T063346Z
UID:10003384-1208908800-1208908800@www.discoverhollywood.com
SUMMARY:C + C Variety Hour
DESCRIPTION:%3cbr%3eDesignHTMLWords: 0   Characters: 0
URL:https://www.discoverhollywood.com/event/c-c-variety-hour/
LOCATION:Trepany House at the Steve Allen Theatre\, 4773 Hollywood Blvd.\, Hollywood\, California\, 90027.0
END:VEVENT
BEGIN:VEVENT
DTSTART;TZID=Asia/Kolkata:20080421T000000
DTEND;TZID=Asia/Kolkata:20080421T000000
DTSTAMP:20260424T104000
CREATED:20250701T063346Z
LAST-MODIFIED:20250701T063346Z
UID:10003385-1208736000-1208736000@www.discoverhollywood.com
SUMMARY:C.3.3.: Oscar Wilde in Prison
DESCRIPTION:%3cspan%3eReading followed by a post-show discussion with playwright Scott Carter.%26nbsp%3b%3c/span%3e\n%3cdiv%3e\n	%3cspan%3e%3cbr%3e%3c/span%3e\n%3c/div%3e\n%3cdiv%3e\n	%3cspan%3e%3ca href%3d%22http%3a//www.atwatercrossing.com/get-here/%22 target%3d%22_blank%22%3ehttp%3a//www.atwatercrossing.com/get-here/%3c/a%3e%3c/span%3e\n%3c/div%3eDesignHTMLWords: 11   Characters: 110
URL:https://www.discoverhollywood.com/event/c-3-3-oscar-wilde-in-prison/
LOCATION:Independent Shakespeare Company\, 3191 Casitas Blvd. Ste 130\, Los Angeles\, California\, 90039.0
END:VEVENT
BEGIN:VEVENT
DTSTART;TZID=Asia/Kolkata:20080419T000000
DTEND;TZID=Asia/Kolkata:20080419T000000
DTSTAMP:20260424T104000
CREATED:20250701T063359Z
LAST-MODIFIED:20250701T063359Z
UID:10003386-1208563200-1208563200@www.discoverhollywood.com
SUMMARY:C.A.T.A.M.O.N.
DESCRIPTION:Dance Group in Jerusalem Jerusalem-Based Artists Led By Internationally Recognized Israeli Choreographer Elad SchechterDesignHTMLWords: 14   Characters: 118
URL:https://www.discoverhollywood.com/event/c-a-t-a-m-o-n/
LOCATION:Jack Rutberg Fine Arts\, 357 N. La Brea Ave.\, Hollywood\, California
END:VEVENT
BEGIN:VEVENT
DTSTART;TZID=Asia/Kolkata:20080417T000000
DTEND;TZID=Asia/Kolkata:20080417T000000
DTSTAMP:20260424T104000
CREATED:20250701T063359Z
LAST-MODIFIED:20250701T063359Z
UID:10003387-1208390400-1208390400@www.discoverhollywood.com
SUMMARY:C.O.L.A
DESCRIPTION:%3cbr%3eDesignHTMLWords: 0   Characters: 0
URL:https://www.discoverhollywood.com/event/c-o-l-a/
LOCATION:California
END:VEVENT
BEGIN:VEVENT
DTSTART;TZID=Asia/Kolkata:20080415T000000
DTEND;TZID=Asia/Kolkata:20080415T000000
DTSTAMP:20260424T104000
CREATED:20250701T063359Z
LAST-MODIFIED:20250701T063359Z
UID:10003388-1208217600-1208217600@www.discoverhollywood.com
SUMMARY:C.O.L.A. 2012 Exhibition
DESCRIPTION:DesignHTMLWords: 0   Characters: 0
URL:https://www.discoverhollywood.com/event/c-o-l-a-2012-exhibition/
LOCATION:California
END:VEVENT
BEGIN:VEVENT
DTSTART;TZID=Asia/Kolkata:20080413T000000
DTEND;TZID=Asia/Kolkata:20080413T000000
DTSTAMP:20260424T104000
CREATED:20250701T063359Z
LAST-MODIFIED:20250701T063359Z
UID:10003389-1208044800-1208044800@www.discoverhollywood.com
SUMMARY:C.O.L.A. Artist Fellowship Exhibition Opening Reception
DESCRIPTION:DesignHTMLWords: 0   Characters: 0
URL:https://www.discoverhollywood.com/event/c-o-l-a-artist-fellowship-exhibition-opening-reception/
LOCATION:California
END:VEVENT
BEGIN:VEVENT
DTSTART;TZID=Asia/Kolkata:20080411T000000
DTEND;TZID=Asia/Kolkata:20080411T000000
DTSTAMP:20260424T104000
CREATED:20250701T063400Z
LAST-MODIFIED:20250701T063400Z
UID:10003390-1207872000-1207872000@www.discoverhollywood.com
SUMMARY:C.O.L.A. Individual Artist Fellowship Exhibition
DESCRIPTION:%3cbr%3eDesignHTMLWords: 0   Characters: 0
URL:https://www.discoverhollywood.com/event/c-o-l-a-individual-artist-fellowship-exhibition/
LOCATION:California
END:VEVENT
BEGIN:VEVENT
DTSTART;TZID=Asia/Kolkata:20080409T000000
DTEND;TZID=Asia/Kolkata:20080409T000000
DTSTAMP:20260424T104000
CREATED:20250701T063402Z
LAST-MODIFIED:20250701T063403Z
UID:10003391-1207699200-1207699200@www.discoverhollywood.com
SUMMARY:C3LA Presents The Fall of the House of Usher
DESCRIPTION:A live-scoring of the 1928 silent film The Fall of the House of Usher%2c directed by Jean Epstein. Featuring a composite film score composed by 13 C3LA composers using only a cappella voices%2c this is a one-of-a-kind event%2c not to be missed%21%26nbsp%3b %3cdiv%3e\n	%3cbr%3e\n%3c/div%3e\n%3cdiv%3e\n	%3ca href%3d%22https%3a//www.eventbrite.com/e/c3la-presents-the-fall-of-the-house-of-usher-tickets-50288126139%3futm_source%3dLACE%2bGeneral%26amp%3butm_campaign%3daca5cc9373-EMAIL_CAMPAIGN_2017_01_05_COPY_01%26amp%3butm_medium%3demail%26amp%3butm_term%3d0_cb2410646d-aDesignHTMLWords: 42   Characters: 229
URL:https://www.discoverhollywood.com/event/c3la-presents-the-fall-of-the-house-of-usher/
LOCATION:LACE (Los Angeles Contemporary Exhibitions)\, 6522 Hollywood Blvd.\, Hollywood\, California\, 90028.0
END:VEVENT
BEGIN:VEVENT
DTSTART;TZID=Asia/Kolkata:20080407T000000
DTEND;TZID=Asia/Kolkata:20080407T000000
DTSTAMP:20260424T104000
CREATED:20250701T063402Z
LAST-MODIFIED:20250701T063403Z
UID:10003392-1207526400-1207526400@www.discoverhollywood.com
SUMMARY:CAAMP
DESCRIPTION:with Heartless BastardsDesignHTMLWords: 3   Characters: 23
URL:https://www.discoverhollywood.com/event/caamp/
LOCATION:Greek Theatre\, 2700 North Vermont Ave.\, Los Angeles\, California\, 90027.0
END:VEVENT
BEGIN:VEVENT
DTSTART;TZID=Asia/Kolkata:20080405T000000
DTEND;TZID=Asia/Kolkata:20080405T000000
DTSTAMP:20260424T104000
CREATED:20250701T063402Z
LAST-MODIFIED:20250701T063403Z
UID:10003393-1207353600-1207353600@www.discoverhollywood.com
SUMMARY:Caamp "By And By" Tour
DESCRIPTION:%3ca href%3d%22https%3a//www.fondatheatre.com/events/detail/370443%22%3ehttps%3a//www.fondatheatre.com/events/detail/370443%3c/a%3eDesignHTMLWords: 1   Characters: 46
URL:https://www.discoverhollywood.com/event/caamp-by-and-by-tour/
LOCATION:The Fonda\, 6126 Hollywood Blvd.\, Hollywood\, California
END:VEVENT
BEGIN:VEVENT
DTSTART;TZID=Asia/Kolkata:20080403T000000
DTEND;TZID=Asia/Kolkata:20080403T000000
DTSTAMP:20260424T104000
CREATED:20250701T063402Z
LAST-MODIFIED:20250701T063403Z
UID:10003394-1207180800-1207180800@www.discoverhollywood.com
SUMMARY:Cabarabia At Catalina's At The Corner OfJazz & Cabaret: A Benefit for Project Angel Food
DESCRIPTION:%3ca href%3d%22https%3a//www.ticketweb.com/event/cabarabia-at-catalinas-at-catalina-bar-grill-tickets/9804635%3fpl%3dcbg%26amp%3bedpPlParam%3d%253Fpl%253Dcbg%22%3ehttps%3a//www.ticketweb.com/event/cabarabia-at-catalinas-at-catalina-bar-grill-tickets/9804635%3fpl%3dcbg%26amp%3bedpPlParam%3d%253Fpl%253Dcbg%3c/a%3eDesignHTMLWords: 1   Characters: 110
URL:https://www.discoverhollywood.com/event/cabarabia-at-catalinas-at-the-corner-ofjazz-cabaret-a-benefit-for-project-angel-food/
LOCATION:Catalina Jazz Club\, 6725 W. Sunset Blvd.\, Hollywood\, California\, 90028.0
END:VEVENT
BEGIN:VEVENT
DTSTART;TZID=Asia/Kolkata:20080401T000000
DTEND;TZID=Asia/Kolkata:20080401T000000
DTSTAMP:20260424T104000
CREATED:20250701T063403Z
LAST-MODIFIED:20250701T063403Z
UID:10003395-1207008000-1207008000@www.discoverhollywood.com
SUMMARY:CABARABIA ON GLOBAL VOICE BROADCAST- SECOND ANNIVERSARY SHOW LIVE!!!
DESCRIPTION:A BENEFIT FOR PROJECT ANGEL FOOD- %3ca href%3d%22www.angelfood.org%22%3ewww.angelfood.org%3c/a%3e\n%3cbr%3e\nSecond Anniversary of CLIFFORD BELL%27S popular weekly podcast CABARABIA on Global Voice Broadcasting %28%3ca target%3d%22_blank%22 href%3d%22www.gvbstudios.com/show/cabarabia%22%3ewww.gvbstudios.com/show/cabarabia%3c/a%3e%29 . Clifford is one of the most prolific and acclaimed Producers of Live Entertainment in Intimate Settings and this event will feature a stellar cast from the worlds of Broadway%2c Cabaret%2c and Recording.DesignHTMLWords: 53   Characters: 377
URL:https://www.discoverhollywood.com/event/cabarabia-on-global-voice-broadcast-second-anniversary-show-live/
LOCATION:Rockwell: Table & Stage\, 1714 N. Vermont Ave.\, Los Angeles\, California\, 90027.0
END:VEVENT
BEGIN:VEVENT
DTSTART;TZID=Asia/Kolkata:20080330T000000
DTEND;TZID=Asia/Kolkata:20080330T000000
DTSTAMP:20260424T104000
CREATED:20250701T063417Z
LAST-MODIFIED:20250701T063417Z
UID:10003396-1206835200-1206835200@www.discoverhollywood.com
SUMMARY:Cabaret
DESCRIPTION:Wilkommen. Bienvenue. Welcome.%26nbsp%3b Celebration Theatre presents Kander %26amp%3b Ebb’s dark%2c eerily relevant masterpiece like you’ve never seen it before. %3ca href%3d%22https%3a//www.celebrationtheatre.com/%22 target%3d%22_blank%22%3ewww.celebrationtheatre.com%3c/a%3eDesignHTMLWords: 19   Characters: 162
URL:https://www.discoverhollywood.com/event/cabaret/
LOCATION:Celebration Theatre\, 6760 Lexington Avenue http://www.celebrationtheatre.com/#!shows/cqnr\, Hollywood\, California\, 90028.0
END:VEVENT
BEGIN:VEVENT
DTSTART;TZID=Asia/Kolkata:20080328T000000
DTEND;TZID=Asia/Kolkata:20080328T000000
DTSTAMP:20260424T104000
CREATED:20250701T063417Z
LAST-MODIFIED:20250701T063417Z
UID:10003397-1206662400-1206662400@www.discoverhollywood.com
SUMMARY:Cabaret
DESCRIPTION:%3ca href%3d%22http%3a//thenewbev.com/%22 target%3d%22_blank%22%3ehttp%3a//thenewbev.com/%3c/a%3eDesignHTMLWords: 1   Characters: 19
URL:https://www.discoverhollywood.com/event/cabaret-2/
LOCATION:New Beverly Cinema\, 7165 Beverly Blvd.\, Hollywood\, California
END:VEVENT
BEGIN:VEVENT
DTSTART;TZID=Asia/Kolkata:20080326T000000
DTEND;TZID=Asia/Kolkata:20080326T000000
DTSTAMP:20260424T104000
CREATED:20250701T063417Z
LAST-MODIFIED:20250701T063417Z
UID:10003398-1206489600-1206489600@www.discoverhollywood.com
SUMMARY:Cabaret - The Musical
DESCRIPTION:%3cem%3e%3cstrong%3eCABARET%3c/strong%3e%3c/em%3e tells the story of the infamous Kit Kat Klub%2c where the Emcee%2c Sally Bowles and a raucous ensemble take the stage nightly to tantalize the crowd––and to leave their troubles outside. But as life in pre-WWII Germany grows more and more uncertain%2c the question remains as to whether or not the decadent allure of Berlin nightlife will be enough to get them through their dangerous times.\n%3cem%3e%3cstrong%3eCABARET%3c/strong%3e%3c/em%3e features some of the most memorable songs in theatre.DesignHTMLWords: 77   Characters: 448
URL:https://www.discoverhollywood.com/event/cabaret-the-musical/
LOCATION:Hollywood Pantages Theatre\, 6233 Hollywood Blvd. Wayne McWorter (213)365-3500\, Hollywood\, CA\, 90028.0
END:VEVENT
BEGIN:VEVENT
DTSTART;TZID=Asia/Kolkata:20080324T000000
DTEND;TZID=Asia/Kolkata:20080324T000000
DTSTAMP:20260424T104000
CREATED:20250701T063417Z
LAST-MODIFIED:20250701T063417Z
UID:10003399-1206316800-1206316800@www.discoverhollywood.com
SUMMARY:Cabaret Awesome
DESCRIPTION:%3cbr%3eDesignHTMLWords: 0   Characters: 0
URL:https://www.discoverhollywood.com/event/cabaret-awesome/
LOCATION:Rockwell: Table & Stage\, 1714 N. Vermont Ave.\, Los Angeles\, California\, 90027.0
END:VEVENT
BEGIN:VEVENT
DTSTART;TZID=Asia/Kolkata:20080322T000000
DTEND;TZID=Asia/Kolkata:20080322T000000
DTSTAMP:20260424T104000
CREATED:20250701T063418Z
LAST-MODIFIED:20250701T063418Z
UID:10003400-1206144000-1206144000@www.discoverhollywood.com
SUMMARY:Cabaret Confessions of an Eco Diva
DESCRIPTION:DesignHTMLWords: 0   Characters: 0
URL:https://www.discoverhollywood.com/event/cabaret-confessions-of-an-eco-diva/
LOCATION:Macha Theatre\, 1107 N. Kings Rd\, Hollywood\, California
END:VEVENT
BEGIN:VEVENT
DTSTART;TZID=Asia/Kolkata:20080320T000000
DTEND;TZID=Asia/Kolkata:20080320T000000
DTSTAMP:20260424T104000
CREATED:20250701T063420Z
LAST-MODIFIED:20250701T063420Z
UID:10003401-1205971200-1205971200@www.discoverhollywood.com
SUMMARY:Cabaret Tehram 35th Anniversary
DESCRIPTION:DesignHTMLWords: 0   Characters: 0
URL:https://www.discoverhollywood.com/event/cabaret-tehram-35th-anniversary/
LOCATION:Gibson Amphitheatre\, Select
END:VEVENT
BEGIN:VEVENT
DTSTART;TZID=Asia/Kolkata:20080318T000000
DTEND;TZID=Asia/Kolkata:20080318T000000
DTSTAMP:20260424T104000
CREATED:20250701T063420Z
LAST-MODIFIED:20250701T063420Z
UID:10003402-1205798400-1205798400@www.discoverhollywood.com
SUMMARY:Caetano Veloso
DESCRIPTION:%3cbr%3eDesignHTMLWords: 0   Characters: 0
URL:https://www.discoverhollywood.com/event/caetano-veloso/
LOCATION:Hollywood Bowl\, 2301 N. Highland Ave.\, Hollywood\, California\, 90068.0
END:VEVENT
BEGIN:VEVENT
DTSTART;TZID=Asia/Kolkata:20080316T000000
DTEND;TZID=Asia/Kolkata:20080316T000000
DTSTAMP:20260424T104000
CREATED:20250701T063420Z
LAST-MODIFIED:20250701T063420Z
UID:10003403-1205625600-1205625600@www.discoverhollywood.com
SUMMARY:Cafe Inquiry
DESCRIPTION:DesignHTMLWords: 0   Characters: 0
URL:https://www.discoverhollywood.com/event/cafe-inquiry/
LOCATION:California
END:VEVENT
BEGIN:VEVENT
DTSTART;TZID=Asia/Kolkata:20080314T000000
DTEND;TZID=Asia/Kolkata:20080314T000000
DTSTAMP:20260424T104000
CREATED:20250701T063420Z
LAST-MODIFIED:20250701T063420Z
UID:10003404-1205452800-1205452800@www.discoverhollywood.com
SUMMARY:Cafe Tacuba
DESCRIPTION:%3cbr%3eDesignHTMLWords: 0   Characters: 0
URL:https://www.discoverhollywood.com/event/cafe-tacuba/
LOCATION:Hollywood Bowl\, 2301 N. Highland Ave.\, Hollywood\, California\, 90068.0
END:VEVENT
BEGIN:VEVENT
DTSTART;TZID=Asia/Kolkata:20080312T000000
DTEND;TZID=Asia/Kolkata:20080312T000000
DTSTAMP:20260424T104000
CREATED:20250701T063420Z
LAST-MODIFIED:20250701T063420Z
UID:10003405-1205280000-1205280000@www.discoverhollywood.com
SUMMARY:Cafe Tacvba & The Ruen Brothers
DESCRIPTION:DesignHTMLWords: 0   Characters: 0
URL:https://www.discoverhollywood.com/event/cafe-tacvba-the-ruen-brothers/
LOCATION:Troubadour\, 9081 Santa Monica Blvd.\, Hollywood\, California
END:VEVENT
END:VCALENDAR