BEGIN:VCALENDAR
VERSION:2.0
PRODID:-//Discover Hollywood Magazine - ECPv6.15.20//NONSGML v1.0//EN
CALSCALE:GREGORIAN
METHOD:PUBLISH
X-WR-CALNAME:Discover Hollywood Magazine
X-ORIGINAL-URL:https://www.discoverhollywood.com
X-WR-CALDESC:Events for Discover Hollywood Magazine
REFRESH-INTERVAL;VALUE=DURATION:PT1H
X-Robots-Tag:noindex
X-PUBLISHED-TTL:PT1H
BEGIN:VTIMEZONE
TZID:Asia/Kolkata
BEGIN:STANDARD
TZOFFSETFROM:+0530
TZOFFSETTO:+0530
TZNAME:IST
DTSTART:20060101T000000
END:STANDARD
END:VTIMEZONE
BEGIN:VEVENT
DTSTART;TZID=Asia/Kolkata:20070726T000000
DTEND;TZID=Asia/Kolkata:20070726T000000
DTSTAMP:20260424T173141
CREATED:20250701T064651Z
LAST-MODIFIED:20250701T064651Z
UID:10003425-1185408000-1185408000@www.discoverhollywood.com
SUMMARY:Carmina Burana
DESCRIPTION:DesignHTMLWords: 0   Characters: 0
URL:https://www.discoverhollywood.com/event/carmina-burana-3/
LOCATION:Hollywood Bowl\, 2301 N. Highland Ave.\, Hollywood\, California\, 90068.0
END:VEVENT
BEGIN:VEVENT
DTSTART;TZID=Asia/Kolkata:20070724T000000
DTEND;TZID=Asia/Kolkata:20070724T000000
DTSTAMP:20260424T173141
CREATED:20250701T064706Z
LAST-MODIFIED:20250701T064706Z
UID:10003426-1185235200-1185235200@www.discoverhollywood.com
SUMMARY:Carmina Burana with Dudamel
DESCRIPTION:%3cdiv%3eGonzalo Grau%3a Cuatro Concerto %28world premiere%29%3b Los Angeles Philharmonic%2c Gustavo Dudamel%2c conducting%3b Jorge Glem %28cuatro%29%2c Elena Villalon %28soprano%29%2c Santiago Ballerini %28tenor%29%2c Elliot Madore %28baritone%29%2c Los Angeles Master Chorale%2c Los Angeles Children%27s Chorus https%3a//www.hollywoodbowl.com/events%3c/div%3e\n%3cdiv%3e\n	%3cbr%3e\n%3c/div%3e\n%3cdiv%3e%3c/div%3eDesignHTMLWords: 33   Characters: 274
URL:https://www.discoverhollywood.com/event/carmina-burana-with-dudamel/
LOCATION:Hollywood Bowl\, 2301 N. Highland Ave.\, Hollywood\, California\, 90068.0
END:VEVENT
BEGIN:VEVENT
DTSTART;TZID=Asia/Kolkata:20070722T000000
DTEND;TZID=Asia/Kolkata:20070722T000000
DTSTAMP:20260424T173141
CREATED:20250701T064706Z
LAST-MODIFIED:20250701T064706Z
UID:10003427-1185062400-1185062400@www.discoverhollywood.com
SUMMARY:Carnage
DESCRIPTION:%3cbr%3eDesignHTMLWords: 0   Characters: 0
URL:https://www.discoverhollywood.com/event/carnage/
LOCATION:House of Blues\, 8430 Sunset Blvd\, Hollywood\, California
END:VEVENT
BEGIN:VEVENT
DTSTART;TZID=Asia/Kolkata:20070720T000000
DTEND;TZID=Asia/Kolkata:20070720T000000
DTSTAMP:20260424T173141
CREATED:20250701T064706Z
LAST-MODIFIED:20250701T064706Z
UID:10003428-1184889600-1184889600@www.discoverhollywood.com
SUMMARY:CarnEvil in Concert
DESCRIPTION:DesignHTMLWords: 0   Characters: 0
URL:https://www.discoverhollywood.com/event/carnevil-in-concert/
LOCATION:Sacred Fools Theatre\, Select
END:VEVENT
BEGIN:VEVENT
DTSTART;TZID=Asia/Kolkata:20070718T000000
DTEND;TZID=Asia/Kolkata:20070718T000000
DTSTAMP:20260424T173141
CREATED:20250701T064707Z
LAST-MODIFIED:20250701T064707Z
UID:10003429-1184716800-1184716800@www.discoverhollywood.com
SUMMARY:Carnifex
DESCRIPTION:%3cbr%3eDesignHTMLWords: 0   Characters: 0
URL:https://www.discoverhollywood.com/event/carnifex/
LOCATION:Whisky A-Go-Go\, 8901 Sunset Blvd\, Los Angeles\, California
END:VEVENT
BEGIN:VEVENT
DTSTART;TZID=Asia/Kolkata:20070716T000000
DTEND;TZID=Asia/Kolkata:20070716T000000
DTSTAMP:20260424T173141
CREATED:20250701T064707Z
LAST-MODIFIED:20250701T064707Z
UID:10003430-1184544000-1184544000@www.discoverhollywood.com
SUMMARY:CARnival Family Fun Day!
DESCRIPTION:%3cp class%3d%22MsoNormal%22%3e%3cspan%3eJoin us in the 3rd floor Discovery Center for a fun filled afternoon of games%2c arts and crafts%2c storytelling%2c tours%2c and much%2c much more%21 Let%27s take the time to celebrate kids and cars this year at CARnival Family Fun Day%21 CARnival is a drop-in activity%2c included in Museum admission%2c and RSVP is not necessary.%3c/span%3e%3c/p%3eDesignHTMLWords: 54   Characters: 299
URL:https://www.discoverhollywood.com/event/carnival-family-fun-day/
LOCATION:Petersen Automotive Museum\, 6060 Wilshire Blvd.\, Los Angeles\, California
END:VEVENT
BEGIN:VEVENT
DTSTART;TZID=Asia/Kolkata:20070714T000000
DTEND;TZID=Asia/Kolkata:20070714T000000
DTSTAMP:20260424T173141
CREATED:20250701T064907Z
LAST-MODIFIED:20250701T064907Z
UID:10003431-1184371200-1184371200@www.discoverhollywood.com
SUMMARY:Carnival Kowledge
DESCRIPTION:DesignHTMLWords: 0   Characters: 0
URL:https://www.discoverhollywood.com/event/carnival-kowledge/
LOCATION:California
END:VEVENT
BEGIN:VEVENT
DTSTART;TZID=Asia/Kolkata:20070712T000000
DTEND;TZID=Asia/Kolkata:20070712T000000
DTSTAMP:20260424T173141
CREATED:20250701T064907Z
LAST-MODIFIED:20250701T064907Z
UID:10003432-1184198400-1184198400@www.discoverhollywood.com
SUMMARY:Carnival of Death Tour 2014
DESCRIPTION:%3cbr%3eDesignHTMLWords: 0   Characters: 0
URL:https://www.discoverhollywood.com/event/carnival-of-death-tour-2014/
LOCATION:Whisky A-Go-Go\, 8901 Sunset Blvd\, Los Angeles\, California
END:VEVENT
BEGIN:VEVENT
DTSTART;TZID=Asia/Kolkata:20070710T000000
DTEND;TZID=Asia/Kolkata:20070710T000000
DTSTAMP:20260424T173141
CREATED:20250701T064907Z
LAST-MODIFIED:20250701T064907Z
UID:10003433-1184025600-1184025600@www.discoverhollywood.com
SUMMARY:Carnival of the Animals
DESCRIPTION:DesignHTMLWords: 0   Characters: 0
URL:https://www.discoverhollywood.com/event/carnival-of-the-animals/
LOCATION:Hollywood Bowl\, 2301 N. Highland Ave.\, Hollywood\, California\, 90068.0
END:VEVENT
BEGIN:VEVENT
DTSTART;TZID=Asia/Kolkata:20070708T000000
DTEND;TZID=Asia/Kolkata:20070708T000000
DTSTAMP:20260424T173141
CREATED:20250701T064908Z
LAST-MODIFIED:20250701T064908Z
UID:10003434-1183852800-1183852800@www.discoverhollywood.com
SUMMARY:Carnivale Cabaret
DESCRIPTION:%3ca href%3d%22https%3a//www.brownpapertickets.com/event/4424075%22%3ehttps%3a//www.brownpapertickets.com/event/4424075%3c/a%3eDesignHTMLWords: 1   Characters: 44
URL:https://www.discoverhollywood.com/event/carnivale-cabaret/
LOCATION:The Three Clubs\, 1123 Vine Street\, Hollywood\, Select\, 90038.0
END:VEVENT
BEGIN:VEVENT
DTSTART;TZID=Asia/Kolkata:20070706T000000
DTEND;TZID=Asia/Kolkata:20070706T000000
DTSTAMP:20260424T173141
CREATED:20250701T064908Z
LAST-MODIFIED:20250701T064908Z
UID:10003435-1183680000-1183680000@www.discoverhollywood.com
SUMMARY:Carol Burnett
DESCRIPTION:An evening of laughter and reflection where the audience asks questions to the comedy legend.\n%3cbr%3eDesignHTMLWords: 15   Characters: 92
URL:https://www.discoverhollywood.com/event/carol-burnett/
LOCATION:Dolby Theatre\, 6801 Hollywood Blvd.\, Hollywood\, California\, 90028.0
END:VEVENT
BEGIN:VEVENT
DTSTART;TZID=Asia/Kolkata:20070704T000000
DTEND;TZID=Asia/Kolkata:20070704T000000
DTSTAMP:20260424T173141
CREATED:20250701T065108Z
LAST-MODIFIED:20250701T065108Z
UID:10003436-1183507200-1183507200@www.discoverhollywood.com
SUMMARY:Carol Connors
DESCRIPTION:Chris Isaacson presents Oscar-nominated singer/songwriter %28Rocky%27s Theme%29%3cdiv%3ehttp%3a//www.catalinajazzclub.com%3c/div%3eDesignHTMLWords: 8   Characters: 98
URL:https://www.discoverhollywood.com/event/carol-connors/
LOCATION:Catalina Jazz Club\, 6725 W. Sunset Blvd.\, Hollywood\, California\, 90028.0
END:VEVENT
BEGIN:VEVENT
DTSTART;TZID=Asia/Kolkata:20070702T000000
DTEND;TZID=Asia/Kolkata:20070702T000000
DTSTAMP:20260424T173141
CREATED:20250701T065108Z
LAST-MODIFIED:20250701T065108Z
UID:10003437-1183334400-1183334400@www.discoverhollywood.com
SUMMARY:Carol Welsman
DESCRIPTION:%3cbr%3eDesignHTMLWords: 0   Characters: 0
URL:https://www.discoverhollywood.com/event/carol-welsman/
LOCATION:Catalina Jazz Club\, 6725 W. Sunset Blvd.\, Hollywood\, California\, 90028.0
END:VEVENT
BEGIN:VEVENT
DTSTART;TZID=Asia/Kolkata:20070630T000000
DTEND;TZID=Asia/Kolkata:20070630T000000
DTSTAMP:20260424T173141
CREATED:20250701T065108Z
LAST-MODIFIED:20250701T065108Z
UID:10003438-1183161600-1183161600@www.discoverhollywood.com
SUMMARY:Carole A. Feuerman: Perception
DESCRIPTION:First Los Angeles solo exhibition of New York based hyperrealist sculptor %3cstrong%3eCarole A. Feuerman.%3c/strong%3e%26nbsp%3b Museum size%2c life-sized%2c and monumental works will be featured alongside a selection of her new diamond-dust silkscreens created for the exhibition.%26nbsp%3b Feuerman%27s iconic hyper-realistic swimmers and divers will be included%2c paired with new bronze works from her dancer series.DesignHTMLWords: 53   Characters: 358
URL:https://www.discoverhollywood.com/event/carole-a-feuerman-perception/
LOCATION:California
END:VEVENT
BEGIN:VEVENT
DTSTART;TZID=Asia/Kolkata:20070628T000000
DTEND;TZID=Asia/Kolkata:20070628T000000
DTSTAMP:20260424T173141
CREATED:20250701T065108Z
LAST-MODIFIED:20250701T065108Z
UID:10003439-1182988800-1182988800@www.discoverhollywood.com
SUMMARY:Carole A. Feuerman: Perception
DESCRIPTION:%3cstrong%3e%3c/strong%3e\n%3cstrong%3eFirst%3c/strong%3e LA solo exhibition of New York based hyperrealist sculptor\n%3cstrong%3eCarole A. Feuerman%3b%3c/strong%3e\n%3cstrong%3eJuly 14 – August 20%2c 2016%3c/strong%3e. Museum size%2c life-sized%2c and monumental works will be featured alongside a selection of her new diamond-dust silkscreens created for the exhibition.%26nbsp%3b Feuerman%27s iconic hyper-realistic swimmers and divers will be included%2c paired with new bronze works from her dancer series. Award-winning dancers Mariusz Kujawski and EmmDesignHTMLWords: 63   Characters: 418
URL:https://www.discoverhollywood.com/event/carole-a-feuerman-perception-2/
LOCATION:California
END:VEVENT
BEGIN:VEVENT
DTSTART;TZID=Asia/Kolkata:20070626T000000
DTEND;TZID=Asia/Kolkata:20070626T000000
DTSTAMP:20260424T173141
CREATED:20250701T065108Z
LAST-MODIFIED:20250701T065108Z
UID:10003440-1182816000-1182816000@www.discoverhollywood.com
SUMMARY:Carole J. Bufford in "You Don't Own Me: Fearless Females of 1960's"
DESCRIPTION:Chris Isaacson PresentsDesignHTMLWords: 3   Characters: 23
URL:https://www.discoverhollywood.com/event/carole-j-bufford-in-you-dont-own-me-fearless-females-of-1960s/
LOCATION:Catalina Jazz Club\, 6725 W. Sunset Blvd.\, Hollywood\, California\, 90028.0
END:VEVENT
BEGIN:VEVENT
DTSTART;TZID=Asia/Kolkata:20070624T000000
DTEND;TZID=Asia/Kolkata:20070624T000000
DTSTAMP:20260424T173141
CREATED:20250701T065235Z
LAST-MODIFIED:20250701T065235Z
UID:10003441-1182643200-1182643200@www.discoverhollywood.com
SUMMARY:Caroline Polacheck
DESCRIPTION:%3ca href%3d%22https%3a//www.fondatheatre.com/events/detail/381643%22%3ehttps%3a//www.fondatheatre.com/events/detail/381643%3c/a%3eDesignHTMLWords: 1   Characters: 46
URL:https://www.discoverhollywood.com/event/caroline-polacheck/
LOCATION:The Fonda\, 6126 Hollywood Blvd.\, Hollywood\, California
END:VEVENT
BEGIN:VEVENT
DTSTART;TZID=Asia/Kolkata:20070622T000000
DTEND;TZID=Asia/Kolkata:20070622T000000
DTSTAMP:20260424T173141
CREATED:20250701T065235Z
LAST-MODIFIED:20250701T065235Z
UID:10003442-1182470400-1182470400@www.discoverhollywood.com
SUMMARY:Caroline Pugliese
DESCRIPTION:%3cbr%3eDesignHTMLWords: 0   Characters: 0
URL:https://www.discoverhollywood.com/event/caroline-pugliese/
LOCATION:Rockwell: Table & Stage\, 1714 N. Vermont Ave.\, Los Angeles\, California\, 90027.0
END:VEVENT
BEGIN:VEVENT
DTSTART;TZID=Asia/Kolkata:20070620T000000
DTEND;TZID=Asia/Kolkata:20070620T000000
DTSTAMP:20260424T173141
CREATED:20250701T065235Z
LAST-MODIFIED:20250701T065235Z
UID:10003443-1182297600-1182297600@www.discoverhollywood.com
SUMMARY:Carolyn Martinez and the Bill Cantos Trio
DESCRIPTION:DesignHTMLWords: 0   Characters: 0
URL:https://www.discoverhollywood.com/event/carolyn-martinez-and-the-bill-cantos-trio/
LOCATION:Catalina Jazz Club\, 6725 W. Sunset Blvd.\, Hollywood\, California\, 90028.0
END:VEVENT
BEGIN:VEVENT
DTSTART;TZID=Asia/Kolkata:20070618T000000
DTEND;TZID=Asia/Kolkata:20070618T000000
DTSTAMP:20260424T173141
CREATED:20250701T065235Z
LAST-MODIFIED:20250701T065235Z
UID:10003444-1182124800-1182124800@www.discoverhollywood.com
SUMMARY:Carolyn Martinez and the Bill Cantos Trio
DESCRIPTION:%3ca href%3d%22http%3a//www.catalinajazzclub.com/%22%3ehttp%3a//www.catalinajazzclub.com/%3c/a%3eDesignHTMLWords: 1   Characters: 29
URL:https://www.discoverhollywood.com/event/carolyn-martinez-and-the-bill-cantos-trio-2/
LOCATION:Catalina Jazz Club\, 6725 W. Sunset Blvd.\, Hollywood\, California\, 90028.0
END:VEVENT
BEGIN:VEVENT
DTSTART;TZID=Asia/Kolkata:20070616T000000
DTEND;TZID=Asia/Kolkata:20070616T000000
DTSTAMP:20260424T173141
CREATED:20250701T065235Z
LAST-MODIFIED:20250701T065235Z
UID:10003445-1181952000-1181952000@www.discoverhollywood.com
SUMMARY:Carousel and Circus Memorabilia
DESCRIPTION:DesignHTMLWords: 0   Characters: 0
URL:https://www.discoverhollywood.com/event/carousel-and-circus-memorabilia/
LOCATION:Bonhams\, 7601 Sunset Blvd\, Hollywood\, California
END:VEVENT
BEGIN:VEVENT
DTSTART;TZID=Asia/Kolkata:20070614T000000
DTEND;TZID=Asia/Kolkata:20070614T000000
DTSTAMP:20260424T173141
CREATED:20250701T065435Z
LAST-MODIFIED:20250701T065435Z
UID:10003446-1181779200-1181779200@www.discoverhollywood.com
SUMMARY:Carpe Noctem
DESCRIPTION:DesignHTMLWords: 0   Characters: 0
URL:https://www.discoverhollywood.com/event/carpe-noctem/
LOCATION:California
END:VEVENT
BEGIN:VEVENT
DTSTART;TZID=Asia/Kolkata:20070612T000000
DTEND;TZID=Asia/Kolkata:20070612T000000
DTSTAMP:20260424T173141
CREATED:20250701T065435Z
LAST-MODIFIED:20250701T065435Z
UID:10003447-1181606400-1181606400@www.discoverhollywood.com
SUMMARY:Carpe Noctis
DESCRIPTION:%3cp%3eA Theatre-to-Theatre Experience of 50 of The Most Intense%2c Dark%2c Wild %26amp%3b Seductive Shows You¹ve Yet To See%2c From Knife Throwing To Rated R Children¹s Theatre To Twisted %26amp%3b Bloody Burlesque To Live Kung Fu To Breakdance Combat.. CARPE NOCTIS Introduces A New Show Every Fifteen Minutes%2c Shows Never Before Put On Stage %26amp%3b Shows Sure To Capture The Essence Of Raw.%3c/p%3eDesignHTMLWords: 59   Characters: 347
URL:https://www.discoverhollywood.com/event/carpe-noctis/
LOCATION:California
END:VEVENT
BEGIN:VEVENT
DTSTART;TZID=Asia/Kolkata:20070610T000000
DTEND;TZID=Asia/Kolkata:20070610T000000
DTSTAMP:20260424T173141
CREATED:20250701T065435Z
LAST-MODIFIED:20250701T065435Z
UID:10003448-1181433600-1181433600@www.discoverhollywood.com
SUMMARY:Carpenter Brut
DESCRIPTION:%3ca href%3d%22https%3a//www.fondatheatre.com/events/detail/372165%22%3ehttps%3a//www.fondatheatre.com/events/%3c/a%3eDesignHTMLWords: 1   Characters: 33
URL:https://www.discoverhollywood.com/event/carpenter-brut/
LOCATION:The Fonda\, 6126 Hollywood Blvd.\, Hollywood\, California
END:VEVENT
BEGIN:VEVENT
DTSTART;TZID=Asia/Kolkata:20070608T000000
DTEND;TZID=Asia/Kolkata:20070608T000000
DTSTAMP:20260424T173141
CREATED:20250701T065436Z
LAST-MODIFIED:20250701T065436Z
UID:10003449-1181260800-1181260800@www.discoverhollywood.com
SUMMARY:Carpets & Rugs Auction
DESCRIPTION:%3cbr%3eDesignHTMLWords: 0   Characters: 0
URL:https://www.discoverhollywood.com/event/carpets-rugs-auction/
LOCATION:Bonhams\, 7601 Sunset Blvd\, Hollywood\, California
END:VEVENT
BEGIN:VEVENT
DTSTART;TZID=Asia/Kolkata:20070606T000000
DTEND;TZID=Asia/Kolkata:20070606T000000
DTSTAMP:20260424T173141
CREATED:20250701T065436Z
LAST-MODIFIED:20250701T065436Z
UID:10003450-1181088000-1181088000@www.discoverhollywood.com
SUMMARY:Carrie Ann Baade and Patrick McGrath Muniz
DESCRIPTION:DesignHTMLWords: 0   Characters: 0
URL:https://www.discoverhollywood.com/event/carrie-ann-baade-and-patrick-mcgrath-muniz/
LOCATION:La Luz de Jesus Gallery\, 4633 Hollywood Blvd.\, Hollywood\, California
END:VEVENT
BEGIN:VEVENT
DTSTART;TZID=Asia/Kolkata:20070604T000000
DTEND;TZID=Asia/Kolkata:20070604T000000
DTSTAMP:20260424T173141
CREATED:20250701T065636Z
LAST-MODIFIED:20250701T065636Z
UID:10003451-1180915200-1180915200@www.discoverhollywood.com
SUMMARY:Carrie Brownstein
DESCRIPTION:Skylight Books and Largo are proud to present Carrie Brownstein%27s paperback launch event. Tickets are %2430 and include a copy of the book. Skylight staffers will be on-site selling additional copies of Hunger Makes Me a Modern Girl.\n%3cbr%3e\n%3cbr%3e\n– You will receive a pre-signed copy of the book upon entry.\n%3cbr%3e\n%3cbr%3e\nFrom the guitarist of the pioneering band Sleater-Kinney comes Hunger Makes Me a Modern Girl%3a A Memoir a candid%2c funny%2c and deeply personal look at making a life—and finding yourself—in musicDesignHTMLWords: 80   Characters: 474
URL:https://www.discoverhollywood.com/event/carrie-brownstein/
LOCATION:Largo at the Coronet\, 366 N. La Cienega Blvd. http://www.largo-la.com/event/1283859-doug-loves-movies-12-guests-los-angeles/\, Los Angeles\, California\, 90048.0
END:VEVENT
BEGIN:VEVENT
DTSTART;TZID=Asia/Kolkata:20070602T000000
DTEND;TZID=Asia/Kolkata:20070602T000000
DTSTAMP:20260424T173141
CREATED:20250701T065636Z
LAST-MODIFIED:20250701T065636Z
UID:10003452-1180742400-1180742400@www.discoverhollywood.com
SUMMARY:Carrie Lucas
DESCRIPTION:DesignHTMLWords: 0   Characters: 0
URL:https://www.discoverhollywood.com/event/carrie-lucas/
LOCATION:Catalina’s Bar & Grill\, Select
END:VEVENT
BEGIN:VEVENT
DTSTART;TZID=Asia/Kolkata:20070531T000000
DTEND;TZID=Asia/Kolkata:20070531T000000
DTSTAMP:20260424T173141
CREATED:20250701T065636Z
LAST-MODIFIED:20250701T065636Z
UID:10003453-1180569600-1180569600@www.discoverhollywood.com
SUMMARY:Carrie Underwood
DESCRIPTION:DesignHTMLWords: 0   Characters: 0
URL:https://www.discoverhollywood.com/event/carrie-underwood/
LOCATION:Hollywood Bowl\, 2301 N. Highland Ave.\, Hollywood\, California\, 90068.0
END:VEVENT
BEGIN:VEVENT
DTSTART;TZID=Asia/Kolkata:20070529T000000
DTEND;TZID=Asia/Kolkata:20070529T000000
DTSTAMP:20260424T173141
CREATED:20250701T065636Z
LAST-MODIFIED:20250701T065636Z
UID:10003454-1180396800-1180396800@www.discoverhollywood.com
SUMMARY:Carrie Underwood Walk of Fame Ceremony
DESCRIPTION:DesignHTMLWords: 0   Characters: 0
URL:https://www.discoverhollywood.com/event/carrie-underwood-walk-of-fame-ceremony/
LOCATION:California
END:VEVENT
END:VCALENDAR