BEGIN:VCALENDAR
VERSION:2.0
PRODID:-//Discover Hollywood Magazine - ECPv6.15.20//NONSGML v1.0//EN
CALSCALE:GREGORIAN
METHOD:PUBLISH
X-WR-CALNAME:Discover Hollywood Magazine
X-ORIGINAL-URL:https://www.discoverhollywood.com
X-WR-CALDESC:Events for Discover Hollywood Magazine
REFRESH-INTERVAL;VALUE=DURATION:PT1H
X-Robots-Tag:noindex
X-PUBLISHED-TTL:PT1H
BEGIN:VTIMEZONE
TZID:Asia/Kolkata
BEGIN:STANDARD
TZOFFSETFROM:+0530
TZOFFSETTO:+0530
TZNAME:IST
DTSTART:20060101T000000
END:STANDARD
END:VTIMEZONE
BEGIN:VEVENT
DTSTART;TZID=Asia/Kolkata:20070421T000000
DTEND;TZID=Asia/Kolkata:20070421T000000
DTSTAMP:20260425T071338
CREATED:20250701T070316Z
LAST-MODIFIED:20250701T070316Z
UID:10003473-1177113600-1177113600@www.discoverhollywood.com
SUMMARY:Cash'D Out
DESCRIPTION:%3cbr%3eDesignHTMLWords: 0   Characters: 0
URL:https://www.discoverhollywood.com/event/cashd-out/
LOCATION:Viper Room\, 8852 Sunset Blvd.\, Los Angeles\, California
END:VEVENT
BEGIN:VEVENT
DTSTART;TZID=Asia/Kolkata:20070419T000000
DTEND;TZID=Asia/Kolkata:20070419T000000
DTSTAMP:20260425T071338
CREATED:20250701T070316Z
LAST-MODIFIED:20250701T070316Z
UID:10003474-1176940800-1176940800@www.discoverhollywood.com
SUMMARY:Cash'd Out : The Rhyolite Sound
DESCRIPTION:DesignHTMLWords: 0   Characters: 0
URL:https://www.discoverhollywood.com/event/cashd-out-the-rhyolite-sound/
LOCATION:Viper Room\, 8852 Sunset Blvd.\, Los Angeles\, California
END:VEVENT
BEGIN:VEVENT
DTSTART;TZID=Asia/Kolkata:20070417T000000
DTEND;TZID=Asia/Kolkata:20070417T000000
DTSTAMP:20260425T071338
CREATED:20250701T070316Z
LAST-MODIFIED:20250701T070316Z
UID:10003475-1176768000-1176768000@www.discoverhollywood.com
SUMMARY:Casino Night 2009
DESCRIPTION:DesignHTMLWords: 0   Characters: 0
URL:https://www.discoverhollywood.com/event/casino-night-2009/
LOCATION:Celebration Theatre\, 6760 Lexington Avenue http://www.celebrationtheatre.com/#!shows/cqnr\, Hollywood\, California\, 90028.0
END:VEVENT
BEGIN:VEVENT
DTSTART;TZID=Asia/Kolkata:20070415T000000
DTEND;TZID=Asia/Kolkata:20070415T000000
DTSTAMP:20260425T071338
CREATED:20250701T070331Z
LAST-MODIFIED:20250701T070331Z
UID:10003476-1176595200-1176595200@www.discoverhollywood.com
SUMMARY:Caspian
DESCRIPTION:%3ca href%3d%22https%3a//hollywoodforever.com/events-calendar/%22%3ehttps%3a//hollywoodforever.com/events-calendar/%3c/a%3eDesignHTMLWords: 1   Characters: 42
URL:https://www.discoverhollywood.com/event/caspian/
LOCATION:Hollywood Forever Cemetery\, 6000 Santa Monica Blvd.\, Hollywood\, California
END:VEVENT
BEGIN:VEVENT
DTSTART;TZID=Asia/Kolkata:20070413T000000
DTEND;TZID=Asia/Kolkata:20070413T000000
DTSTAMP:20260425T071338
CREATED:20250701T070331Z
LAST-MODIFIED:20250701T070331Z
UID:10003477-1176422400-1176422400@www.discoverhollywood.com
SUMMARY:Cass McCombs
DESCRIPTION:DesignHTMLWords: 0   Characters: 0
URL:https://www.discoverhollywood.com/event/cass-mccombs/
LOCATION:The Fonda\, 6126 Hollywood Blvd.\, Hollywood\, California
END:VEVENT
BEGIN:VEVENT
DTSTART;TZID=Asia/Kolkata:20070411T000000
DTEND;TZID=Asia/Kolkata:20070411T000000
DTSTAMP:20260425T071338
CREATED:20250701T070331Z
LAST-MODIFIED:20250701T070331Z
UID:10003478-1176249600-1176249600@www.discoverhollywood.com
SUMMARY:Cass McCombs
DESCRIPTION:%3cspan%3eSinger%2c songwriter and transient storyteller Cass McCombs celebrates his new album%2c%26nbsp%3b%3c/span%3e\n%3cem%3eTip Of The Sphere%3c/em%3e\n%3cspan%3e%26nbsp%3b%28ANTI-Records%29%2c with a live show at Amoeba Hollywood.%3c/span%3e\n%3cdiv%3e\n	%3cspan%3e%3cbr%3e%3c/span%3e\n%3c/div%3e\n%3cdiv%3e\n	%3cspan%3e%3cspan%3e%3ca href%3d%22https%3a//www.amoeba.com/live-shows/upcoming/detail-4676/%22 target%3d%22_blank%22%3ehttps%3a//www.amoeba.com/live-shows/upcoming/detail-4676/%3c/a%3e%3c/span%3e%3c/span%3e\n%3c/div%3eDesignHTMLWords: 24   Characters: 203
URL:https://www.discoverhollywood.com/event/cass-mccombs-2/
LOCATION:Amoeba Music\, 6400 Sunset Blvd.\, Hollywood\, California
END:VEVENT
BEGIN:VEVENT
DTSTART;TZID=Asia/Kolkata:20070409T000000
DTEND;TZID=Asia/Kolkata:20070409T000000
DTSTAMP:20260425T071338
CREATED:20250701T070331Z
LAST-MODIFIED:20250701T070331Z
UID:10003479-1176076800-1176076800@www.discoverhollywood.com
SUMMARY:Cass McCombs Meat Puppets
DESCRIPTION:%3cbr%3eDesignHTMLWords: 0   Characters: 0
URL:https://www.discoverhollywood.com/event/cass-mccombs-meat-puppets/
LOCATION:Troubadour\, 9081 Santa Monica Blvd.\, Hollywood\, California
END:VEVENT
BEGIN:VEVENT
DTSTART;TZID=Asia/Kolkata:20070407T000000
DTEND;TZID=Asia/Kolkata:20070407T000000
DTSTAMP:20260425T071338
CREATED:20250701T070331Z
LAST-MODIFIED:20250701T070331Z
UID:10003480-1175904000-1175904000@www.discoverhollywood.com
SUMMARY:Cassandra Violet
DESCRIPTION:%3cbr%3eDesignHTMLWords: 0   Characters: 0
URL:https://www.discoverhollywood.com/event/cassandra-violet/
LOCATION:Hotel Cafe\, 1623 1/2 Cahuenga Blvd\, Hollywood\, California\, 90028.0
END:VEVENT
BEGIN:VEVENT
DTSTART;TZID=Asia/Kolkata:20070405T000000
DTEND;TZID=Asia/Kolkata:20070405T000000
DTSTAMP:20260425T071338
CREATED:20250701T070532Z
LAST-MODIFIED:20250701T070532Z
UID:10003481-1175731200-1175731200@www.discoverhollywood.com
SUMMARY:Cassandra Wilson
DESCRIPTION:DesignHTMLWords: 0   Characters: 0
URL:https://www.discoverhollywood.com/event/cassandra-wilson/
LOCATION:Catalina’s Bar & Grill\, Select
END:VEVENT
BEGIN:VEVENT
DTSTART;TZID=Asia/Kolkata:20070403T000000
DTEND;TZID=Asia/Kolkata:20070403T000000
DTSTAMP:20260425T071338
CREATED:20250701T070532Z
LAST-MODIFIED:20250701T070532Z
UID:10003482-1175558400-1175558400@www.discoverhollywood.com
SUMMARY:Cassandra Wilson
DESCRIPTION:DesignHTMLWords: 0   Characters: 0
URL:https://www.discoverhollywood.com/event/cassandra-wilson-2/
LOCATION:The Fonda\, 6126 Hollywood Blvd.\, Hollywood\, California
END:VEVENT
BEGIN:VEVENT
DTSTART;TZID=Asia/Kolkata:20070401T000000
DTEND;TZID=Asia/Kolkata:20070401T000000
DTSTAMP:20260425T071338
CREATED:20250701T070532Z
LAST-MODIFIED:20250701T070532Z
UID:10003483-1175385600-1175385600@www.discoverhollywood.com
SUMMARY:Casting Couch Confidential
DESCRIPTION:%3cb%3e%3ca target%3d%22_blank%22 href%3d%22www.capturedauralphantasy.com%22%3eCASTING COUCH CONFIDENTIAL%3c/a%3e%3c/b%3e includes multi-media performances of old comic book stories%2c such as 1950%27s %22Sinful Sister%22 from the title\n%3ci%3eHollywood Secrets%3c/i%3e%2c presented with live sound effects%2c music and projections of the original comic art behind the performers.\n%3cbr%3e\n%3cimg class%3d%22%22 alt%3d%22%22 src%3d%22images/Captured-Aural-Phantasy-theatre9370.jpg%22 height%3d%22337%22 width%3d%22560%22%3e\n%3cbr%3eDesignHTMLWords: 37   Characters: 250
URL:https://www.discoverhollywood.com/event/casting-couch-confidential/
LOCATION:El Cid Show Restaurant\, 4212 Sunset Blvd.\, Hollywood\, California
END:VEVENT
BEGIN:VEVENT
DTSTART;TZID=Asia/Kolkata:20070330T000000
DTEND;TZID=Asia/Kolkata:20070330T000000
DTSTAMP:20260425T071338
CREATED:20250701T070532Z
LAST-MODIFIED:20250701T070532Z
UID:10003484-1175212800-1175212800@www.discoverhollywood.com
SUMMARY:Casting Crowns
DESCRIPTION:DesignHTMLWords: 0   Characters: 0
URL:https://www.discoverhollywood.com/event/casting-crowns/
LOCATION:Gibson Amphitheatre\, Select
END:VEVENT
BEGIN:VEVENT
DTSTART;TZID=Asia/Kolkata:20070328T000000
DTEND;TZID=Asia/Kolkata:20070328T000000
DTSTAMP:20260425T071338
CREATED:20250701T070533Z
LAST-MODIFIED:20250701T070533Z
UID:10003485-1175040000-1175040000@www.discoverhollywood.com
SUMMARY:Castle in the Sky
DESCRIPTION:%3cspan%3eDon%27t miss this rare opportunity to see one of Hayao Miyazaki%27s most stunningly beautiful%2c exciting%2c and infrequently screened films. A young girl with a mysterious crystal pendant falls out of the sky and into the arms and life of young Pazu. Together they search for a floating island in the sky%2c site of a long-dead civilization promising enormous wealth and power to those who can unlock its secrets. Our Ghibli series sold out almost every show%2c so advance tickets are recommended.%3c/span%3eDesignHTMLWords: 81   Characters: 475
URL:https://www.discoverhollywood.com/event/castle-in-the-sky/
LOCATION:Egyptian Theatre\, 6712 Hollywood Blvd.\, Hollywood\, California
END:VEVENT
BEGIN:VEVENT
DTSTART;TZID=Asia/Kolkata:20070326T000000
DTEND;TZID=Asia/Kolkata:20070326T000000
DTSTAMP:20260425T071338
CREATED:20250701T070733Z
LAST-MODIFIED:20250701T070733Z
UID:10003486-1174867200-1174867200@www.discoverhollywood.com
SUMMARY:Cat Power
DESCRIPTION:%3cbr%3eDesignHTMLWords: 0   Characters: 0
URL:https://www.discoverhollywood.com/event/cat-power/
LOCATION:Hollywood Bowl\, 2301 N. Highland Ave.\, Hollywood\, California\, 90068.0
END:VEVENT
BEGIN:VEVENT
DTSTART;TZID=Asia/Kolkata:20070324T000000
DTEND;TZID=Asia/Kolkata:20070324T000000
DTSTAMP:20260425T071338
CREATED:20250701T070733Z
LAST-MODIFIED:20250701T070733Z
UID:10003487-1174694400-1174694400@www.discoverhollywood.com
SUMMARY:Cat's Paw by William Mastrosimone
DESCRIPTION:Torn from today’s headlines%2c what do you do when your enemy may be smarter than you%3f %26nbsp%3bWilliam Mastrosimone’s gripping drama about a terrorist who has wreaked madness and destruction on America and is about to use a news reporter to exploit just one more valuable hostage – the world’s supply of clean water. For mature audiences.DesignHTMLWords: 56   Characters: 325
URL:https://www.discoverhollywood.com/event/cats-paw-by-william-mastrosimone/
LOCATION:Actors Co-op\, 1760 N. Gower Street\, Hollywood\, California
END:VEVENT
BEGIN:VEVENT
DTSTART;TZID=Asia/Kolkata:20070322T000000
DTEND;TZID=Asia/Kolkata:20070322T000000
DTSTAMP:20260425T071338
CREATED:20250701T070733Z
LAST-MODIFIED:20250701T070733Z
UID:10003488-1174521600-1174521600@www.discoverhollywood.com
SUMMARY:Catahoula
DESCRIPTION:%3cp align%3d%22center%22%3e%3cstrong%3eLaissez les Bons Temps Rouler%26nbsp%3b %3c/strong%3e\n	%3cb%3e%3cimg alt%3d%22Smile emoticon%22 title%3d%22Smile emoticon%22 tabindex%3d%22-1%22 height%3d%2219%22 width%3d%2219%22%3e%3cstrong%3e%26nbsp%3b %28Let the Good Times Roll%29%21%21%21%3c/strong%3e%3c/b%3e\n%3c/p%3e\n%3cp align%3d%22center%22%3e%3cstrong%3e%26nbsp%3b%3c/strong%3e\n	%3cstrong%3eAdvance Tickets Only %2410%3c/strong%3e\n%3c/p%3e\n%3cp align%3d%22center%22%3e%3ca href%3d%22http%3a//www.brownpapertickets.com/event/1606448%22 title%3d%22http%3a//www.brownpapertickets.com/event/1606448 CTRL %2b Click to follow link%22%3e%3cstrong%3ehttp%3a//www.brownpaperticDesignHTMLWords: 15   Characters: 108
URL:https://www.discoverhollywood.com/event/catahoula/
LOCATION:M Bar\, 1253 N. Vine St.\, Hollywood\, California\, 90046.0
END:VEVENT
BEGIN:VEVENT
DTSTART;TZID=Asia/Kolkata:20070320T000000
DTEND;TZID=Asia/Kolkata:20070320T000000
DTSTAMP:20260425T071338
CREATED:20250701T070734Z
LAST-MODIFIED:20250701T070734Z
UID:10003489-1174348800-1174348800@www.discoverhollywood.com
SUMMARY:Catamitus: Love Slave to God
DESCRIPTION:DesignHTMLWords: 0   Characters: 0
URL:https://www.discoverhollywood.com/event/catamitus-love-slave-to-god/
LOCATION:The Complex (Flight Theatre)\, 6476 Santa Monica Blvd\, Los Angeles\, California
END:VEVENT
BEGIN:VEVENT
DTSTART;TZID=Asia/Kolkata:20070318T000000
DTEND;TZID=Asia/Kolkata:20070318T000000
DTSTAMP:20260425T071338
CREATED:20250701T070734Z
LAST-MODIFIED:20250701T070734Z
UID:10003490-1174176000-1174176000@www.discoverhollywood.com
SUMMARY:CATbaret Gala!
DESCRIPTION:%3ch6 class%3d%22font_6%22 style%3d%22font-size%3a16px%22%3e\n	%3cspan%3e%3cspan%3eThe 6th Annual Celebrity Musical Fundraiser.%3cspan class%3d%22wixGuard%22%3e%3c/span%3eCelebritiy performances%2c amazing dance n%3c/span%3e%3c/span%3e\n	%3cspan%3e%3cspan%3eumbers and a full night of food%2c frolic%26nbsp%3band fun – all for the felines%21%3c/span%3e%3c/span%3e\n	%3cspan%3e\n		%3cspan%3eFantastic Fig%2c Nib%3c/span%3e\n		%3cspan%3ebles%2c Happy Hour with Beer brewed by Cats%2c a chance to win %2420%2c000 of prizes%2c cat videos and%3c/span%3e\n		%3cspan%3e\n			more. Celebrity%26nbsp%3bfeline-focused%26nbsp%3bmusical%26nbsp%3bDesignHTMLWords: 49   Characters: 294
URL:https://www.discoverhollywood.com/event/catbaret-gala/
LOCATION:Avalon Hollywood\, Select
END:VEVENT
BEGIN:VEVENT
DTSTART;TZID=Asia/Kolkata:20070316T000000
DTEND;TZID=Asia/Kolkata:20070316T000000
DTSTAMP:20260425T071338
CREATED:20250701T070934Z
LAST-MODIFIED:20250701T070934Z
UID:10003491-1174003200-1174003200@www.discoverhollywood.com
SUMMARY:Catch a Fire Tour
DESCRIPTION:%3cstrong%3eDamian %22Jr. Gong%22 Marley%3c/strong%3e announced the Catch a Fire Tour 2015%2c featuring\n%3cstrong%3eBarrington Levy%3c/strong%3e%2c\n%3cstrong%3eStephen Marley%3c/strong%3e%2c\n%3cstrong%3eMorgan Heritage%3c/strong%3e%2c\n%3cstrong%3eTarrus Riley%3c/strong%3e%2c with special guests\n%3cstrong%3eJo Mersa%2c Skip Marley%3c/strong%3e and\n%3cstrong%3eBlack Am I%3c/strong%3e.%26nbsp%3b The tour will kick off in celebration of what would have been Bob Marley%27s 70th birthday yearDesignHTMLWords: 48   Characters: 278
URL:https://www.discoverhollywood.com/event/catch-a-fire-tour/
LOCATION:Greek Theatre\, 2700 North Vermont Ave.\, Los Angeles\, California\, 90027.0
END:VEVENT
BEGIN:VEVENT
DTSTART;TZID=Asia/Kolkata:20070314T000000
DTEND;TZID=Asia/Kolkata:20070314T000000
DTSTAMP:20260425T071338
CREATED:20250701T070934Z
LAST-MODIFIED:20250701T070934Z
UID:10003492-1173830400-1173830400@www.discoverhollywood.com
SUMMARY:Catch Me Bird: Iron
DESCRIPTION:DesignHTMLWords: 0   Characters: 0
URL:https://www.discoverhollywood.com/event/catch-me-bird-iron/
LOCATION:Ford Amphitheatre\, California
END:VEVENT
BEGIN:VEVENT
DTSTART;TZID=Asia/Kolkata:20070312T000000
DTEND;TZID=Asia/Kolkata:20070312T000000
DTSTAMP:20260425T071338
CREATED:20250701T070935Z
LAST-MODIFIED:20250701T070935Z
UID:10003493-1173657600-1173657600@www.discoverhollywood.com
SUMMARY:Catch Me If You Can
DESCRIPTION:DesignHTMLWords: 0   Characters: 0
URL:https://www.discoverhollywood.com/event/catch-me-if-you-can/
LOCATION:Hollywood Pantages Theatre\, 6233 Hollywood Blvd. Wayne McWorter (213)365-3500\, Hollywood\, CA\, 90028.0
END:VEVENT
BEGIN:VEVENT
DTSTART;TZID=Asia/Kolkata:20070310T000000
DTEND;TZID=Asia/Kolkata:20070310T000000
DTSTAMP:20260425T071338
CREATED:20250701T070935Z
LAST-MODIFIED:20250701T070935Z
UID:10003494-1173484800-1173484800@www.discoverhollywood.com
SUMMARY:Cate le Bon
DESCRIPTION:%3cbr%3eDesignHTMLWords: 0   Characters: 0
URL:https://www.discoverhollywood.com/event/cate-le-bon/
LOCATION:Hollywood Forever Cemetery\, 6000 Santa Monica Blvd.\, Hollywood\, California
END:VEVENT
BEGIN:VEVENT
DTSTART;TZID=Asia/Kolkata:20070308T000000
DTEND;TZID=Asia/Kolkata:20070308T000000
DTSTAMP:20260425T071338
CREATED:20250701T070935Z
LAST-MODIFIED:20250701T070935Z
UID:10003495-1173312000-1173312000@www.discoverhollywood.com
SUMMARY:Catfish & The Bottlemen with Jamie N Commons
DESCRIPTION:%3cbr%3eDesignHTMLWords: 0   Characters: 0
URL:https://www.discoverhollywood.com/event/catfish-the-bottlemen-with-jamie-n-commons/
LOCATION:The Fonda\, 6126 Hollywood Blvd.\, Hollywood\, California
END:VEVENT
BEGIN:VEVENT
DTSTART;TZID=Asia/Kolkata:20070306T000000
DTEND;TZID=Asia/Kolkata:20070306T000000
DTSTAMP:20260425T071338
CREATED:20250701T071135Z
LAST-MODIFIED:20250701T071135Z
UID:10003496-1173139200-1173139200@www.discoverhollywood.com
SUMMARY:Catfish and the Bottlemen
DESCRIPTION:Catfish and the Bottlemen are an indie band so deeply old-fashioned – and unfashionable – you can tell as soon as you see their name what you%27re going to get. … They%27re managed by ATC %28Radiohead%2c Laura Mvula%2c Nick Cave%29%2c they%27ve supported the 1975 – that other band who have risen the timeless way – and they recorded their single at Rockfield Studios in Wales with the man who engineered and mixed the recent Manic Street Preachers singles collection. …\n%3cbr%3eDesignHTMLWords: 74   Characters: 436
URL:https://www.discoverhollywood.com/event/catfish-and-the-bottlemen/
LOCATION:Troubadour\, 9081 Santa Monica Blvd.\, Hollywood\, California
END:VEVENT
BEGIN:VEVENT
DTSTART;TZID=Asia/Kolkata:20070304T000000
DTEND;TZID=Asia/Kolkata:20070304T000000
DTSTAMP:20260425T071338
CREATED:20250701T071135Z
LAST-MODIFIED:20250701T071135Z
UID:10003497-1172966400-1172966400@www.discoverhollywood.com
SUMMARY:Catfish and the Bottlemen
DESCRIPTION:DesignHTMLWords: 0   Characters: 0
URL:https://www.discoverhollywood.com/event/catfish-and-the-bottlemen-2/
LOCATION:Hollywood Palladium\, 6215 Sunset Blvd\, Hollywood\, California
END:VEVENT
BEGIN:VEVENT
DTSTART;TZID=Asia/Kolkata:20070302T000000
DTEND;TZID=Asia/Kolkata:20070302T000000
DTSTAMP:20260425T071338
CREATED:20250701T071135Z
LAST-MODIFIED:20250701T071135Z
UID:10003498-1172793600-1172793600@www.discoverhollywood.com
SUMMARY:Catfish and the Bottlemen
DESCRIPTION:Rock%3cdiv%3e\n	%3cbr%3e\n%3c/div%3e\n%3cdiv%3eTickets%3a%26nbsp%3b%26nbsp%3bhttps%3a//www.livenation.com/venue/KovZpZAEAlaA/hollywood-palladium-events%3c/div%3eDesignHTMLWords: 3   Characters: 83
URL:https://www.discoverhollywood.com/event/catfish-and-the-bottlemen-3/
LOCATION:Hollywood Palladium\, 6215 Sunset Blvd\, Hollywood\, California
END:VEVENT
BEGIN:VEVENT
DTSTART;TZID=Asia/Kolkata:20070228T000000
DTEND;TZID=Asia/Kolkata:20070228T000000
DTSTAMP:20260425T071338
CREATED:20250701T071136Z
LAST-MODIFIED:20250701T071136Z
UID:10003499-1172620800-1172620800@www.discoverhollywood.com
SUMMARY:Catherine Feeny
DESCRIPTION:%3cbr%3eDesignHTMLWords: 0   Characters: 0
URL:https://www.discoverhollywood.com/event/catherine-feeny/
LOCATION:Hotel Cafe\, 1623 1/2 Cahuenga Blvd\, Hollywood\, California\, 90028.0
END:VEVENT
BEGIN:VEVENT
DTSTART;TZID=Asia/Kolkata:20070226T000000
DTEND;TZID=Asia/Kolkata:20070226T000000
DTSTAMP:20260425T071338
CREATED:20250701T071136Z
LAST-MODIFIED:20250701T071136Z
UID:10003500-1172448000-1172448000@www.discoverhollywood.com
SUMMARY:Catherine Opie
DESCRIPTION:%3ca href%3d%22http%3a//www.regenprojects.com/exhibitions/catherine-opie10%22%3ehttp%3a//www.regenprojects.com/exhibitions/catherine-opie10%3c/a%3eDesignHTMLWords: 1   Characters: 53
URL:https://www.discoverhollywood.com/event/catherine-opie/
LOCATION:Regen Projects-Hollywood\, 6750 Santa Monica Blvd.\, Hollywood\, California
END:VEVENT
BEGIN:VEVENT
DTSTART;TZID=Asia/Kolkata:20070224T000000
DTEND;TZID=Asia/Kolkata:20070224T000000
DTSTAMP:20260425T071338
CREATED:20250701T080217Z
LAST-MODIFIED:20250701T080217Z
UID:10003501-1172275200-1172275200@www.discoverhollywood.com
SUMMARY:Catherine Russell
DESCRIPTION:DesignHTMLWords: 0   Characters: 0
URL:https://www.discoverhollywood.com/event/catherine-russell/
LOCATION:Catalina’s Bar & Grill\, Select
END:VEVENT
BEGIN:VEVENT
DTSTART;TZID=Asia/Kolkata:20070222T000000
DTEND;TZID=Asia/Kolkata:20070222T000000
DTSTAMP:20260425T071338
CREATED:20250701T080217Z
LAST-MODIFIED:20250701T080217Z
UID:10003502-1172102400-1172102400@www.discoverhollywood.com
SUMMARY:Cathy Heller
DESCRIPTION:%3cbr%3eDesignHTMLWords: 0   Characters: 0
URL:https://www.discoverhollywood.com/event/cathy-heller/
LOCATION:Hotel Cafe\, 1623 1/2 Cahuenga Blvd\, Hollywood\, California\, 90028.0
END:VEVENT
END:VCALENDAR