BEGIN:VCALENDAR
VERSION:2.0
PRODID:-//Discover Hollywood Magazine - ECPv6.15.17//NONSGML v1.0//EN
CALSCALE:GREGORIAN
METHOD:PUBLISH
X-WR-CALNAME:Discover Hollywood Magazine
X-ORIGINAL-URL:https://www.discoverhollywood.com
X-WR-CALDESC:Events for Discover Hollywood Magazine
REFRESH-INTERVAL;VALUE=DURATION:PT1H
X-Robots-Tag:noindex
X-PUBLISHED-TTL:PT1H
BEGIN:VTIMEZONE
TZID:Asia/Kolkata
BEGIN:STANDARD
TZOFFSETFROM:+0530
TZOFFSETTO:+0530
TZNAME:IST
DTSTART:20250101T000000
END:STANDARD
END:VTIMEZONE
BEGIN:VEVENT
DTSTART;TZID=Asia/Kolkata:20260526T193000
DTEND;TZID=Asia/Kolkata:20260526T223000
DTSTAMP:20260421T202435
CREATED:20251003T120513Z
LAST-MODIFIED:20251003T121926Z
UID:10020777-1779823800-1779834600@www.discoverhollywood.com
SUMMARY:Hell's Kitchen The Musical
DESCRIPTION:
URL:https://www.discoverhollywood.com/event/hells-kitchen-the-musical/2026-05-26/
LOCATION:Hollywood Pantages Theatre\, 6233 Hollywood Blvd. Wayne McWorter (213)365-3500\, Hollywood\, CA\, 90028.0
END:VEVENT
BEGIN:VEVENT
DTSTART;TZID=Asia/Kolkata:20260527T193000
DTEND;TZID=Asia/Kolkata:20260527T223000
DTSTAMP:20260421T202435
CREATED:20251003T120513Z
LAST-MODIFIED:20251003T121926Z
UID:10020778-1779910200-1779921000@www.discoverhollywood.com
SUMMARY:Hell's Kitchen The Musical
DESCRIPTION:
URL:https://www.discoverhollywood.com/event/hells-kitchen-the-musical/2026-05-27/
LOCATION:Hollywood Pantages Theatre\, 6233 Hollywood Blvd. Wayne McWorter (213)365-3500\, Hollywood\, CA\, 90028.0
END:VEVENT
BEGIN:VEVENT
DTSTART;TZID=Asia/Kolkata:20260528T193000
DTEND;TZID=Asia/Kolkata:20260528T223000
DTSTAMP:20260421T202435
CREATED:20251003T120513Z
LAST-MODIFIED:20251003T121926Z
UID:10020779-1779996600-1780007400@www.discoverhollywood.com
SUMMARY:Hell's Kitchen The Musical
DESCRIPTION:
URL:https://www.discoverhollywood.com/event/hells-kitchen-the-musical/2026-05-28/
LOCATION:Hollywood Pantages Theatre\, 6233 Hollywood Blvd. Wayne McWorter (213)365-3500\, Hollywood\, CA\, 90028.0
END:VEVENT
BEGIN:VEVENT
DTSTART;TZID=Asia/Kolkata:20260529T200000
DTEND;TZID=Asia/Kolkata:20260529T230000
DTSTAMP:20260421T202435
CREATED:20251003T120513Z
LAST-MODIFIED:20251003T121926Z
UID:10020780-1780084800-1780095600@www.discoverhollywood.com
SUMMARY:Hell's Kitchen The Musical
DESCRIPTION:
URL:https://www.discoverhollywood.com/event/hells-kitchen-the-musical/2026-05-29/
LOCATION:Hollywood Pantages Theatre\, 6233 Hollywood Blvd. Wayne McWorter (213)365-3500\, Hollywood\, CA\, 90028.0
END:VEVENT
BEGIN:VEVENT
DTSTART;TZID=Asia/Kolkata:20260530T140000
DTEND;TZID=Asia/Kolkata:20260530T170000
DTSTAMP:20260421T202435
CREATED:20251003T120513Z
LAST-MODIFIED:20251003T121926Z
UID:10020781-1780149600-1780160400@www.discoverhollywood.com
SUMMARY:Hell's Kitchen The Musical
DESCRIPTION:
URL:https://www.discoverhollywood.com/event/hells-kitchen-the-musical/2026-05-30/1/
LOCATION:Hollywood Pantages Theatre\, 6233 Hollywood Blvd. Wayne McWorter (213)365-3500\, Hollywood\, CA\, 90028.0
END:VEVENT
BEGIN:VEVENT
DTSTART;TZID=Asia/Kolkata:20260530T200000
DTEND;TZID=Asia/Kolkata:20260530T230000
DTSTAMP:20260421T202435
CREATED:20251003T120513Z
LAST-MODIFIED:20251003T121926Z
UID:10020782-1780171200-1780182000@www.discoverhollywood.com
SUMMARY:Hell's Kitchen The Musical
DESCRIPTION:
URL:https://www.discoverhollywood.com/event/hells-kitchen-the-musical/2026-05-30/2/
LOCATION:Hollywood Pantages Theatre\, 6233 Hollywood Blvd. Wayne McWorter (213)365-3500\, Hollywood\, CA\, 90028.0
END:VEVENT
BEGIN:VEVENT
DTSTART;TZID=Asia/Kolkata:20260531T130000
DTEND;TZID=Asia/Kolkata:20260531T160000
DTSTAMP:20260421T202435
CREATED:20251003T120513Z
LAST-MODIFIED:20251003T121926Z
UID:10020783-1780232400-1780243200@www.discoverhollywood.com
SUMMARY:Hell's Kitchen The Musical
DESCRIPTION:
URL:https://www.discoverhollywood.com/event/hells-kitchen-the-musical/2026-05-31/1/
LOCATION:Hollywood Pantages Theatre\, 6233 Hollywood Blvd. Wayne McWorter (213)365-3500\, Hollywood\, CA\, 90028.0
END:VEVENT
BEGIN:VEVENT
DTSTART;TZID=Asia/Kolkata:20260531T183000
DTEND;TZID=Asia/Kolkata:20260531T213000
DTSTAMP:20260421T202435
CREATED:20251003T120513Z
LAST-MODIFIED:20251003T121926Z
UID:10020784-1780252200-1780263000@www.discoverhollywood.com
SUMMARY:Hell's Kitchen The Musical
DESCRIPTION:
URL:https://www.discoverhollywood.com/event/hells-kitchen-the-musical/2026-05-31/2/
LOCATION:Hollywood Pantages Theatre\, 6233 Hollywood Blvd. Wayne McWorter (213)365-3500\, Hollywood\, CA\, 90028.0
END:VEVENT
BEGIN:VEVENT
DTSTART;TZID=Asia/Kolkata:20260602T193000
DTEND;TZID=Asia/Kolkata:20260602T223000
DTSTAMP:20260421T202435
CREATED:20251003T120513Z
LAST-MODIFIED:20251003T121926Z
UID:10020785-1780428600-1780439400@www.discoverhollywood.com
SUMMARY:Hell's Kitchen The Musical
DESCRIPTION:
URL:https://www.discoverhollywood.com/event/hells-kitchen-the-musical/2026-06-02/
LOCATION:Hollywood Pantages Theatre\, 6233 Hollywood Blvd. Wayne McWorter (213)365-3500\, Hollywood\, CA\, 90028.0
END:VEVENT
BEGIN:VEVENT
DTSTART;TZID=Asia/Kolkata:20260603T193000
DTEND;TZID=Asia/Kolkata:20260603T223000
DTSTAMP:20260421T202435
CREATED:20251003T120513Z
LAST-MODIFIED:20251003T121926Z
UID:10020786-1780515000-1780525800@www.discoverhollywood.com
SUMMARY:Hell's Kitchen The Musical
DESCRIPTION:
URL:https://www.discoverhollywood.com/event/hells-kitchen-the-musical/2026-06-03/
LOCATION:Hollywood Pantages Theatre\, 6233 Hollywood Blvd. Wayne McWorter (213)365-3500\, Hollywood\, CA\, 90028.0
END:VEVENT
BEGIN:VEVENT
DTSTART;TZID=Asia/Kolkata:20260604T193000
DTEND;TZID=Asia/Kolkata:20260604T223000
DTSTAMP:20260421T202435
CREATED:20251003T120513Z
LAST-MODIFIED:20251003T121926Z
UID:10020787-1780601400-1780612200@www.discoverhollywood.com
SUMMARY:Hell's Kitchen The Musical
DESCRIPTION:
URL:https://www.discoverhollywood.com/event/hells-kitchen-the-musical/2026-06-04/
LOCATION:Hollywood Pantages Theatre\, 6233 Hollywood Blvd. Wayne McWorter (213)365-3500\, Hollywood\, CA\, 90028.0
END:VEVENT
BEGIN:VEVENT
DTSTART;TZID=Asia/Kolkata:20260605T200000
DTEND;TZID=Asia/Kolkata:20260605T230000
DTSTAMP:20260421T202435
CREATED:20251003T120513Z
LAST-MODIFIED:20251003T121926Z
UID:10020788-1780689600-1780700400@www.discoverhollywood.com
SUMMARY:Hell's Kitchen The Musical
DESCRIPTION:
URL:https://www.discoverhollywood.com/event/hells-kitchen-the-musical/2026-06-05/
LOCATION:Hollywood Pantages Theatre\, 6233 Hollywood Blvd. Wayne McWorter (213)365-3500\, Hollywood\, CA\, 90028.0
END:VEVENT
BEGIN:VEVENT
DTSTART;TZID=Asia/Kolkata:20260606T140000
DTEND;TZID=Asia/Kolkata:20260606T170000
DTSTAMP:20260421T202435
CREATED:20251003T120513Z
LAST-MODIFIED:20251003T121926Z
UID:10020789-1780754400-1780765200@www.discoverhollywood.com
SUMMARY:Hell's Kitchen The Musical
DESCRIPTION:
URL:https://www.discoverhollywood.com/event/hells-kitchen-the-musical/2026-06-06/1/
LOCATION:Hollywood Pantages Theatre\, 6233 Hollywood Blvd. Wayne McWorter (213)365-3500\, Hollywood\, CA\, 90028.0
END:VEVENT
BEGIN:VEVENT
DTSTART;TZID=Asia/Kolkata:20260606T200000
DTEND;TZID=Asia/Kolkata:20260606T230000
DTSTAMP:20260421T202435
CREATED:20251003T120513Z
LAST-MODIFIED:20251003T121926Z
UID:10020790-1780776000-1780786800@www.discoverhollywood.com
SUMMARY:Hell's Kitchen The Musical
DESCRIPTION:
URL:https://www.discoverhollywood.com/event/hells-kitchen-the-musical/2026-06-06/2/
LOCATION:Hollywood Pantages Theatre\, 6233 Hollywood Blvd. Wayne McWorter (213)365-3500\, Hollywood\, CA\, 90028.0
END:VEVENT
BEGIN:VEVENT
DTSTART;TZID=Asia/Kolkata:20260607T130000
DTEND;TZID=Asia/Kolkata:20260607T160000
DTSTAMP:20260421T202435
CREATED:20251003T120513Z
LAST-MODIFIED:20251003T121926Z
UID:10020791-1780837200-1780848000@www.discoverhollywood.com
SUMMARY:Hell's Kitchen The Musical
DESCRIPTION:
URL:https://www.discoverhollywood.com/event/hells-kitchen-the-musical/2026-06-07/1/
LOCATION:Hollywood Pantages Theatre\, 6233 Hollywood Blvd. Wayne McWorter (213)365-3500\, Hollywood\, CA\, 90028.0
END:VEVENT
BEGIN:VEVENT
DTSTART;TZID=Asia/Kolkata:20260607T183000
DTEND;TZID=Asia/Kolkata:20260607T213000
DTSTAMP:20260421T202435
CREATED:20251003T120513Z
LAST-MODIFIED:20251003T121926Z
UID:10020792-1780857000-1780867800@www.discoverhollywood.com
SUMMARY:Hell's Kitchen The Musical
DESCRIPTION:
URL:https://www.discoverhollywood.com/event/hells-kitchen-the-musical/2026-06-07/2/
LOCATION:Hollywood Pantages Theatre\, 6233 Hollywood Blvd. Wayne McWorter (213)365-3500\, Hollywood\, CA\, 90028.0
END:VEVENT
BEGIN:VEVENT
DTSTART;TZID=Asia/Kolkata:20260609T193000
DTEND;TZID=Asia/Kolkata:20260609T223000
DTSTAMP:20260421T202435
CREATED:20251003T120513Z
LAST-MODIFIED:20251003T121926Z
UID:10020793-1781033400-1781044200@www.discoverhollywood.com
SUMMARY:Hell's Kitchen The Musical
DESCRIPTION:
URL:https://www.discoverhollywood.com/event/hells-kitchen-the-musical/2026-06-09/
LOCATION:Hollywood Pantages Theatre\, 6233 Hollywood Blvd. Wayne McWorter (213)365-3500\, Hollywood\, CA\, 90028.0
END:VEVENT
BEGIN:VEVENT
DTSTART;TZID=Asia/Kolkata:20260610T140000
DTEND;TZID=Asia/Kolkata:20260610T170000
DTSTAMP:20260421T202435
CREATED:20251003T120513Z
LAST-MODIFIED:20251003T121926Z
UID:10020794-1781100000-1781110800@www.discoverhollywood.com
SUMMARY:Hell's Kitchen The Musical
DESCRIPTION:
URL:https://www.discoverhollywood.com/event/hells-kitchen-the-musical/2026-06-10/1/
LOCATION:Hollywood Pantages Theatre\, 6233 Hollywood Blvd. Wayne McWorter (213)365-3500\, Hollywood\, CA\, 90028.0
END:VEVENT
BEGIN:VEVENT
DTSTART;TZID=Asia/Kolkata:20260610T200000
DTEND;TZID=Asia/Kolkata:20260610T230000
DTSTAMP:20260421T202435
CREATED:20251003T120513Z
LAST-MODIFIED:20251003T121926Z
UID:10020795-1781121600-1781132400@www.discoverhollywood.com
SUMMARY:Hell's Kitchen The Musical
DESCRIPTION:
URL:https://www.discoverhollywood.com/event/hells-kitchen-the-musical/2026-06-10/2/
LOCATION:Hollywood Pantages Theatre\, 6233 Hollywood Blvd. Wayne McWorter (213)365-3500\, Hollywood\, CA\, 90028.0
END:VEVENT
BEGIN:VEVENT
DTSTART;TZID=Asia/Kolkata:20260611T193000
DTEND;TZID=Asia/Kolkata:20260611T223000
DTSTAMP:20260421T202435
CREATED:20251003T120513Z
LAST-MODIFIED:20251003T121926Z
UID:10020796-1781206200-1781217000@www.discoverhollywood.com
SUMMARY:Hell's Kitchen The Musical
DESCRIPTION:
URL:https://www.discoverhollywood.com/event/hells-kitchen-the-musical/2026-06-11/
LOCATION:Hollywood Pantages Theatre\, 6233 Hollywood Blvd. Wayne McWorter (213)365-3500\, Hollywood\, CA\, 90028.0
END:VEVENT
BEGIN:VEVENT
DTSTART;TZID=Asia/Kolkata:20260612T140000
DTEND;TZID=Asia/Kolkata:20260612T170000
DTSTAMP:20260421T202435
CREATED:20251003T120513Z
LAST-MODIFIED:20251003T121926Z
UID:10020797-1781272800-1781283600@www.discoverhollywood.com
SUMMARY:Hell's Kitchen The Musical
DESCRIPTION:
URL:https://www.discoverhollywood.com/event/hells-kitchen-the-musical/2026-06-12/1/
LOCATION:Hollywood Pantages Theatre\, 6233 Hollywood Blvd. Wayne McWorter (213)365-3500\, Hollywood\, CA\, 90028.0
END:VEVENT
BEGIN:VEVENT
DTSTART;TZID=Asia/Kolkata:20260612T200000
DTEND;TZID=Asia/Kolkata:20260612T230000
DTSTAMP:20260421T202435
CREATED:20251003T120513Z
LAST-MODIFIED:20251003T121926Z
UID:10020798-1781294400-1781305200@www.discoverhollywood.com
SUMMARY:Hell's Kitchen The Musical
DESCRIPTION:
URL:https://www.discoverhollywood.com/event/hells-kitchen-the-musical/2026-06-12/2/
LOCATION:Hollywood Pantages Theatre\, 6233 Hollywood Blvd. Wayne McWorter (213)365-3500\, Hollywood\, CA\, 90028.0
END:VEVENT
BEGIN:VEVENT
DTSTART;TZID=Asia/Kolkata:20260613T140000
DTEND;TZID=Asia/Kolkata:20260613T170000
DTSTAMP:20260421T202435
CREATED:20251003T120513Z
LAST-MODIFIED:20251003T121926Z
UID:10020799-1781359200-1781370000@www.discoverhollywood.com
SUMMARY:Hell's Kitchen The Musical
DESCRIPTION:
URL:https://www.discoverhollywood.com/event/hells-kitchen-the-musical/2026-06-13/1/
LOCATION:Hollywood Pantages Theatre\, 6233 Hollywood Blvd. Wayne McWorter (213)365-3500\, Hollywood\, CA\, 90028.0
END:VEVENT
BEGIN:VEVENT
DTSTART;TZID=Asia/Kolkata:20260613T200000
DTEND;TZID=Asia/Kolkata:20260613T230000
DTSTAMP:20260421T202435
CREATED:20251003T120513Z
LAST-MODIFIED:20251003T121926Z
UID:10020800-1781380800-1781391600@www.discoverhollywood.com
SUMMARY:Hell's Kitchen The Musical
DESCRIPTION:
URL:https://www.discoverhollywood.com/event/hells-kitchen-the-musical/2026-06-13/2/
LOCATION:Hollywood Pantages Theatre\, 6233 Hollywood Blvd. Wayne McWorter (213)365-3500\, Hollywood\, CA\, 90028.0
END:VEVENT
BEGIN:VEVENT
DTSTART;TZID=Asia/Kolkata:20260616T193000
DTEND;TZID=Asia/Kolkata:20260616T223000
DTSTAMP:20260421T202435
CREATED:20251003T120513Z
LAST-MODIFIED:20251003T121926Z
UID:10020801-1781638200-1781649000@www.discoverhollywood.com
SUMMARY:Hell's Kitchen The Musical
DESCRIPTION:
URL:https://www.discoverhollywood.com/event/hells-kitchen-the-musical/2026-06-16/
LOCATION:Hollywood Pantages Theatre\, 6233 Hollywood Blvd. Wayne McWorter (213)365-3500\, Hollywood\, CA\, 90028.0
END:VEVENT
BEGIN:VEVENT
DTSTART;TZID=Asia/Kolkata:20260617T193000
DTEND;TZID=Asia/Kolkata:20260617T223000
DTSTAMP:20260421T202435
CREATED:20251003T120513Z
LAST-MODIFIED:20251003T121926Z
UID:10020802-1781724600-1781735400@www.discoverhollywood.com
SUMMARY:Hell's Kitchen The Musical
DESCRIPTION:
URL:https://www.discoverhollywood.com/event/hells-kitchen-the-musical/2026-06-17/
LOCATION:Hollywood Pantages Theatre\, 6233 Hollywood Blvd. Wayne McWorter (213)365-3500\, Hollywood\, CA\, 90028.0
END:VEVENT
BEGIN:VEVENT
DTSTART;TZID=Asia/Kolkata:20260618T193000
DTEND;TZID=Asia/Kolkata:20260618T223000
DTSTAMP:20260421T202435
CREATED:20251003T120513Z
LAST-MODIFIED:20251003T121926Z
UID:10020803-1781811000-1781821800@www.discoverhollywood.com
SUMMARY:Hell's Kitchen The Musical
DESCRIPTION:
URL:https://www.discoverhollywood.com/event/hells-kitchen-the-musical/2026-06-18/
LOCATION:Hollywood Pantages Theatre\, 6233 Hollywood Blvd. Wayne McWorter (213)365-3500\, Hollywood\, CA\, 90028.0
END:VEVENT
BEGIN:VEVENT
DTSTART;TZID=Asia/Kolkata:20260619T200000
DTEND;TZID=Asia/Kolkata:20260619T230000
DTSTAMP:20260421T202435
CREATED:20251003T120513Z
LAST-MODIFIED:20251003T121926Z
UID:10020804-1781899200-1781910000@www.discoverhollywood.com
SUMMARY:Hell's Kitchen The Musical
DESCRIPTION:
URL:https://www.discoverhollywood.com/event/hells-kitchen-the-musical/2026-06-19/
LOCATION:Hollywood Pantages Theatre\, 6233 Hollywood Blvd. Wayne McWorter (213)365-3500\, Hollywood\, CA\, 90028.0
END:VEVENT
BEGIN:VEVENT
DTSTART;TZID=Asia/Kolkata:20260620T200000
DTEND;TZID=Asia/Kolkata:20260620T230000
DTSTAMP:20260421T202435
CREATED:20251003T120513Z
LAST-MODIFIED:20251003T121926Z
UID:10020805-1781985600-1781996400@www.discoverhollywood.com
SUMMARY:Hell's Kitchen The Musical
DESCRIPTION:
URL:https://www.discoverhollywood.com/event/hells-kitchen-the-musical/2026-06-20/
LOCATION:Hollywood Pantages Theatre\, 6233 Hollywood Blvd. Wayne McWorter (213)365-3500\, Hollywood\, CA\, 90028.0
END:VEVENT
BEGIN:VEVENT
DTSTART;TZID=Asia/Kolkata:20260621T130000
DTEND;TZID=Asia/Kolkata:20260621T160000
DTSTAMP:20260421T202435
CREATED:20251003T120513Z
LAST-MODIFIED:20251003T121926Z
UID:10020806-1782046800-1782057600@www.discoverhollywood.com
SUMMARY:Hell's Kitchen The Musical
DESCRIPTION:
URL:https://www.discoverhollywood.com/event/hells-kitchen-the-musical/2026-06-21/1/
LOCATION:Hollywood Pantages Theatre\, 6233 Hollywood Blvd. Wayne McWorter (213)365-3500\, Hollywood\, CA\, 90028.0
END:VEVENT
END:VCALENDAR