BEGIN:VCALENDAR
VERSION:2.0
PRODID:-//Discover Hollywood Magazine - ECPv6.15.17//NONSGML v1.0//EN
CALSCALE:GREGORIAN
METHOD:PUBLISH
X-WR-CALNAME:Discover Hollywood Magazine
X-ORIGINAL-URL:https://www.discoverhollywood.com
X-WR-CALDESC:Events for Discover Hollywood Magazine
REFRESH-INTERVAL;VALUE=DURATION:PT1H
X-Robots-Tag:noindex
X-PUBLISHED-TTL:PT1H
BEGIN:VTIMEZONE
TZID:America/Los_Angeles
BEGIN:DAYLIGHT
TZOFFSETFROM:-0800
TZOFFSETTO:-0700
TZNAME:PDT
DTSTART:20250309T100000
END:DAYLIGHT
BEGIN:STANDARD
TZOFFSETFROM:-0700
TZOFFSETTO:-0800
TZNAME:PST
DTSTART:20251102T090000
END:STANDARD
BEGIN:DAYLIGHT
TZOFFSETFROM:-0800
TZOFFSETTO:-0700
TZNAME:PDT
DTSTART:20260308T100000
END:DAYLIGHT
BEGIN:STANDARD
TZOFFSETFROM:-0700
TZOFFSETTO:-0800
TZNAME:PST
DTSTART:20261101T090000
END:STANDARD
BEGIN:DAYLIGHT
TZOFFSETFROM:-0800
TZOFFSETTO:-0700
TZNAME:PDT
DTSTART:20270314T100000
END:DAYLIGHT
BEGIN:STANDARD
TZOFFSETFROM:-0700
TZOFFSETTO:-0800
TZNAME:PST
DTSTART:20271107T090000
END:STANDARD
END:VTIMEZONE
BEGIN:VEVENT
DTSTART;TZID=America/Los_Angeles:20260422T190000
DTEND;TZID=America/Los_Angeles:20260422T210000
DTSTAMP:20260419T235028
CREATED:20260419T131706Z
LAST-MODIFIED:20260419T131845Z
UID:10030812-1776884400-1776891600@www.discoverhollywood.com
SUMMARY:Sasha Keable
DESCRIPTION:Some nights feel intimate from the very first note\, and this one leans into that atmosphere with ease. At Blue Note Jazz Club Los Angeles\, Sasha Keable brings a sound that is both soulful and deeply expressive. \nKnown for her rich tone and emotionally layered delivery\, Keable moves effortlessly between R&B\, soul\, and subtle jazz influences. Her music feels personal yet expansive\, creating a space where each song unfolds with honesty and quiet intensity. \nBacked by a live band\, the performance carries a warm\, immersive quality\, with smooth instrumentation and vocals that draw the audience in rather than overwhelm. Expect a set that feels reflective\, atmospheric\, and connected\, where the focus stays on storytelling\, feeling\, and the kind of presence that lingers. \nP.S. A second performance will be happening that same day at 9:30pm.
URL:https://www.discoverhollywood.com/event/sasha-keable/2026-04-22/
LOCATION:Blue Note Jazz Club
CATEGORIES:music
END:VEVENT
BEGIN:VEVENT
DTSTART;TZID=America/Los_Angeles:20260423T190000
DTEND;TZID=America/Los_Angeles:20260423T210000
DTSTAMP:20260419T235028
CREATED:20260419T131706Z
LAST-MODIFIED:20260419T131845Z
UID:10030813-1776970800-1776978000@www.discoverhollywood.com
SUMMARY:Sasha Keable
DESCRIPTION:Some nights feel intimate from the very first note\, and this one leans into that atmosphere with ease. At Blue Note Jazz Club Los Angeles\, Sasha Keable brings a sound that is both soulful and deeply expressive. \nKnown for her rich tone and emotionally layered delivery\, Keable moves effortlessly between R&B\, soul\, and subtle jazz influences. Her music feels personal yet expansive\, creating a space where each song unfolds with honesty and quiet intensity. \nBacked by a live band\, the performance carries a warm\, immersive quality\, with smooth instrumentation and vocals that draw the audience in rather than overwhelm. Expect a set that feels reflective\, atmospheric\, and connected\, where the focus stays on storytelling\, feeling\, and the kind of presence that lingers. \nP.S. A second performance will be happening that same day at 9:30pm.
URL:https://www.discoverhollywood.com/event/sasha-keable/2026-04-23/
LOCATION:Blue Note Jazz Club
CATEGORIES:music
END:VEVENT
END:VCALENDAR