BEGIN:VCALENDAR
VERSION:2.0
PRODID:-//Discover Hollywood Magazine - ECPv6.15.17//NONSGML v1.0//EN
CALSCALE:GREGORIAN
METHOD:PUBLISH
X-WR-CALNAME:Discover Hollywood Magazine
X-ORIGINAL-URL:https://www.discoverhollywood.com
X-WR-CALDESC:Events for Discover Hollywood Magazine
REFRESH-INTERVAL;VALUE=DURATION:PT1H
X-Robots-Tag:noindex
X-PUBLISHED-TTL:PT1H
BEGIN:VTIMEZONE
TZID:America/Los_Angeles
BEGIN:DAYLIGHT
TZOFFSETFROM:-0800
TZOFFSETTO:-0700
TZNAME:PDT
DTSTART:20250309T100000
END:DAYLIGHT
BEGIN:STANDARD
TZOFFSETFROM:-0700
TZOFFSETTO:-0800
TZNAME:PST
DTSTART:20251102T090000
END:STANDARD
BEGIN:DAYLIGHT
TZOFFSETFROM:-0800
TZOFFSETTO:-0700
TZNAME:PDT
DTSTART:20260308T100000
END:DAYLIGHT
BEGIN:STANDARD
TZOFFSETFROM:-0700
TZOFFSETTO:-0800
TZNAME:PST
DTSTART:20261101T090000
END:STANDARD
BEGIN:DAYLIGHT
TZOFFSETFROM:-0800
TZOFFSETTO:-0700
TZNAME:PDT
DTSTART:20270314T100000
END:DAYLIGHT
BEGIN:STANDARD
TZOFFSETFROM:-0700
TZOFFSETTO:-0800
TZNAME:PST
DTSTART:20271107T090000
END:STANDARD
END:VTIMEZONE
BEGIN:VEVENT
DTSTART;TZID=America/Los_Angeles:20260425T193000
DTEND;TZID=America/Los_Angeles:20260425T220000
DTSTAMP:20260420T072909
CREATED:20260419T133842Z
LAST-MODIFIED:20260419T133842Z
UID:10030815-1777145400-1777154400@www.discoverhollywood.com
SUMMARY:Dancing With The Stars 2026
DESCRIPTION:Some nights are simply about great entertainment\, and this one brings it all together with style and energy. At Dolby Theatre\, Dancing with the Stars comes to life on stage in a way that feels vibrant\, polished\, and full of momentum. \nFeaturing fan favorite dancers from the show\, the performance highlights the talent and charisma that have made the series so widely loved. Performers like Daniella Karagach\, Pasha Pashkov\, Valentin Chmerkovskiy\, Jenna Johnson\, Artem Chigvintsev\, Emma Slater\, and Gleb Savchenko bring a mix of precision\, personality\, and stage presence that keeps the energy high throughout. \nThe show blends a range of dance styles\, from ballroom to Latin\, all set to well known music and enhanced by striking visuals. Each number feels dynamic and engaging\, with choreography that is both technically impressive and easy to enjoy. \nExpect a lively\, feel good atmosphere where the focus stays on movement\, rhythm\, and connection. It is the kind of evening that feels exciting from start to finish\, whether you are a longtime fan of the show or simply looking for a polished live performance.
URL:https://www.discoverhollywood.com/event/dancing-with-the-stars-2026/2026-04-25/
LOCATION:Dolby Theatre\, 6801 Hollywood Blvd.\, Hollywood\, California\, 90028.0
CATEGORIES:Live Performance
END:VEVENT
BEGIN:VEVENT
DTSTART;TZID=America/Los_Angeles:20260426T193000
DTEND;TZID=America/Los_Angeles:20260426T220000
DTSTAMP:20260420T072909
CREATED:20260419T133842Z
LAST-MODIFIED:20260419T133842Z
UID:10030816-1777231800-1777240800@www.discoverhollywood.com
SUMMARY:Dancing With The Stars 2026
DESCRIPTION:Some nights are simply about great entertainment\, and this one brings it all together with style and energy. At Dolby Theatre\, Dancing with the Stars comes to life on stage in a way that feels vibrant\, polished\, and full of momentum. \nFeaturing fan favorite dancers from the show\, the performance highlights the talent and charisma that have made the series so widely loved. Performers like Daniella Karagach\, Pasha Pashkov\, Valentin Chmerkovskiy\, Jenna Johnson\, Artem Chigvintsev\, Emma Slater\, and Gleb Savchenko bring a mix of precision\, personality\, and stage presence that keeps the energy high throughout. \nThe show blends a range of dance styles\, from ballroom to Latin\, all set to well known music and enhanced by striking visuals. Each number feels dynamic and engaging\, with choreography that is both technically impressive and easy to enjoy. \nExpect a lively\, feel good atmosphere where the focus stays on movement\, rhythm\, and connection. It is the kind of evening that feels exciting from start to finish\, whether you are a longtime fan of the show or simply looking for a polished live performance.
URL:https://www.discoverhollywood.com/event/dancing-with-the-stars-2026/2026-04-26/
LOCATION:Dolby Theatre\, 6801 Hollywood Blvd.\, Hollywood\, California\, 90028.0
CATEGORIES:Live Performance
END:VEVENT
END:VCALENDAR