BEGIN:VCALENDAR
VERSION:2.0
PRODID:-//Discover Hollywood Magazine - ECPv6.15.20//NONSGML v1.0//EN
CALSCALE:GREGORIAN
METHOD:PUBLISH
X-ORIGINAL-URL:https://www.discoverhollywood.com
X-WR-CALDESC:Events for Discover Hollywood Magazine
REFRESH-INTERVAL;VALUE=DURATION:PT1H
X-Robots-Tag:noindex
X-PUBLISHED-TTL:PT1H
BEGIN:VTIMEZONE
TZID:Asia/Kolkata
BEGIN:STANDARD
TZOFFSETFROM:+0530
TZOFFSETTO:+0530
TZNAME:IST
DTSTART:19690101T000000
END:STANDARD
END:VTIMEZONE
BEGIN:VEVENT
DTSTART;TZID=Asia/Kolkata:19720913T000000
DTEND;TZID=Asia/Kolkata:19720913T000000
DTSTAMP:20260422T222842
CREATED:20250716T053412Z
LAST-MODIFIED:20250716T053412Z
UID:10014138-85190400-85190400@www.discoverhollywood.com
SUMMARY:The Sweetest Swing in Baseball
DESCRIPTION:%3cbr%3eDesignHTMLWords: 0   Characters: 0
URL:https://www.discoverhollywood.com/event/the-sweetest-swing-in-baseball/
LOCATION:Actors Co-op\, 1760 N. Gower Street\, Hollywood\, California
END:VEVENT
BEGIN:VEVENT
DTSTART;TZID=Asia/Kolkata:19720725T000000
DTEND;TZID=Asia/Kolkata:19720725T000000
DTSTAMP:20260422T222842
CREATED:20250716T055932Z
LAST-MODIFIED:20250716T055932Z
UID:10014188-80870400-80870400@www.discoverhollywood.com
SUMMARY:The Traveling Lady
DESCRIPTION:DesignHTMLWords: 0   Characters: 0
URL:https://www.discoverhollywood.com/event/the-traveling-lady/
LOCATION:Actors Co-op\, 1760 N. Gower Street\, Hollywood\, California
END:VEVENT
BEGIN:VEVENT
DTSTART;TZID=Asia/Kolkata:19720717T000000
DTEND;TZID=Asia/Kolkata:19720717T000000
DTSTAMP:20260422T222842
CREATED:20250716T055952Z
LAST-MODIFIED:20250716T055952Z
UID:10014196-80179200-80179200@www.discoverhollywood.com
SUMMARY:The Turn of the Screw
DESCRIPTION:%3cp%3eA young governess is responsible for raising two young children in a remote English manor house.\n	%3cbr%3e\n	But she is not the first one – and what has happened to her predecessor%3f\n	%3cbr%3e\n	Hatcher’s thrilling adaptation of the classic Henry James story\n	%3cbr%3e\n	uses just two actors to bring%26nbsp%3ball the characters to life.\n	%3cbr%3e\n	The perfect ghost story to haunt your Halloween season%21%3c/p%3e\n%3cp%3eDirected by Robertson Dean%3cbr%3eProduced by Rory Patterson%3c/p%3eDesignHTMLWords: 68   Characters: 398
URL:https://www.discoverhollywood.com/event/the-turn-of-the-screw/
LOCATION:Actors Co-op\, 1760 N. Gower Street\, Hollywood\, California
END:VEVENT
BEGIN:VEVENT
DTSTART;TZID=Asia/Kolkata:19720314T000000
DTEND;TZID=Asia/Kolkata:19720314T000000
DTSTAMP:20260422T222842
CREATED:20250716T060801Z
LAST-MODIFIED:20250716T060801Z
UID:10014321-69379200-69379200@www.discoverhollywood.com
SUMMARY:The World Goes 'Round
DESCRIPTION:Music by John Kander%2c Lyrics by Fred Ebb %3cdiv style%3d%22margin%3a0px%3b font%3a13px %27Times New Roman%27%22%3e\n	%3cspan%3e%3cspan class%3d%22Apple-style-span%22%3eConceived by Scott Ellis%2c Susan Stroman%2c David Thompson%3cspan class%3d%22Apple-tab-span%22%3e%3c/span%3e%3c/span%3e%3c/span%3e\n%3c/div%3eDesignHTMLWords: 16   Characters: 93
URL:https://www.discoverhollywood.com/event/the-world-goes-round/
LOCATION:Actors Co-op\, 1760 N. Gower Street\, Hollywood\, California
END:VEVENT
BEGIN:VEVENT
DTSTART;TZID=Asia/Kolkata:19710826T000000
DTEND;TZID=Asia/Kolkata:19710826T000000
DTSTAMP:20260422T222842
CREATED:20250716T065436Z
LAST-MODIFIED:20250716T065436Z
UID:10014507-52012800-52012800@www.discoverhollywood.com
SUMMARY:To Be Young Gifted and Black
DESCRIPTION:DesignHTMLWords: 0   Characters: 0
URL:https://www.discoverhollywood.com/event/to-be-young-gifted-and-black/
LOCATION:Actors Co-op\, 1760 N. Gower Street\, Hollywood\, California
END:VEVENT
BEGIN:VEVENT
DTSTART;TZID=Asia/Kolkata:19710818T000000
DTEND;TZID=Asia/Kolkata:19710818T000000
DTSTAMP:20260422T222842
CREATED:20250716T065451Z
LAST-MODIFIED:20250716T065451Z
UID:10014515-51321600-51321600@www.discoverhollywood.com
SUMMARY:To Kill a Mockingbird
DESCRIPTION:DesignHTMLWords: 0   Characters: 0
URL:https://www.discoverhollywood.com/event/to-kill-a-mockingbird/
LOCATION:Actors Co-op\, 1760 N. Gower Street\, Hollywood\, California
END:VEVENT
BEGIN:VEVENT
DTSTART;TZID=Asia/Kolkata:19710509T000000
DTEND;TZID=Asia/Kolkata:19710509T000000
DTSTAMP:20260422T222842
CREATED:20250716T070308Z
LAST-MODIFIED:20250716T070308Z
UID:10014611-42595200-42595200@www.discoverhollywood.com
SUMMARY:Tornado
DESCRIPTION:World PremiereDesignHTMLWords: 2   Characters: 14
URL:https://www.discoverhollywood.com/event/tornado/
LOCATION:Actors Co-op\, 1760 N. Gower Street\, Hollywood\, California
END:VEVENT
BEGIN:VEVENT
DTSTART;TZID=Asia/Kolkata:19710330T000000
DTEND;TZID=Asia/Kolkata:19710330T000000
DTSTAMP:20260422T222842
CREATED:20250716T070627Z
LAST-MODIFIED:20250716T070627Z
UID:10014651-39139200-39139200@www.discoverhollywood.com
SUMMARY:Trails: A New Musical
DESCRIPTION:DesignHTMLWords: 0   Characters: 0
URL:https://www.discoverhollywood.com/event/trails-a-new-musical/
LOCATION:Actors Co-op\, 1760 N. Gower Street\, Hollywood\, California
END:VEVENT
BEGIN:VEVENT
DTSTART;TZID=Asia/Kolkata:20260422T222842
DTEND;TZID=Asia/Kolkata:20260422T222842
DTSTAMP:20260422T222842
CREATED:20250716T083838Z
LAST-MODIFIED:20250716T091242Z
UID:10015413-0-0@www.discoverhollywood.com
SUMMARY:Wit
DESCRIPTION:%3cbr%3eDesignHTMLWords: 0   Characters: 0
URL:https://www.discoverhollywood.com/event/wit/
LOCATION:Actors Co-op\, 1760 N. Gower Street\, Hollywood\, California
END:VEVENT
BEGIN:VEVENT
DTSTART;TZID=Asia/Kolkata:20260422T222842
DTEND;TZID=Asia/Kolkata:20260422T222842
DTSTAMP:20260422T222842
CREATED:20250716T081807Z
LAST-MODIFIED:20250716T081807Z
UID:10015036-0-0@www.discoverhollywood.com
SUMMARY:Violet
DESCRIPTION:Based on %22The Ugliest Pilgrim%22 by Doris Betts.%26nbsp%3b\n%3cbr%3eDesignHTMLWords: 8   Characters: 43
URL:https://www.discoverhollywood.com/event/violet/
LOCATION:Actors Co-op\, 1760 N. Gower Street\, Hollywood\, California
END:VEVENT
END:VCALENDAR