BEGIN:VCALENDAR
VERSION:2.0
PRODID:-//Discover Hollywood Magazine - ECPv6.15.20//NONSGML v1.0//EN
CALSCALE:GREGORIAN
METHOD:PUBLISH
X-ORIGINAL-URL:https://www.discoverhollywood.com
X-WR-CALDESC:Events for Discover Hollywood Magazine
REFRESH-INTERVAL;VALUE=DURATION:PT1H
X-Robots-Tag:noindex
X-PUBLISHED-TTL:PT1H
BEGIN:VTIMEZONE
TZID:Asia/Kolkata
BEGIN:STANDARD
TZOFFSETFROM:+0530
TZOFFSETTO:+0530
TZNAME:IST
DTSTART:20040101T000000
END:STANDARD
END:VTIMEZONE
BEGIN:VEVENT
DTSTART;TZID=Asia/Kolkata:20251207T180000
DTEND;TZID=Asia/Kolkata:20251207T213000
DTSTAMP:20260426T035607
CREATED:20251204T164729Z
LAST-MODIFIED:20251204T164729Z
UID:10025670-1765130400-1765143000@www.discoverhollywood.com
SUMMARY:ANDREI RUBLEV
DESCRIPTION:With his second feature\, a towering epic that took him years to complete\, Andrei Tarkovsky waded deep into the past and emerged with a visionary masterwork. Threading together several self-contained episodes\, the filmmaker traces the renowned icon painter Andrei Rublev through the harsh realities of fifteenth-century Russian life\, vividly conjuring the dark and otherworldly atmosphere of the age: a primitive hot-air balloon takes to the sky\, snow falls inside an unfinished church\, naked pagans celebrate the midsummer solstice\, a young man oversees the casting of a gigantic bell. Appearing here in Tarkovsky’s preferred 183-minute cut\, as well as the version that was originally censored by Soviet authorities\, Andrei Rublev is an arresting meditation on art\, faith and endurance\, and a powerful reflection on expressive constraints in the director’s own time.
URL:https://www.discoverhollywood.com/event/andrei-rublev-2/
LOCATION:American Cinematheque at Egyptian Theatre\, 6712 Hollywood Blvd.\, Hollywood\, California
END:VEVENT
BEGIN:VEVENT
DTSTART;TZID=Asia/Kolkata:20251207T140000
DTEND;TZID=Asia/Kolkata:20251207T170000
DTSTAMP:20260426T035607
CREATED:20251203T190238Z
LAST-MODIFIED:20251203T190238Z
UID:10025669-1765116000-1765126800@www.discoverhollywood.com
SUMMARY:NEWS FROM HOME
DESCRIPTION:Letters from Chantal Akerman’s mother are read over a series of elegantly composed shots of 1976 New York\, where our (unseen) filmmaker and protagonist has relocated. Akerman’s unforgettable time capsule of the city is also a gorgeous meditation on urban alienation and personal and familial disconnection.
URL:https://www.discoverhollywood.com/event/news-from-home/
LOCATION:American Cinematheque at Egyptian Theatre\, 6712 Hollywood Blvd.\, Hollywood\, California
END:VEVENT
BEGIN:VEVENT
DTSTART;TZID=Asia/Kolkata:20251206T190000
DTEND;TZID=Asia/Kolkata:20251206T220000
DTSTAMP:20260426T035607
CREATED:20251203T190107Z
LAST-MODIFIED:20251203T190107Z
UID:10025668-1765047600-1765058400@www.discoverhollywood.com
SUMMARY:JOINT SECURITY AREA
DESCRIPTION:Before OLDBOY and THE HANDMAIDEN\, legendary filmmaker Park Chan-wook unleashed JOINT SECURITY AREA—a gripping tale of deceit\, misunderstanding and the senselessness of war. When gunfire breaks out in the demilitarized zone between North and South Korea\, two North Korean soldiers are killed (including Song Kang-ho from PARASITE). However\, a wounded South Korean soldier (Lee Byung Hun\, I SAW THE DEVIL) flees to safety. With the tenuous peace between the two warring nations at risk\, a neutral team of investigators—led by Swiss Army Major Sophie Jean (Lee Young-ae\, LADY VENGEANCE)—is dispatched to determine what really happened. The recipient of multiple accolades (including Best Film at South Korea’s 2001 Grand Bell Awards) JOINT SECURITY AREA showcases Park’s iconic style in an embryonic form while delivering a stylish\, ultra-tense experience as only he can.
URL:https://www.discoverhollywood.com/event/joint-security-area/
LOCATION:American Cinematheque at Egyptian Theatre\, 6712 Hollywood Blvd.\, Hollywood\, California
END:VEVENT
BEGIN:VEVENT
DTSTART;TZID=Asia/Kolkata:20230227T000000
DTEND;TZID=Asia/Kolkata:20230227T000000
DTSTAMP:20260426T035607
CREATED:20250630T090110Z
LAST-MODIFIED:20250630T090110Z
UID:10001127-1677456000-1677456000@www.discoverhollywood.com
SUMMARY:2001: A Space Odyssey
DESCRIPTION:DesignHTMLWords: 0   Characters: 0
URL:https://www.discoverhollywood.com/event/2001-a-space-odyssey-3/
LOCATION:American Cinematheque at Egyptian Theatre\, 6712 Hollywood Blvd.\, Hollywood\, California
END:VEVENT
BEGIN:VEVENT
DTSTART;TZID=Asia/Kolkata:20230224T000000
DTEND;TZID=Asia/Kolkata:20230224T000000
DTSTAMP:20260426T035607
CREATED:20250630T090110Z
LAST-MODIFIED:20250630T090110Z
UID:10001128-1677196800-1677196800@www.discoverhollywood.com
SUMMARY:2001: A Space Odyssey
DESCRIPTION:DesignHTMLWords: 0   Characters: 0
URL:https://www.discoverhollywood.com/event/2001-a-space-odyssey-4/
LOCATION:American Cinematheque at Egyptian Theatre\, 6712 Hollywood Blvd.\, Hollywood\, California
END:VEVENT
BEGIN:VEVENT
DTSTART;TZID=Asia/Kolkata:20221120T000000
DTEND;TZID=Asia/Kolkata:20221120T000000
DTSTAMP:20260426T035607
CREATED:20250630T090255Z
LAST-MODIFIED:20250630T090255Z
UID:10001160-1668902400-1668902400@www.discoverhollywood.com
SUMMARY:2019 Oscar-Nominated Animated Shorts
DESCRIPTION:%3cspan%3eThe American Cinematheque presents all of the 2018 Oscar-nominated animated short films%3a%26nbsp%3b%3c/span%3e\n%3cstrong%3e“Animal Behaviour%2c” “Bao%2c” “Late Afternoon%2c” “One Small Step”%3c/strong%3e\n%3cspan%3e%26nbsp%3band%26nbsp%3b%3c/span%3e\n%3cstrong%3e“Weekends.” Program also features additional animated shorts from 2018.%3c/strong%3eDesignHTMLWords: 30   Characters: 222
URL:https://www.discoverhollywood.com/event/2019-oscar-nominated-animated-shorts-2/
LOCATION:American Cinematheque at Egyptian Theatre\, 6712 Hollywood Blvd.\, Hollywood\, California
END:VEVENT
BEGIN:VEVENT
DTSTART;TZID=Asia/Kolkata:20221117T000000
DTEND;TZID=Asia/Kolkata:20221117T000000
DTSTAMP:20260426T035607
CREATED:20250630T090255Z
LAST-MODIFIED:20250630T090255Z
UID:10001161-1668643200-1668643200@www.discoverhollywood.com
SUMMARY:2019 Oscar-Nominated Documentary Shorts
DESCRIPTION:%3cspan%3eThe American Cinematheque presents all of the latest Oscar-nominated documentary shorts%3a%26nbsp%3b%3c/span%3e\n%3cstrong%3e“Black Sheep%2c” “End Game%2c” “Lifeboat%2c” “A Night at the Garden”%3c/strong%3e\n%3cspan%3e%26nbsp%3band%26nbsp%3b%3c/span%3e\n%3cstrong%3e“Period. End of Sentence.”%3c/strong%3eDesignHTMLWords: 26   Characters: 178
URL:https://www.discoverhollywood.com/event/2019-oscar-nominated-documentary-shorts-2/
LOCATION:American Cinematheque at Egyptian Theatre\, 6712 Hollywood Blvd.\, Hollywood\, California
END:VEVENT
BEGIN:VEVENT
DTSTART;TZID=Asia/Kolkata:20221114T000000
DTEND;TZID=Asia/Kolkata:20221114T000000
DTSTAMP:20260426T035607
CREATED:20250630T090255Z
LAST-MODIFIED:20250630T090255Z
UID:10001162-1668384000-1668384000@www.discoverhollywood.com
SUMMARY:2019 Oscar-Nominated Live-Action Shorts
DESCRIPTION:%3cspan%3eLuchino Visconti’s haunting period drama%26nbsp%3b%3c/span%3e\n%3cstrong%3eDEATH IN VENICE%3c/strong%3e\n%3cspan%3efollows an ailing German composer %28Dirk Bogarde%29 who travels to Venice%2c where he becomes dangerously fixated on a young boy who encompasses his ideal of classic beauty. With English subtitles.%3c/span%3eDesignHTMLWords: 38   Characters: 245
URL:https://www.discoverhollywood.com/event/2019-oscar-nominated-live-action-shorts-2/
LOCATION:American Cinematheque at Egyptian Theatre\, 6712 Hollywood Blvd.\, Hollywood\, California
END:VEVENT
BEGIN:VEVENT
DTSTART;TZID=Asia/Kolkata:20220906T000000
DTEND;TZID=Asia/Kolkata:20220906T000000
DTSTAMP:20260426T035607
CREATED:20250630T090410Z
LAST-MODIFIED:20250630T090410Z
UID:10001185-1662422400-1662422400@www.discoverhollywood.com
SUMMARY:24th Annual Recent Spanish Cinema
DESCRIPTION:%3cp%3eThe annual festival has exposed countless Angelenos to Spanish culture%2c from art and music to food%2c fashion and more.%26nbsp%3b All films in Spanish with English subtitles%2c unless noted.%26nbsp%3b%26nbsp%3b%3c/p%3eDesignHTMLWords: 28   Characters: 172
URL:https://www.discoverhollywood.com/event/24th-annual-recent-spanish-cinema-2/
LOCATION:American Cinematheque at Egyptian Theatre\, 6712 Hollywood Blvd.\, Hollywood\, California
END:VEVENT
BEGIN:VEVENT
DTSTART;TZID=Asia/Kolkata:20210806T000000
DTEND;TZID=Asia/Kolkata:20210806T000000
DTSTAMP:20260426T035607
CREATED:20250630T093537Z
LAST-MODIFIED:20250630T093537Z
UID:10001317-1628208000-1628208000@www.discoverhollywood.com
SUMMARY:A Boy and His Dog & The Outer Limits
DESCRIPTION:Harlan Ellison Tribute%21 Robert Culp stars in an episode of TV’s “The Outer Limits” penned by the late sci-fi scribe. Followed by A BOY AND HIS DOG %2835mm%29%2c starring Jason Robards and Don Johnson in an adaptation of Ellison’s short story about the survivors of a nuclear holocaust. %3ca href%3d%22http%3a//www.americancinemathequecalendar.com/egyptian_theatre_events%22 target%3d%22_blank%22%3ewww.americancinemathequecalendar.com%3c/a%3eDesignHTMLWords: 49   Characters: 307
URL:https://www.discoverhollywood.com/event/a-boy-and-his-dog-the-outer-limits-2/
LOCATION:American Cinematheque at Egyptian Theatre\, 6712 Hollywood Blvd.\, Hollywood\, California
END:VEVENT
BEGIN:VEVENT
DTSTART;TZID=Asia/Kolkata:20210625T000000
DTEND;TZID=Asia/Kolkata:20210625T000000
DTSTAMP:20260426T035607
CREATED:20250630T094140Z
LAST-MODIFIED:20250630T094140Z
UID:10001331-1624579200-1624579200@www.discoverhollywood.com
SUMMARY:A Clockwork Orange
DESCRIPTION:DesignHTMLWords: 0   Characters: 0
URL:https://www.discoverhollywood.com/event/a-clockwork-orange-2/
LOCATION:American Cinematheque at Egyptian Theatre\, 6712 Hollywood Blvd.\, Hollywood\, California
END:VEVENT
BEGIN:VEVENT
DTSTART;TZID=Asia/Kolkata:20141019T000000
DTEND;TZID=Asia/Kolkata:20141019T000000
DTSTAMP:20260426T035607
CREATED:20250630T114250Z
LAST-MODIFIED:20250630T114250Z
UID:10002203-1413676800-1413676800@www.discoverhollywood.com
SUMMARY:Ariana Gerstein: Traces and Memories
DESCRIPTION:Los Angeles Filmforum presents a mini-retrospective of Gerstein%27s recent work.DesignHTMLWords: 10   Characters: 75
URL:https://www.discoverhollywood.com/event/ariana-gerstein-traces-and-memories/
LOCATION:American Cinematheque at Egyptian Theatre\, 6712 Hollywood Blvd.\, Hollywood\, California
END:VEVENT
BEGIN:VEVENT
DTSTART;TZID=Asia/Kolkata:20140907T000000
DTEND;TZID=Asia/Kolkata:20140907T000000
DTSTAMP:20260426T035607
CREATED:20250630T114350Z
LAST-MODIFIED:20250630T114350Z
UID:10002224-1410048000-1410048000@www.discoverhollywood.com
SUMMARY:Arpa Rental
DESCRIPTION:DesignHTMLWords: 0   Characters: 0
URL:https://www.discoverhollywood.com/event/arpa-rental/
LOCATION:American Cinematheque at Egyptian Theatre\, 6712 Hollywood Blvd.\, Hollywood\, California
END:VEVENT
BEGIN:VEVENT
DTSTART;TZID=Asia/Kolkata:20140903T000000
DTEND;TZID=Asia/Kolkata:20140903T000000
DTSTAMP:20260426T035607
CREATED:20250630T114405Z
LAST-MODIFIED:20250630T114405Z
UID:10002226-1409702400-1409702400@www.discoverhollywood.com
SUMMARY:ARRAY@The Broad Presents Ganja & Hess
DESCRIPTION:Flirting with the conventions of blaxploitation and horror%2c Bill Gunn’s revolutionary independent film GANJA %26amp%3b HESS %281973%29 is a highly stylized and utterly original treatise on sex%2c religion%2c and African American identity. Conversation with special guests to follow.%26nbsp%3b%26nbsp%3b%3cdiv%3e\n	%3ca href%3d%22https%3a//www.fandango.com/egyptian-theatre-hollywood-aaofx/theater-page%3fdate%3d2018-10-29%22 target%3d%22_blank%22%3ewww.fandango.com/egyptian-theatre-hollywood-aaofx%3c/a%3e\n%3c/div%3eDesignHTMLWords: 38   Characters: 305
URL:https://www.discoverhollywood.com/event/arraythe-broad-presents-ganja-hess/
LOCATION:American Cinematheque at Egyptian Theatre\, 6712 Hollywood Blvd.\, Hollywood\, California
END:VEVENT
BEGIN:VEVENT
DTSTART;TZID=Asia/Kolkata:20140205T000000
DTEND;TZID=Asia/Kolkata:20140205T000000
DTSTAMP:20260426T035607
CREATED:20250630T120007Z
LAST-MODIFIED:20250630T120007Z
UID:10002331-1391558400-1391558400@www.discoverhollywood.com
SUMMARY:Auntie Mame
DESCRIPTION:%3cspan%3eIn AUNTIE MAME%2c Rosalind Russell stars as the jet-setting%2c Park Avenue aunt who suddenly becomes guardian to her young nephew. Free-spirited Mame takes the boy on irreverent escapades through the bohemian 1920s.%26nbsp%3b%3c/span%3eDesignHTMLWords: 32   Characters: 205
URL:https://www.discoverhollywood.com/event/auntie-mame/
LOCATION:American Cinematheque at Egyptian Theatre\, 6712 Hollywood Blvd.\, Hollywood\, California
END:VEVENT
BEGIN:VEVENT
DTSTART;TZID=Asia/Kolkata:20120603T000000
DTEND;TZID=Asia/Kolkata:20120603T000000
DTSTAMP:20260426T035607
CREATED:20250630T122554Z
LAST-MODIFIED:20250630T122554Z
UID:10002637-1338681600-1338681600@www.discoverhollywood.com
SUMMARY:Before the Devil Knows You're Dead & Gattaca
DESCRIPTION:Sydney Lumet%27s crime drama screens with dystopian sci-fi thriller%2c %3ci%3eGattaca%3c/i%3e.%26nbsp%3b Discussion with actor\n%3cb%3eEthan Hawke%3c/b%3e between the films. %26nbsp%3b\n%3ca href%3d%22http%3a//www.americancinemathequecalendar.com/content/before-the-devil-knows-you%27re-dead-gattaca%22 target%3d%22_blank%22%3ewww.americancinemathequecalendar.com/content/before-the-devil-knows-you%27re-dead-gattaca%3c/a%3e\n%3cbr%3eDesignHTMLWords: 19   Characters: 205
URL:https://www.discoverhollywood.com/event/before-the-devil-knows-youre-dead-gattaca/
LOCATION:American Cinematheque at Egyptian Theatre\, 6712 Hollywood Blvd.\, Hollywood\, California
END:VEVENT
BEGIN:VEVENT
DTSTART;TZID=Asia/Kolkata:20120325T000000
DTEND;TZID=Asia/Kolkata:20120325T000000
DTSTAMP:20260426T035607
CREATED:20250630T122712Z
LAST-MODIFIED:20250630T122712Z
UID:10002672-1332633600-1332633600@www.discoverhollywood.com
SUMMARY:Bellissima/The Job
DESCRIPTION:%3cspan%3eAnna Magnani is unforgettable in Luchino Visconti’s%26nbsp%3b%3c/span%3e\n%3cstrong%3eBELLISSIMA%3c/strong%3e\n%3cspan%3eas Maddalena%2c a working-class Italian convinced that her daughter could be the next Shirley Temple in this neorealist dramedy. In Italian with English subtitles.%26nbsp%3b%3c/span%3e\n%3cstrong%3eProgram begins with Visconti’s 55-minute segment of the 1962 anthology film BOCCACCIO ’70%2c “Il Lavoro” %28The Job%29%2c starring Romy Schneider.%3c/strong%3eDesignHTMLWords: 52   Characters: 355
URL:https://www.discoverhollywood.com/event/bellissima-the-job/
LOCATION:American Cinematheque at Egyptian Theatre\, 6712 Hollywood Blvd.\, Hollywood\, California
END:VEVENT
BEGIN:VEVENT
DTSTART;TZID=Asia/Kolkata:20110917T000000
DTEND;TZID=Asia/Kolkata:20110917T000000
DTSTAMP:20260426T035607
CREATED:20250630T123002Z
LAST-MODIFIED:20250630T123002Z
UID:10002767-1316217600-1316217600@www.discoverhollywood.com
SUMMARY:Beyond Fest Tribute to David Cronenberg: Dead Ringers
DESCRIPTION:Discussion following with director David Cronenberg and composer Howard Shore%2c moderated by Mick Garris. %3ca href%3d%22http%3a//americancinemathequecalendar.com/content/dead-ringers-0%22 target%3d%22_blank%22%3eamericancinemathequecalendar.com/content/dead-ringers-0%3c/a%3eDesignHTMLWords: 15   Characters: 155
URL:https://www.discoverhollywood.com/event/beyond-fest-tribute-to-david-cronenberg-dead-ringers/
LOCATION:American Cinematheque at Egyptian Theatre\, 6712 Hollywood Blvd.\, Hollywood\, California
END:VEVENT
BEGIN:VEVENT
DTSTART;TZID=Asia/Kolkata:20110915T000000
DTEND;TZID=Asia/Kolkata:20110915T000000
DTSTAMP:20260426T035607
CREATED:20250630T123002Z
LAST-MODIFIED:20250630T123002Z
UID:10002768-1316044800-1316044800@www.discoverhollywood.com
SUMMARY:Beyond Fest Tribute to David Cronenberg: Shivers\, Rabid\, The Brood\, and Scanners
DESCRIPTION:%3ca href%3d%22http%3a//americancinemathequecalendar.com/content/shivers-rabid-the-brood-scanners%22 target%3d%22_blank%22%3eamericancinemathequecalendar.com/content/shivers-rabid-the-brood-scanners%3c/a%3eDesignHTMLWords: 1   Characters: 68
URL:https://www.discoverhollywood.com/event/beyond-fest-tribute-to-david-cronenberg-shivers-rabid-the-brood-and-scanners/
LOCATION:American Cinematheque at Egyptian Theatre\, 6712 Hollywood Blvd.\, Hollywood\, California
END:VEVENT
BEGIN:VEVENT
DTSTART;TZID=Asia/Kolkata:20110913T000000
DTEND;TZID=Asia/Kolkata:20110913T000000
DTSTAMP:20260426T035607
CREATED:20250630T123002Z
LAST-MODIFIED:20250630T123002Z
UID:10002769-1315872000-1315872000@www.discoverhollywood.com
SUMMARY:Beyond Fest Tribute to David Cronenberg: The Fly/Naked Lunch
DESCRIPTION:Discussion between films with director David Cronenberg%2c composer Howard Shore and actress Geena Davis. %3ca href%3d%22http%3a//americancinemathequecalendar.com/content/the-fly-naked-lunch%22 target%3d%22_blank%22%3eamericancinemathequecalendar.com/content/the-fly-naked-lunch%3c/a%3eDesignHTMLWords: 15   Characters: 158
URL:https://www.discoverhollywood.com/event/beyond-fest-tribute-to-david-cronenberg-the-fly-naked-lunch/
LOCATION:American Cinematheque at Egyptian Theatre\, 6712 Hollywood Blvd.\, Hollywood\, California
END:VEVENT
BEGIN:VEVENT
DTSTART;TZID=Asia/Kolkata:20110911T000000
DTEND;TZID=Asia/Kolkata:20110911T000000
DTSTAMP:20260426T035607
CREATED:20250630T123018Z
LAST-MODIFIED:20250630T123019Z
UID:10002770-1315699200-1315699200@www.discoverhollywood.com
SUMMARY:Beyond Fest Tribute to David Cronenberg: Videodrome/Existenz
DESCRIPTION:Discussion between films with director David Cronenberg%2c composer Howard Shore and actresses Debbie Harry and Jennifer Jason Leigh%2c moderated by Leigh Whannell. %3ca href%3d%22http%3a//americancinemathequecalendar.com/content/videodrome-existenz-0%22 target%3d%22_blank%22%3eamericancinemathequecalendar.com/content/videodrome-existenz-0%3c/a%3eDesignHTMLWords: 23   Characters: 217
URL:https://www.discoverhollywood.com/event/beyond-fest-tribute-to-david-cronenberg-videodrome-existenz/
LOCATION:American Cinematheque at Egyptian Theatre\, 6712 Hollywood Blvd.\, Hollywood\, California
END:VEVENT
BEGIN:VEVENT
DTSTART;TZID=Asia/Kolkata:20110903T000000
DTEND;TZID=Asia/Kolkata:20110903T000000
DTSTAMP:20260426T035607
CREATED:20250630T123019Z
LAST-MODIFIED:20250630T123020Z
UID:10002774-1315008000-1315008000@www.discoverhollywood.com
SUMMARY:Beyond the Valley of the Dolls
DESCRIPTION:DesignHTMLWords: 0   Characters: 0
URL:https://www.discoverhollywood.com/event/beyond-the-valley-of-the-dolls/
LOCATION:American Cinematheque at Egyptian Theatre\, 6712 Hollywood Blvd.\, Hollywood\, California
END:VEVENT
BEGIN:VEVENT
DTSTART;TZID=Asia/Kolkata:20110629T000000
DTEND;TZID=Asia/Kolkata:20110629T000000
DTSTAMP:20260426T035607
CREATED:20250630T123128Z
LAST-MODIFIED:20250630T123128Z
UID:10002807-1309305600-1309305600@www.discoverhollywood.com
SUMMARY:Big Trouble in Little China
DESCRIPTION:DesignHTMLWords: 0   Characters: 0
URL:https://www.discoverhollywood.com/event/big-trouble-in-little-china/
LOCATION:American Cinematheque at Egyptian Theatre\, 6712 Hollywood Blvd.\, Hollywood\, California
END:VEVENT
BEGIN:VEVENT
DTSTART;TZID=Asia/Kolkata:20101119T000000
DTEND;TZID=Asia/Kolkata:20101119T000000
DTSTAMP:20260426T035607
CREATED:20250630T130659Z
LAST-MODIFIED:20250716T121322Z
UID:10002919-1290124800-1290124800@www.discoverhollywood.com
SUMMARY:Black Magic 2/Human Lanterns/The Boxer's Omen
DESCRIPTION:Shaw Brothers Triple Feature%21 In BLACK MAGIC 2%2c skeptical city doctors visit a small village. In HUMAN LANTERNS%2c a skull-masked village psycho is on the loose. THE BOXER’S OMEN is easily the most notorious film in the entire Shaw Brothers catalogue%2c a Wizard Battle movie to end all Wizard Battle movies.DesignHTMLWords: 51   Characters: 296
URL:https://www.discoverhollywood.com/event/black-magic-2-human-lanterns-the-boxers-omen/
LOCATION:American Cinematheque at Egyptian Theatre\, 6712 Hollywood Blvd.\, Hollywood\, California
END:VEVENT
BEGIN:VEVENT
DTSTART;TZID=Asia/Kolkata:20100916T000000
DTEND;TZID=Asia/Kolkata:20100916T000000
DTSTAMP:20260426T035607
CREATED:20250630T130928Z
LAST-MODIFIED:20250716T121654Z
UID:10002951-1284595200-1284595200@www.discoverhollywood.com
SUMMARY:BlacKkKlansman
DESCRIPTION:Director Spike Lee in person.DesignHTMLWords: 5   Characters: 28
URL:https://www.discoverhollywood.com/event/blackkklansman/
LOCATION:American Cinematheque at Egyptian Theatre\, 6712 Hollywood Blvd.\, Hollywood\, California
END:VEVENT
BEGIN:VEVENT
DTSTART;TZID=Asia/Kolkata:20100904T000000
DTEND;TZID=Asia/Kolkata:20100904T000000
DTSTAMP:20260426T035607
CREATED:20250630T130937Z
LAST-MODIFIED:20250716T121855Z
UID:10002957-1283558400-1283558400@www.discoverhollywood.com
SUMMARY:Blacula
DESCRIPTION:%3cem%3eFree screening%21%3c/em%3e\n%3cspan%3e%26nbsp%3bCo-presented by Beyond Fest and Shudder%21 The first and perhaps most enduring blaxploitation horror film of the early 1970s%2c%26nbsp%3b%3c/span%3e\n%3cstrong%3eBLACULA%3c/strong%3e\n%3cspan%3e%26nbsp%3btells the tragic story of a good-natured man’s transformation into a blood-sucking%2c undead killer.%26nbsp%3b%3c/span%3e\n%3cstrong%3eIntroduction by director William Crain.%3c/strong%3eDesignHTMLWords: 41   Characters: 281
URL:https://www.discoverhollywood.com/event/blacula/
LOCATION:American Cinematheque at Egyptian Theatre\, 6712 Hollywood Blvd.\, Hollywood\, California
END:VEVENT
BEGIN:VEVENT
DTSTART;TZID=Asia/Kolkata:20061112T000000
DTEND;TZID=Asia/Kolkata:20061112T000000
DTSTAMP:20260426T035607
CREATED:20250701T081047Z
LAST-MODIFIED:20250701T081047Z
UID:10003553-1163289600-1163289600@www.discoverhollywood.com
SUMMARY:Champions
DESCRIPTION:%3cspan%3eIn this hilarious and touching box office hit%2c Marco Montes %28Javier Gutiérrez%29 finds himself at the mercy of a judge after losing his prestigious coaching job and getting arrested in a drunk driving incident. Part of his sentence involves coaching a basketball team of men with disabilities – an opportunity that may be Marco’s one chance to pick himself up and lead a team of talented players to victory.%26nbsp%3b%3c/span%3eDesignHTMLWords: 68   Characters: 399
URL:https://www.discoverhollywood.com/event/champions/
LOCATION:American Cinematheque at Egyptian Theatre\, 6712 Hollywood Blvd.\, Hollywood\, California
END:VEVENT
BEGIN:VEVENT
DTSTART;TZID=Asia/Kolkata:20061027T000000
DTEND;TZID=Asia/Kolkata:20061027T000000
DTSTAMP:20260426T035607
CREATED:20250701T081448Z
LAST-MODIFIED:20250701T081448Z
UID:10003561-1161907200-1161907200@www.discoverhollywood.com
SUMMARY:Chaplin\, Keaton\, Lloyd: A Night of Classic Comedy Shorts
DESCRIPTION:The latest Retroformat program presents the three giants of silent comedy – Charles Chaplin%2c Buster Keaton and Harold Lloyd – in and out of their iconic roles. With live musical accompaniment by Cliff Retallick.DesignHTMLWords: 32   Characters: 206
URL:https://www.discoverhollywood.com/event/chaplin-keaton-lloyd-a-night-of-classic-comedy-shorts/
LOCATION:American Cinematheque at Egyptian Theatre\, 6712 Hollywood Blvd.\, Hollywood\, California
END:VEVENT
BEGIN:VEVENT
DTSTART;TZID=Asia/Kolkata:20050817T000000
DTEND;TZID=Asia/Kolkata:20050817T000000
DTSTAMP:20260426T035607
CREATED:20250701T091446Z
LAST-MODIFIED:20250701T091446Z
UID:10003779-1124236800-1124236800@www.discoverhollywood.com
SUMMARY:Cinecon Rental
DESCRIPTION:DesignHTMLWords: 0   Characters: 0
URL:https://www.discoverhollywood.com/event/cinecon-rental/
LOCATION:American Cinematheque at Egyptian Theatre\, 6712 Hollywood Blvd.\, Hollywood\, California
END:VEVENT
BEGIN:VEVENT
DTSTART;TZID=Asia/Kolkata:20050218T000000
DTEND;TZID=Asia/Kolkata:20050218T000000
DTSTAMP:20260426T035607
CREATED:20250701T093502Z
LAST-MODIFIED:20250701T093502Z
UID:10003869-1108684800-1108684800@www.discoverhollywood.com
SUMMARY:Cleopatra
DESCRIPTION:8th anniversary of the 1934 film premiere starring Claudette Colbert%2c directed by Cecil D. DeMille.\n%3cbr%3eDesignHTMLWords: 15   Characters: 96
URL:https://www.discoverhollywood.com/event/cleopatra/
LOCATION:American Cinematheque at Egyptian Theatre\, 6712 Hollywood Blvd.\, Hollywood\, California
END:VEVENT
END:VCALENDAR