BEGIN:VCALENDAR
VERSION:2.0
PRODID:-//Discover Hollywood Magazine - ECPv6.15.20//NONSGML v1.0//EN
CALSCALE:GREGORIAN
METHOD:PUBLISH
X-WR-CALNAME:Discover Hollywood Magazine
X-ORIGINAL-URL:https://www.discoverhollywood.com
X-WR-CALDESC:Events for Discover Hollywood Magazine
REFRESH-INTERVAL;VALUE=DURATION:PT1H
X-Robots-Tag:noindex
X-PUBLISHED-TTL:PT1H

BEGIN:VEVENT
DTSTART;TZID=Asia/Kolkata:19990120T000000
DTEND;TZID=Asia/Kolkata:19990120T000000
DTSTAMP:20260424T184405
CREATED:20250701T134412Z
LAST-MODIFIED:20250702T044611Z
UID:10005038-916790400-916790400@www.discoverhollywood.com
SUMMARY:Egyptian Lover
DESCRIPTION:Some call it Electro%2c some call it Hip Hop%2c some call it Old School%2c some call it Rap%2c but he calls it %22Dance Music.%22 Egyptian Lover makes music to make you dance.DesignHTMLWords: 32   Characters: 155
URL:https://www.discoverhollywood.com/event/egyptian-lover/
LOCATION:Amoeba Music\, 6400 Sunset Blvd.\, Hollywood\, California
END:VEVENT
BEGIN:VEVENT
DTSTART;TZID=Asia/Kolkata:19971108T000000
DTEND;TZID=Asia/Kolkata:19971108T000000
DTSTAMP:20260424T184405
CREATED:20250702T060237Z
LAST-MODIFIED:20250702T060237Z
UID:10005476-878947200-878947200@www.discoverhollywood.com
SUMMARY:Fidlar In-Store Performance and Signing
DESCRIPTION:%3ca href%3d%22https%3a//www.amoeba.com/live-shows/upcoming/detail-4652/%22 target%3d%22_blank%22%3ehttps%3a//www.amoeba.com/live-shows/upcoming/detail-4652/%3c/a%3eDesignHTMLWords: 1   Characters: 50
URL:https://www.discoverhollywood.com/event/fidlar-in-store-performance-and-signing/
LOCATION:Amoeba Music\, 6400 Sunset Blvd.\, Hollywood\, California
END:VEVENT
BEGIN:VEVENT
DTSTART;TZID=Asia/Kolkata:19960322T000000
DTEND;TZID=Asia/Kolkata:19960322T000000
DTSTAMP:20260424T184405
CREATED:20250703T065700Z
LAST-MODIFIED:20250703T065700Z
UID:10006068-827452800-827452800@www.discoverhollywood.com
SUMMARY:Girlpool
DESCRIPTION:In-store performance and signing.%3cdiv%3e\n	%3cbr%3e\n%3c/div%3e\n%3cdiv%3e\n	%3ca href%3d%22https%3a//www.amoeba.com/live-shows/upcoming/detail-4660/%22 target%3d%22_blank%22%3ehttps%3a//www.amoeba.com/live-shows/upcoming/detail-4660/%3c/a%3e\n%3c/div%3eDesignHTMLWords: 5   Characters: 84
URL:https://www.discoverhollywood.com/event/girlpool/
LOCATION:Amoeba Music\, 6400 Sunset Blvd.\, Hollywood\, California
END:VEVENT
BEGIN:VEVENT
DTSTART;TZID=Asia/Kolkata:19950521T000000
DTEND;TZID=Asia/Kolkata:19950521T000000
DTSTAMP:20260424T184405
CREATED:20250703T084608Z
LAST-MODIFIED:20250703T084609Z
UID:10006374-801014400-801014400@www.discoverhollywood.com
SUMMARY:Guster
DESCRIPTION:In-store performance.%3cdiv%3e\n	%3cbr%3e\n%3c/div%3e\n%3cdiv%3e\n	%3ca href%3d%22https%3a//www.amoeba.com/%22 target%3d%22_blank%22%3ehttps%3a//www.amoeba.com/%3c/a%3e\n%3c/div%3eDesignHTMLWords: 3   Characters: 42
URL:https://www.discoverhollywood.com/event/guster-2/
LOCATION:Amoeba Music\, 6400 Sunset Blvd.\, Hollywood\, California
END:VEVENT
BEGIN:VEVENT
DTSTART;TZID=Asia/Kolkata:19920220T000000
DTEND;TZID=Asia/Kolkata:19920220T000000
DTSTAMP:20260424T184405
CREATED:20250703T115426Z
LAST-MODIFIED:20250703T115426Z
UID:10007275-698544000-698544000@www.discoverhollywood.com
SUMMARY:Jenny Lewis
DESCRIPTION:%3cp%3eJenny Lewis kicks off her new album%2c%26nbsp%3b%3cem%3eOn The Line%3c/em%3e%26nbsp%3b with a free live show/%3c/p%3e\n%3cp%3ePurchase %3cem%3eOn The Line%3c/em%3e%26nbsp%3bin-store at Amoeba Hollywood on March 22nd to receive guaranteed/priority admission ticket to the live show and a limited-edition poster pre-signed by Jenny Lewis%21%3c/p%3e\n%3ca href%3d%22https%3a//www.amoeba.com%22 target%3d%22_blank%22%3ehttps%3a//www.amoeba.com%3c/a%3eDesignHTMLWords: 44   Characters: 274
URL:https://www.discoverhollywood.com/event/jenny-lewis-2/
LOCATION:Amoeba Music\, 6400 Sunset Blvd.\, Hollywood\, California
END:VEVENT
BEGIN:VEVENT
DTSTART;TZID=Asia/Kolkata:19911017T000000
DTEND;TZID=Asia/Kolkata:19911017T000000
DTSTAMP:20260424T184405
CREATED:20250703T120601Z
LAST-MODIFIED:20250703T120601Z
UID:10007401-687657600-687657600@www.discoverhollywood.com
SUMMARY:Joel Jerome
DESCRIPTION:Since his band dios disbanded%2c Joel has gone on to engineer and produce some of our favorite LA bands and now releases his first solo project album. Though his approach to pop music yields recordings and live shows of both lush delicacy and schizophrenic arrangement%2c his solo performances can deliver beautifully intimate moments with some of the most memorable vocals you will ever hear.DesignHTMLWords: 64   Characters: 385
URL:https://www.discoverhollywood.com/event/joel-jerome/
LOCATION:Amoeba Music\, 6400 Sunset Blvd.\, Hollywood\, California
END:VEVENT
BEGIN:VEVENT
DTSTART;TZID=Asia/Kolkata:19910826T000000
DTEND;TZID=Asia/Kolkata:19910826T000000
DTSTAMP:20260424T184405
CREATED:20250703T120747Z
LAST-MODIFIED:20250703T120747Z
UID:10007453-683164800-683164800@www.discoverhollywood.com
SUMMARY:John Oates
DESCRIPTION:%3cp%3eJohn Oates celebrates his new DVD%2c %3cem%3eAnother Good Road%3c/em%3e %28out 1/20%29%26nbsp%3b with a live performance and signing at Amoeba. Purchase your copy of the DVD at Amoeba%2c Hollywood beginning January 20th to be able to get your copy signed after his in-store performance on February 5th.%3c/p%3e\n%3cp%3e%3c/p%3e\n%3cp%3e%3cem%3eAnother Good Road %3c/em%3eis John Oates%27 new release and comes out on DVD with bonus%2c live CD on PS Records /Warner Elektra%2c January 20th. Born from Oates’ dedication to American roots music%2c the captivatinDesignHTMLWords: 80   Characters: 456
URL:https://www.discoverhollywood.com/event/john-oates/
LOCATION:Amoeba Music\, 6400 Sunset Blvd.\, Hollywood\, California
END:VEVENT
BEGIN:VEVENT
DTSTART;TZID=Asia/Kolkata:19901219T000000
DTEND;TZID=Asia/Kolkata:19901219T000000
DTSTAMP:20260424T184405
CREATED:20250703T122212Z
LAST-MODIFIED:20250703T122212Z
UID:10007703-661564800-661564800@www.discoverhollywood.com
SUMMARY:Kai Teichert: One Man Trunk Show
DESCRIPTION:%3cp%3eKAI TEICHERT%3a ONE MAN TRUNK SHOW%3c/p%3e\n%3cp%3eGerman artist will install his artwork from a trunk one night only%7e%3c/p%3eDesignHTMLWords: 18   Characters: 99
URL:https://www.discoverhollywood.com/event/kai-teichert-one-man-trunk-show/
LOCATION:Amoeba Music\, 6400 Sunset Blvd.\, Hollywood\, California
END:VEVENT
BEGIN:VEVENT
DTSTART;TZID=Asia/Kolkata:19901013T000000
DTEND;TZID=Asia/Kolkata:19901013T000000
DTSTAMP:20260424T184405
CREATED:20250709T054636Z
LAST-MODIFIED:20250709T054636Z
UID:10007770-655776000-655776000@www.discoverhollywood.com
SUMMARY:Katon W. De Pena
DESCRIPTION:Katon W. De Pena of the legendary thrash metal band %3ca href%3d%22http%3a//www.amoeba.com/hirax/artist/319169%22%3eHIRAX%3c/a%3e is entertaining the masses with old school heavy metal music%2c hard rock%2c punk%2c thrash%2c crossover%2c etc. bands like Uriah Heep%2c Judas Priest%2c Rainbow%2c Venom%2c Thin Lizzy%2c Motorhead%2c Black Sabbath%2c Slayer and many moreDesignHTMLWords: 44   Characters: 258
URL:https://www.discoverhollywood.com/event/katon-w-de-pena/
LOCATION:Amoeba Music\, 6400 Sunset Blvd.\, Hollywood\, California
END:VEVENT
BEGIN:VEVENT
DTSTART;TZID=Asia/Kolkata:19900710T000000
DTEND;TZID=Asia/Kolkata:19900710T000000
DTSTAMP:20260424T184406
CREATED:20250709T055938Z
LAST-MODIFIED:20250709T055938Z
UID:10007865-647568000-647568000@www.discoverhollywood.com
SUMMARY:Kevin Morby
DESCRIPTION:DesignHTMLWords: 0   Characters: 0
URL:https://www.discoverhollywood.com/event/kevin-morby/
LOCATION:Amoeba Music\, 6400 Sunset Blvd.\, Hollywood\, California
END:VEVENT
BEGIN:VEVENT
DTSTART;TZID=Asia/Kolkata:19880908T000000
DTEND;TZID=Asia/Kolkata:19880908T000000
DTSTAMP:20260424T184406
CREATED:20250709T124326Z
LAST-MODIFIED:20250709T124326Z
UID:10008935-589680000-589680000@www.discoverhollywood.com
SUMMARY:Mary Wilson & Freda Payne: Legends of Love
DESCRIPTION:Join us for a very special evening with two musical legends as they perform and sign copies of their albums and books %28available for purchase at the in-store event%29 and we%27ll have their limited-edition Sweets Hollywood candy bars on offer too%21DesignHTMLWords: 41   Characters: 237
URL:https://www.discoverhollywood.com/event/mary-wilson-freda-payne-legends-of-love/
LOCATION:Amoeba Music\, 6400 Sunset Blvd.\, Hollywood\, California
END:VEVENT
BEGIN:VEVENT
DTSTART;TZID=Asia/Kolkata:19880723T000000
DTEND;TZID=Asia/Kolkata:19880723T000000
DTSTAMP:20260424T184406
CREATED:20250709T124557Z
LAST-MODIFIED:20250709T124557Z
UID:10008982-585619200-585619200@www.discoverhollywood.com
SUMMARY:Matt Starr
DESCRIPTION:Matt Starr is a Los Angeles-based rock drummer.%26nbsp%3bHis credits%26nbsp%3binclude%26nbsp%3bMr Big%2c%26nbsp%3bAce Frehley%26nbsp%3b%26amp%3b Beautiful Creatures. When not on the road Matt spends his time with his family %26amp%3b listening to his 2000%2b vinyl collection. His first concert was KISS in 1979.DesignHTMLWords: 42   Characters: 239
URL:https://www.discoverhollywood.com/event/matt-starr/
LOCATION:Amoeba Music\, 6400 Sunset Blvd.\, Hollywood\, California
END:VEVENT
BEGIN:VEVENT
DTSTART;TZID=Asia/Kolkata:19871105T000000
DTEND;TZID=Asia/Kolkata:19871105T000000
DTSTAMP:20260424T184406
CREATED:20250710T095733Z
LAST-MODIFIED:20250710T095733Z
UID:10009243-563068800-563068800@www.discoverhollywood.com
SUMMARY:Mike Parvizi
DESCRIPTION:Mike Parvizi is a music producer and multi-instrumentalist based out of Los Angeles. He is a co-founder of LA collective TeamSupreme%2c and 1/2 of the production duo Penthouse Penthouse%2c who recently completed a national tour with The Glitch Mob opening shows to sold out crowds. Penthouse Penthouse also performed at the 2014 Coachella Valley Music Festival.DesignHTMLWords: 56   Characters: 350
URL:https://www.discoverhollywood.com/event/mike-parvizi/
LOCATION:Amoeba Music\, 6400 Sunset Blvd.\, Hollywood\, California
END:VEVENT
BEGIN:VEVENT
DTSTART;TZID=Asia/Kolkata:19871016T000000
DTEND;TZID=Asia/Kolkata:19871016T000000
DTSTAMP:20260424T184406
CREATED:20250710T095814Z
LAST-MODIFIED:20250710T095814Z
UID:10009263-561340800-561340800@www.discoverhollywood.com
SUMMARY:Mild High Club
DESCRIPTION:Live music and album release. A stone in the zen garden of L.A. slack funk psychedelia.%22%26nbsp%3b %3cem%3e- KCRW%3c/em%3e\n%3cbr%3eDesignHTMLWords: 17   Characters: 90
URL:https://www.discoverhollywood.com/event/mild-high-club/
LOCATION:Amoeba Music\, 6400 Sunset Blvd.\, Hollywood\, California
END:VEVENT
BEGIN:VEVENT
DTSTART;TZID=Asia/Kolkata:19870906T000000
DTEND;TZID=Asia/Kolkata:19870906T000000
DTSTAMP:20260424T184406
CREATED:20250710T101257Z
LAST-MODIFIED:20250710T101257Z
UID:10009303-557884800-557884800@www.discoverhollywood.com
SUMMARY:Miranda Lee Richards
DESCRIPTION:%3cdiv class%3d%22w70 float-left mr10%22%3e\n	%3ca href%3d%22http%3a//www.amoeba.com/live-shows/upcoming/detail-3579/%22%3e%3cimg class%3d%22live-show-shadow%22 alt%3d%22%22 src%3d%22http%3a//www.amoeba.com/sized-images/max/70/53/uploads/MirandaLeeRichardsTHUMB.jpg%22 height%3d%2253%22 width%3d%2270%22%3e%3c/a%3e\n%3c/div%3e\n%3cdiv%3e\n	%3cp%3eMiranda Lee Richards performs an acoustic set and signs copies of her new album%2c %3cem%3eEchoes Of The Dreamtime %3c/em%3e%28out now via London-based indie Invisible Hands Music%29.%3c/p%3e\n%3c/div%3eDesignHTMLWords: 26   Characters: 155
URL:https://www.discoverhollywood.com/event/miranda-lee-richards-2/
LOCATION:Amoeba Music\, 6400 Sunset Blvd.\, Hollywood\, California
END:VEVENT
BEGIN:VEVENT
DTSTART;TZID=Asia/Kolkata:19860712T000000
DTEND;TZID=Asia/Kolkata:19860712T000000
DTSTAMP:20260424T184406
CREATED:20250710T120011Z
LAST-MODIFIED:20250710T120011Z
UID:10009724-521510400-521510400@www.discoverhollywood.com
SUMMARY:Neil & Liam Finn
DESCRIPTION:%3cspan%3eNeil and Liam Finn celebrate release day of their new album%26nbsp%3b%3c/span%3e\n%3cem%3eLightsleeper%26nbsp%3b%3c/em%3e\n%3cspan%3ewith a live performance and signing at Amoeba Hollywood.%3c/span%3eDesignHTMLWords: 21   Characters: 130
URL:https://www.discoverhollywood.com/event/neil-liam-finn-2/
LOCATION:Amoeba Music\, 6400 Sunset Blvd.\, Hollywood\, California
END:VEVENT
BEGIN:VEVENT
DTSTART;TZID=Asia/Kolkata:19860309T000000
DTEND;TZID=Asia/Kolkata:19860309T000000
DTSTAMP:20260424T184406
CREATED:20250710T120704Z
LAST-MODIFIED:20250710T120704Z
UID:10009849-510710400-510710400@www.discoverhollywood.com
SUMMARY:Nicholas Britell
DESCRIPTION:%3cdiv%3e\n	%3cspan%3eJoin us for a conversation with Nicholas Britell where he%27ll be playing selections from his Oscar nominated scores%2c%26nbsp%3b%3c/span%3e\n	%3cem%3eIf Beale Street Could Talk%3c/em%3e\n	%3cspan%3e%26nbsp%3b%3c/span%3e\n	%3cspan%3eand%3c/span%3e\n	%3cspan%3e%26nbsp%3b%3c/span%3e\n	%3cem%3eMoonlight%3c/em%3e\n	%3cspan%3e.%3c/span%3e\n%3c/div%3e\n%3cdiv%3e\n	%3cp%3eTo attend signing/meet after the event%3a Purchase your copy of the%26nbsp%3b%3cem%3eIf Beale Street Could Talk%3c/em%3e%26nbsp%3bsoundtrack at Amoeba Hollywood on February 5th.%3c/p%3e\n	%3cp%3e%3c/p%3e\n	%3cp%3e%3cspan%3e%3cspan%3e%3ca %3c%3d%22%22 bodDesignHTMLWords: 48   Characters: 300
URL:https://www.discoverhollywood.com/event/nicholas-britell/
LOCATION:Amoeba Music\, 6400 Sunset Blvd.\, Hollywood\, California
END:VEVENT
BEGIN:VEVENT
DTSTART;TZID=Asia/Kolkata:19860305T000000
DTEND;TZID=Asia/Kolkata:19860305T000000
DTSTAMP:20260424T184406
CREATED:20250710T120712Z
LAST-MODIFIED:20250710T120712Z
UID:10009853-510364800-510364800@www.discoverhollywood.com
SUMMARY:Nick Hakim
DESCRIPTION:DesignHTMLWords: 0   Characters: 0
URL:https://www.discoverhollywood.com/event/nick-hakim/
LOCATION:Amoeba Music\, 6400 Sunset Blvd.\, Hollywood\, California
END:VEVENT
BEGIN:VEVENT
DTSTART;TZID=Asia/Kolkata:19850716T000000
DTEND;TZID=Asia/Kolkata:19850716T000000
DTSTAMP:20260424T184406
CREATED:20250710T122421Z
LAST-MODIFIED:20250716T064741Z
UID:10010085-490320000-490320000@www.discoverhollywood.com
SUMMARY:Olivia Jean
DESCRIPTION:%3cp%3eOlivia Jean visits Amoeba Hollywood to play a live set with her band and sign copies of her new Third Man Records release%2c%3ci%3e%3ci%3e%3ca href%3d%22http%3a//www.amoeba.com/bathtub-love-killings-lp-olivia-jean/albums/3362921/%22%3eBathtub Love Killings%3c/a%3e%3c/i%3e%3c/i%3e%28available on\n	%3ca href%3d%22http%3a//www.amoeba.com/bathtub-love-killings-cd-olivia-jean/albums/3362923/%22%3eCD%3c/a%3e %26amp%3b\n	%3ca href%3d%22http%3a//www.amoeba.com/bathtub-love-killings-lp-olivia-jean/albums/3362921/%22%3eLP%3c/a%3e%29. Olivia Jean%2c the multi-instrumentalist who cut herDesignHTMLWords: 35   Characters: 210
URL:https://www.discoverhollywood.com/event/olivia-jean/
LOCATION:Amoeba Music\, 6400 Sunset Blvd.\, Hollywood\, California
END:VEVENT
BEGIN:VEVENT
DTSTART;TZID=Asia/Kolkata:19840328T000000
DTEND;TZID=Asia/Kolkata:19840328T000000
DTSTAMP:20260424T184406
CREATED:20250714T050635Z
LAST-MODIFIED:20250714T050635Z
UID:10010360-449280000-449280000@www.discoverhollywood.com
SUMMARY:Papercuts Live Performance and In-Store Signing
DESCRIPTION:%3cspan%3ePurchase%26nbsp%3b%3c/span%3e\n%3cem%3eParallel Universe Blues%26nbsp%3b%3c/em%3e\n%3cspan%3eon CD or vinyl in-store only at Amoeba to attend the album signings after the concert.%26nbsp%3b%3c/span%3e\n%3cdiv%3e\n	%3cspan%3e%3cbr%3e%3c/span%3e\n%3c/div%3e\n%3cdiv%3e\n	%3cspan%3e%3cspan%3e%3ca href%3d%22https%3a//www.amoeba.com/our-stores/store-news/3042/papercuts-perform-at-amoeba-san-francisco-amoeba-hollywood-3042/%3futm_source%3dTwitter%26amp%3butm_medium%3dPost%26amp%3butm_campaign%3dPapercutsBoth%22 target%3d%22_blank%22%3ehttps%3a//www.amoeba.com/our-stores/store-news/3042/papercuts-perform-atDesignHTMLWords: 21   Characters: 186
URL:https://www.discoverhollywood.com/event/papercuts-live-performance-and-in-store-signing/
LOCATION:Amoeba Music\, 6400 Sunset Blvd.\, Hollywood\, California
END:VEVENT
BEGIN:VEVENT
DTSTART;TZID=Asia/Kolkata:19830128T000000
DTEND;TZID=Asia/Kolkata:19830128T000000
DTSTAMP:20260424T184406
CREATED:20250714T093231Z
LAST-MODIFIED:20250714T093231Z
UID:10010555-412560000-412560000@www.discoverhollywood.com
SUMMARY:Prima Donna
DESCRIPTION:LA%27s Prima Donna celebrate the release of their new album%2c %3ci%3eNine Lives and Forty-Fives %3c/i%3e%28out 2/10 on Alive Naturalsound%29\n%3ci%3e%2c%3c/i%3e with a live set and signing at Amoeba Music%2c Hollywood%21 Catch their hooky%2c punked up live set and purchase the album at Amoeba to get your copy signed after their performance.DesignHTMLWords: 50   Characters: 286
URL:https://www.discoverhollywood.com/event/prima-donna/
LOCATION:Amoeba Music\, 6400 Sunset Blvd.\, Hollywood\, California
END:VEVENT
BEGIN:VEVENT
DTSTART;TZID=Asia/Kolkata:19820508T000000
DTEND;TZID=Asia/Kolkata:19820508T000000
DTSTAMP:20260424T184406
CREATED:20250714T094435Z
LAST-MODIFIED:20250714T094435Z
UID:10010820-389664000-389664000@www.discoverhollywood.com
SUMMARY:Record Store Day
DESCRIPTION:%3cspan%3eWHAT IS RECORD STORE DAY%3f%3c/span%3e\n%3cdiv%3e\n	%3cbr style%3d%22color%3argb%2829%2c 33%2c 41%29%3b font-family%3aHelvetica%2c Arial%2c sans-serif%3b font-size%3a14px%3b white-space%3apre-wrap%3b background-color%3argb%28255%2c 255%2c 255%29%3b%22%3e\n	%3cspan%3eOn Saturday%2c April 13%2c 2019%2c hundreds of independently owned music stores across the world will simultaneously unite with one purpose%3a celebrating our unique culture and the special place record stores occupy both in their local communities and the world. Come celebrate Record Store Day with Amoeba%21 WeDesignHTMLWords: 52   Characters: 323
URL:https://www.discoverhollywood.com/event/record-store-day/
LOCATION:Amoeba Music\, 6400 Sunset Blvd.\, Hollywood\, California
END:VEVENT
BEGIN:VEVENT
DTSTART;TZID=Asia/Kolkata:19800227T000000
DTEND;TZID=Asia/Kolkata:19800227T000000
DTSTAMP:20260424T184406
CREATED:20250714T113249Z
LAST-MODIFIED:20250714T113249Z
UID:10011421-320457600-320457600@www.discoverhollywood.com
SUMMARY:Rotations: DJ Lord Ron
DESCRIPTION:DJ Lord Run has produced Hip Hop music on Guru %28Gang Starr%29%2c Group Home%2c Big Shug %26amp%3b Krumbsnatcha %28Gang Starr Foundation%29 as well on C Rayz%26nbsp%3bWalz%2c John Robinson%2c Akil The MC %28Jurassic 5%29 %2b many other artistsDesignHTMLWords: 37   Characters: 194
URL:https://www.discoverhollywood.com/event/rotations-dj-lord-ron/
LOCATION:Amoeba Music\, 6400 Sunset Blvd.\, Hollywood\, California
END:VEVENT
BEGIN:VEVENT
DTSTART;TZID=Asia/Kolkata:19800226T000000
DTEND;TZID=Asia/Kolkata:19800226T000000
DTSTAMP:20260424T184406
CREATED:20250714T113303Z
LAST-MODIFIED:20250714T113303Z
UID:10011422-320371200-320371200@www.discoverhollywood.com
SUMMARY:Rotations: Keith Morris
DESCRIPTION:Keith%27s musical knowledge and deep record crates go way beyond classic punk%3b we are thrilled to have him back on the Rotations turntables for one of his electifying freak-forward autodestructivating DJ sets.DesignHTMLWords: 32   Characters: 203
URL:https://www.discoverhollywood.com/event/rotations-keith-morris/
LOCATION:Amoeba Music\, 6400 Sunset Blvd.\, Hollywood\, California
END:VEVENT
BEGIN:VEVENT
DTSTART;TZID=Asia/Kolkata:19780222T000000
DTEND;TZID=Asia/Kolkata:19780222T000000
DTSTAMP:20260424T184406
CREATED:20250715T082958Z
LAST-MODIFIED:20250715T082958Z
UID:10012335-256953600-256953600@www.discoverhollywood.com
SUMMARY:Spain
DESCRIPTION:Spain performs a live set and signs copies of their new album%2c Mandala Brush %28out 11/2 on Dangerbird Records%29. Spain is the brainchild of Josh Haden and their music has been described as a unique patchwork of “indie pop slowcore americana free jazz.”%3cdiv%3e\n	%3cbr%3e\n%3c/div%3e\n%3cdiv%3e\n	%3ca href%3d%22https%3a//www.amoeba.com/live-shows/upcoming%22 target%3d%22_blank%22%3ewww.amoeba.com/live-shows/upcoming%3c/a%3e\n%3c/div%3eDesignHTMLWords: 44   Characters: 279
URL:https://www.discoverhollywood.com/event/spain/
LOCATION:Amoeba Music\, 6400 Sunset Blvd.\, Hollywood\, California
END:VEVENT
BEGIN:VEVENT
DTSTART;TZID=Asia/Kolkata:19770909T000000
DTEND;TZID=Asia/Kolkata:19770909T000000
DTSTAMP:20260424T184406
CREATED:20250715T090753Z
LAST-MODIFIED:20250715T090753Z
UID:10012501-242611200-242611200@www.discoverhollywood.com
SUMMARY:Steve Earle
DESCRIPTION:DesignHTMLWords: 0   Characters: 0
URL:https://www.discoverhollywood.com/event/steve-earle/
LOCATION:Amoeba Music\, 6400 Sunset Blvd.\, Hollywood\, California
END:VEVENT
BEGIN:VEVENT
DTSTART;TZID=Asia/Kolkata:19741206T000000
DTEND;TZID=Asia/Kolkata:19741206T000000
DTSTAMP:20260424T184406
CREATED:20250715T120353Z
LAST-MODIFIED:20250715T120353Z
UID:10013324-155520000-155520000@www.discoverhollywood.com
SUMMARY:The Flesheaters
DESCRIPTION:Free in-store performance.%3cdiv%3e\n	%3cbr%3e\n%3c/div%3e\n%3cdiv%3e\n	%3ca href%3d%22https%3a//www.amoeba.com/%22 target%3d%22_blank%22%3ewww.amoeba.com%3c/a%3e\n%3c/div%3eDesignHTMLWords: 4   Characters: 39
URL:https://www.discoverhollywood.com/event/the-flesheaters/
LOCATION:Amoeba Music\, 6400 Sunset Blvd.\, Hollywood\, California
END:VEVENT
BEGIN:VEVENT
DTSTART;TZID=Asia/Kolkata:19741108T000000
DTEND;TZID=Asia/Kolkata:19741108T000000
DTSTAMP:20260424T184406
CREATED:20250715T120439Z
LAST-MODIFIED:20250715T120439Z
UID:10013352-153100800-153100800@www.discoverhollywood.com
SUMMARY:The Frights
DESCRIPTION:%3cspan%3eThe San Diego band celebrates their new album%2c%26nbsp%3b%3c/span%3e\n%3ca href%3d%22https%3a//www.amoeba.com/hypochondriac-lp-the-frights/albums/4056051/%22 style%3d%22margin%3a0px%3b padding%3a0px%3b background%3argb%28255%2c 255%2c 255%29%3b border%3a0px%3b font-variant-numeric%3ainherit%3b font-variant-east-asian%3ainherit%3b font-stretch%3ainherit%3b line-height%3ainherit%3b font-family%3aVerdana%2c Geneva%2c sans-serif%3b vertical-align%3abaseline%3b font-size%3a10px%3b outline%3a0px%3b text-decoration-line%3anone%3b word-wrap%3abreak-word%3b cursor%3apointer%3b%22%3e%3cem%3eHypochondriac%3c/em%3e%3c/aDesignHTMLWords: 9   Characters: 60
URL:https://www.discoverhollywood.com/event/the-frights/
LOCATION:Amoeba Music\, 6400 Sunset Blvd.\, Hollywood\, California
END:VEVENT
BEGIN:VEVENT
DTSTART;TZID=Asia/Kolkata:19710713T000000
DTEND;TZID=Asia/Kolkata:19710713T000000
DTSTAMP:20260424T184406
CREATED:20250716T065810Z
LAST-MODIFIED:20250716T065810Z
UID:10014546-48211200-48211200@www.discoverhollywood.com
SUMMARY:Tom Chasteen
DESCRIPTION:Tom Chasteen has been a fixture on the LA music scene for over two decades. He cofounded the West Coasts first EDM label Exist Dance in 1991%2c and since 2000 he has been running the Dub Club%2c a weekly Reggae party which has become a world renown event.DesignHTMLWords: 48   Characters: 247
URL:https://www.discoverhollywood.com/event/tom-chasteen/
LOCATION:Amoeba Music\, 6400 Sunset Blvd.\, Hollywood\, California
END:VEVENT
BEGIN:VEVENT
DTSTART;TZID=Asia/Kolkata:19710430T000000
DTEND;TZID=Asia/Kolkata:19710430T000000
DTSTAMP:20260424T184406
CREATED:20250716T070509Z
LAST-MODIFIED:20250716T070509Z
UID:10014620-41817600-41817600@www.discoverhollywood.com
SUMMARY:Touché Amoré Live In-Store
DESCRIPTION:%3cspan%3eL.A.%27s own Touché Amoré celebrate their new release with a live set and signing.%26nbsp%3b%3c/span%3e\n%3cbr style%3d%22color%3argb%2829%2c 33%2c 41%29%3b font-family%3aHelvetica%2c Arial%2c sans-serif%3b font-size%3a14px%3b background-color%3argb%28255%2c 255%2c 255%29%3b%22%3e\n%3cbr style%3d%22color%3argb%2829%2c 33%2c 41%29%3b font-family%3aHelvetica%2c Arial%2c sans-serif%3b font-size%3a14px%3b background-color%3argb%28255%2c 255%2c 255%29%3b%22%3e\n%3cspan%3ePurchase %2210 Years / 1000 Shows – Live at The Regent Theater%22 %28Epitaph Records%29 in-store only at Amoeba on 11/1 to meet the band after the shDesignHTMLWords: 40   Characters: 214
URL:https://www.discoverhollywood.com/event/touche-amore-live-in-store/
LOCATION:Amoeba Music\, 6400 Sunset Blvd.\, Hollywood\, California
END:VEVENT
END:VCALENDAR