BEGIN:VCALENDAR
VERSION:2.0
PRODID:-//Discover Hollywood Magazine - ECPv6.15.20//NONSGML v1.0//EN
CALSCALE:GREGORIAN
METHOD:PUBLISH
X-WR-CALNAME:Discover Hollywood Magazine
X-ORIGINAL-URL:https://www.discoverhollywood.com
X-WR-CALDESC:Events for Discover Hollywood Magazine
REFRESH-INTERVAL;VALUE=DURATION:PT1H
X-Robots-Tag:noindex
X-PUBLISHED-TTL:PT1H
BEGIN:VTIMEZONE
TZID:Asia/Kolkata
BEGIN:STANDARD
TZOFFSETFROM:+0530
TZOFFSETTO:+0530
TZNAME:IST
DTSTART:19690101T000000
END:STANDARD
END:VTIMEZONE
BEGIN:VEVENT
DTSTART;TZID=Asia/Kolkata:20260423T070408
DTEND;TZID=Asia/Kolkata:20260423T070408
DTSTAMP:20260423T070408
CREATED:20250709T084627Z
LAST-MODIFIED:20250709T084627Z
UID:10008272-0-0@www.discoverhollywood.com
SUMMARY:Latin Jazz Sunday Featuring the CSULA Afro Latin Ensemble
DESCRIPTION:DesignHTMLWords: 0   Characters: 0
URL:https://www.discoverhollywood.com/event/latin-jazz-sunday-featuring-the-csula-afro-latin-ensemble/
LOCATION:Autry National Center\, 4700 Western Heritage Way\, Hollywood\, California
END:VEVENT
BEGIN:VEVENT
DTSTART;TZID=Asia/Kolkata:20260423T070408
DTEND;TZID=Asia/Kolkata:20260423T070408
DTSTAMP:20260423T070408
CREATED:20250709T084612Z
LAST-MODIFIED:20250709T084612Z
UID:10008271-0-0@www.discoverhollywood.com
SUMMARY:Latin Jazz Sunday
DESCRIPTION:%3cbr%3eDesignHTMLWords: 0   Characters: 0
URL:https://www.discoverhollywood.com/event/latin-jazz-sunday/
LOCATION:Autry National Center\, 4700 Western Heritage Way\, Hollywood\, California
END:VEVENT
BEGIN:VEVENT
DTSTART;TZID=Asia/Kolkata:20260423T070408
DTEND;TZID=Asia/Kolkata:20260423T070408
DTSTAMP:20260423T070408
CREATED:20250709T084306Z
LAST-MODIFIED:20250709T084306Z
UID:10008246-0-0@www.discoverhollywood.com
SUMMARY:Las Posadas
DESCRIPTION:The Autry celebrates this Mexican tradition in which children portray Mary and Joseph in their journey from Egypt to seek shelter in Bethlehem prior to the birth of baby Jesus. %26nbsp%3bA signing procession will take place throughout the museum%2c with the %22inns%22 at the gallery entrances. %26nbsp%3bAfterward%2c there will be a grand celebration with hot chocolate and cookies on the plaza.DesignHTMLWords: 61   Characters: 363
URL:https://www.discoverhollywood.com/event/las-posadas/
LOCATION:Autry National Center\, 4700 Western Heritage Way\, Hollywood\, California
END:VEVENT
END:VCALENDAR