BEGIN:VCALENDAR
VERSION:2.0
PRODID:-//Discover Hollywood Magazine - ECPv6.15.17//NONSGML v1.0//EN
CALSCALE:GREGORIAN
METHOD:PUBLISH
X-ORIGINAL-URL:https://www.discoverhollywood.com
X-WR-CALDESC:Events for Discover Hollywood Magazine
REFRESH-INTERVAL;VALUE=DURATION:PT1H
X-Robots-Tag:noindex
X-PUBLISHED-TTL:PT1H
BEGIN:VTIMEZONE
TZID:Asia/Kolkata
BEGIN:STANDARD
TZOFFSETFROM:+0530
TZOFFSETTO:+0530
TZNAME:IST
DTSTART:19920101T000000
END:STANDARD
END:VTIMEZONE
BEGIN:VEVENT
DTSTART;TZID=Asia/Kolkata:20060327T000000
DTEND;TZID=Asia/Kolkata:20060327T000000
DTSTAMP:20260422T150953
CREATED:20250701T083947Z
LAST-MODIFIED:20250701T083947Z
UID:10003668-1143417600-1143417600@www.discoverhollywood.com
SUMMARY:Chino Espinoza
DESCRIPTION:DesignHTMLWords: 0   Characters: 0
URL:https://www.discoverhollywood.com/event/chino-espinoza/
LOCATION:Autry National Center\, 4700 Western Heritage Way\, Hollywood\, California
END:VEVENT
BEGIN:VEVENT
DTSTART;TZID=Asia/Kolkata:20060325T000000
DTEND;TZID=Asia/Kolkata:20060325T000000
DTSTAMP:20260422T150953
CREATED:20250701T083948Z
LAST-MODIFIED:20250701T083948Z
UID:10003669-1143244800-1143244800@www.discoverhollywood.com
SUMMARY:Chino Espinoza y Los Duenos del Son
DESCRIPTION:DesignHTMLWords: 0   Characters: 0
URL:https://www.discoverhollywood.com/event/chino-espinoza-y-los-duenos-del-son/
LOCATION:Autry National Center\, 4700 Western Heritage Way\, Hollywood\, California
END:VEVENT
BEGIN:VEVENT
DTSTART;TZID=Asia/Kolkata:20050216T000000
DTEND;TZID=Asia/Kolkata:20050216T000000
DTSTAMP:20260422T150953
CREATED:20250701T093503Z
LAST-MODIFIED:20250701T093503Z
UID:10003870-1108512000-1108512000@www.discoverhollywood.com
SUMMARY:Clerks
DESCRIPTION:Eat%7cSee%7cHear debuts another year of film favorites. The original traveling outdoor cinema celebrates its seventh year with a selection of 20 movies and music performances alongside 150%2b rotating food trucks. %3ca href%3d%22http%3a//www.eatseehear.com/%22 target%3d%22_blank%22%3ewww.eatseehear.com%3c/a%3eDesignHTMLWords: 31   Characters: 222
URL:https://www.discoverhollywood.com/event/clerks/
LOCATION:Autry National Center\, 4700 Western Heritage Way\, Hollywood\, California
END:VEVENT
BEGIN:VEVENT
DTSTART;TZID=Asia/Kolkata:20040428T000000
DTEND;TZID=Asia/Kolkata:20040428T000000
DTSTAMP:20260422T150953
CREATED:20250701T104549Z
LAST-MODIFIED:20250701T104551Z
UID:10004017-1083110400-1083110400@www.discoverhollywood.com
SUMMARY:Conjunto Afro-Son and Friends
DESCRIPTION:DesignHTMLWords: 0   Characters: 0
URL:https://www.discoverhollywood.com/event/conjunto-afro-son-and-friends/
LOCATION:Autry National Center\, 4700 Western Heritage Way\, Hollywood\, California
END:VEVENT
BEGIN:VEVENT
DTSTART;TZID=Asia/Kolkata:20030806T000000
DTEND;TZID=Asia/Kolkata:20030806T000000
DTSTAMP:20260422T150953
CREATED:20250701T110400Z
LAST-MODIFIED:20250701T110400Z
UID:10004150-1060128000-1060128000@www.discoverhollywood.com
SUMMARY:CSULA Afro Latin Ensemble Concert
DESCRIPTION:DesignHTMLWords: 0   Characters: 0
URL:https://www.discoverhollywood.com/event/csula-afro-latin-ensemble-concert/
LOCATION:Autry National Center\, 4700 Western Heritage Way\, Hollywood\, California
END:VEVENT
BEGIN:VEVENT
DTSTART;TZID=Asia/Kolkata:20020409T000000
DTEND;TZID=Asia/Kolkata:20020409T000000
DTSTAMP:20260422T150953
CREATED:20250701T120402Z
LAST-MODIFIED:20250701T120402Z
UID:10004392-1018310400-1018310400@www.discoverhollywood.com
SUMMARY:Day of the Cowboy and Cowgirl at The Autry!
DESCRIPTION:%3cimg alt%3d%22%22 src%3d%22images/cowboyday3145.jpg%22 width%3d%22100%22 height%3d%22150%22%3eDesignHTMLWords: 0   Characters: 0
URL:https://www.discoverhollywood.com/event/day-of-the-cowboy-and-cowgirl-at-the-autry/
LOCATION:Autry National Center\, 4700 Western Heritage Way\, Hollywood\, California
END:VEVENT
BEGIN:VEVENT
DTSTART;TZID=Asia/Kolkata:20010114T000000
DTEND;TZID=Asia/Kolkata:20010114T000000
DTSTAMP:20260422T150953
CREATED:20250701T122035Z
LAST-MODIFIED:20250701T122035Z
UID:10004607-979430400-979430400@www.discoverhollywood.com
SUMMARY:Dig It! Family Style
DESCRIPTION:DesignHTMLWords: 0   Characters: 0
URL:https://www.discoverhollywood.com/event/dig-it-family-style/
LOCATION:Autry National Center\, 4700 Western Heritage Way\, Hollywood\, California
END:VEVENT
BEGIN:VEVENT
DTSTART;TZID=Asia/Kolkata:20000620T000000
DTEND;TZID=Asia/Kolkata:20000620T000000
DTSTAMP:20260422T150953
CREATED:20250701T125135Z
LAST-MODIFIED:20250701T125135Z
UID:10004711-961459200-961459200@www.discoverhollywood.com
SUMMARY:Documentary Screening and Discussion: Tribal Justice
DESCRIPTION:DesignHTMLWords: 0   Characters: 0
URL:https://www.discoverhollywood.com/event/documentary-screening-and-discussion-tribal-justice/
LOCATION:Autry National Center\, 4700 Western Heritage Way\, Hollywood\, California
END:VEVENT
BEGIN:VEVENT
DTSTART;TZID=Asia/Kolkata:19990328T000000
DTEND;TZID=Asia/Kolkata:19990328T000000
DTSTAMP:20260422T150953
CREATED:20250701T133351Z
LAST-MODIFIED:20250702T044255Z
UID:10004971-922579200-922579200@www.discoverhollywood.com
SUMMARY:Easy Rider
DESCRIPTION:%3cp%3e%3cspan%3eEat%7cSee%7cHear debuts another year of film favorites.%26nbsp%3b The original traveling outdoor cinema celebrates its seventh year with a selection of 20 movies and music performances alongside 150%2b rotating food trucks. %3c/span%3e%3c/p%3e\n%3ca href%3d%22http%3a//www.eatseehear.com/%22 target%3d%22_blank%22%3ewww.eatseehear.com%3c/a%3eDesignHTMLWords: 31   Characters: 224
URL:https://www.discoverhollywood.com/event/easy-rider/
LOCATION:Autry National Center\, 4700 Western Heritage Way\, Hollywood\, California
END:VEVENT
BEGIN:VEVENT
DTSTART;TZID=Asia/Kolkata:19990325T000000
DTEND;TZID=Asia/Kolkata:19990325T000000
DTSTAMP:20260422T150953
CREATED:20250701T133352Z
LAST-MODIFIED:20250702T044256Z
UID:10004974-922320000-922320000@www.discoverhollywood.com
SUMMARY:Eat See Hear: Casablanca
DESCRIPTION:%3ca href%3d%22www.eatseehear.com%22 target%3d%22_blank%22%3ewww.eatseehear.com%3c/a%3eDesignHTMLWords: 1   Characters: 16
URL:https://www.discoverhollywood.com/event/eat-see-hear-casablanca/
LOCATION:Autry National Center\, 4700 Western Heritage Way\, Hollywood\, California
END:VEVENT
BEGIN:VEVENT
DTSTART;TZID=Asia/Kolkata:19990324T000000
DTEND;TZID=Asia/Kolkata:19990324T000000
DTSTAMP:20260422T150953
CREATED:20250701T133352Z
LAST-MODIFIED:20250702T044256Z
UID:10004975-922233600-922233600@www.discoverhollywood.com
SUMMARY:Eat See Hear: Coming to America
DESCRIPTION:%3ca href%3d%22www.eatseehear.com%22 target%3d%22_blank%22%3ewww.eatseehear.com%3c/a%3eDesignHTMLWords: 1   Characters: 16
URL:https://www.discoverhollywood.com/event/eat-see-hear-coming-to-america/
LOCATION:Autry National Center\, 4700 Western Heritage Way\, Hollywood\, California
END:VEVENT
BEGIN:VEVENT
DTSTART;TZID=Asia/Kolkata:19990323T000000
DTEND;TZID=Asia/Kolkata:19990323T000000
DTSTAMP:20260422T150953
CREATED:20250701T133408Z
LAST-MODIFIED:20250702T044310Z
UID:10004976-922147200-922147200@www.discoverhollywood.com
SUMMARY:Eat See Hear: North by Northwest
DESCRIPTION:%3ca href%3d%22www.eatseehear.com%22 target%3d%22_blank%22%3ewww.eatseehear.com%3c/a%3eDesignHTMLWords: 1   Characters: 16
URL:https://www.discoverhollywood.com/event/eat-see-hear-north-by-northwest/
LOCATION:Autry National Center\, 4700 Western Heritage Way\, Hollywood\, California
END:VEVENT
BEGIN:VEVENT
DTSTART;TZID=Asia/Kolkata:19990322T000000
DTEND;TZID=Asia/Kolkata:19990322T000000
DTSTAMP:20260422T150953
CREATED:20250701T133408Z
LAST-MODIFIED:20250702T044311Z
UID:10004977-922060800-922060800@www.discoverhollywood.com
SUMMARY:Eat See Hear: The Shining
DESCRIPTION:%3ca href%3d%22www.eatseehear.com%22 target%3d%22_blank%22%3ewww.eatseehear.com%3c/a%3eDesignHTMLWords: 1   Characters: 16
URL:https://www.discoverhollywood.com/event/eat-see-hear-the-shining/
LOCATION:Autry National Center\, 4700 Western Heritage Way\, Hollywood\, California
END:VEVENT
BEGIN:VEVENT
DTSTART;TZID=Asia/Kolkata:19990321T000000
DTEND;TZID=Asia/Kolkata:19990321T000000
DTSTAMP:20260422T150953
CREATED:20250701T133409Z
LAST-MODIFIED:20250702T044311Z
UID:10004978-921974400-921974400@www.discoverhollywood.com
SUMMARY:Eat See Hear: Thelma and Louise
DESCRIPTION:%3ca href%3d%22www.eatseehear.com%22 target%3d%22_blank%22%3ewww.eatseehear.com%3c/a%3eDesignHTMLWords: 1   Characters: 16
URL:https://www.discoverhollywood.com/event/eat-see-hear-thelma-and-louise/
LOCATION:Autry National Center\, 4700 Western Heritage Way\, Hollywood\, California
END:VEVENT
BEGIN:VEVENT
DTSTART;TZID=Asia/Kolkata:19990320T000000
DTEND;TZID=Asia/Kolkata:19990320T000000
DTSTAMP:20260422T150953
CREATED:20250701T133409Z
LAST-MODIFIED:20250702T044311Z
UID:10004979-921888000-921888000@www.discoverhollywood.com
SUMMARY:Eat See Here: Fight Club
DESCRIPTION:%3ca href%3d%22www.eatseehear.com%22 target%3d%22_blank%22%3ewww.eatseehear.com%3c/a%3eDesignHTMLWords: 1   Characters: 16
URL:https://www.discoverhollywood.com/event/eat-see-here-fight-club/
LOCATION:Autry National Center\, 4700 Western Heritage Way\, Hollywood\, California
END:VEVENT
BEGIN:VEVENT
DTSTART;TZID=Asia/Kolkata:19980315T000000
DTEND;TZID=Asia/Kolkata:19980315T000000
DTSTAMP:20260422T150953
CREATED:20250702T055400Z
LAST-MODIFIED:20250702T055400Z
UID:10005349-889920000-889920000@www.discoverhollywood.com
SUMMARY:Fairly Traceable
DESCRIPTION:Set during the aftermath of Hurricane Katrina%2c%26nbsp%3b%3ci%3eFairly Traceable%3c/i%3e%26nbsp%3bfollows the journeys of a young Ponca man and a Chitimacha woman as they juggle personal and career ambitions with advocacy for the environment and the people they love. In this romantic dramedy%2c award-winning Cherokee%26nbsp%3bplaywright%26nbsp%3b\n%3cstrong%3eMary Kathryn Nagle%3c/strong%3e%26nbsp%3breveals the culpability of corporate polluters and climate change deniers in environmental disasters.DesignHTMLWords: 61   Characters: 410
URL:https://www.discoverhollywood.com/event/fairly-traceable/
LOCATION:Autry National Center\, 4700 Western Heritage Way\, Hollywood\, California
END:VEVENT
BEGIN:VEVENT
DTSTART;TZID=Asia/Kolkata:19980226T000000
DTEND;TZID=Asia/Kolkata:19980226T000000
DTSTAMP:20260422T150953
CREATED:20250702T055502Z
LAST-MODIFIED:20250702T055502Z
UID:10005366-888451200-888451200@www.discoverhollywood.com
SUMMARY:Family Fun Tours: Lights\, Camera\, Cowboy!
DESCRIPTION:Was the life of a cowboy as action-packed as in the movies%3f Led by the Autry’s director of education and visitor engagement %3cspan%3e%26nbsp%3bErik Greenberg %3cspan%3e%2c members and their young wranglers are invited to compare the mythical image of the cowboy as a heroic movie character with the reality of everyday cowboy life. Explore the Autry’s core galleries%2c encounter hands-on cowboy gear%2c and pose for photos along the way. Little cowboys and cowgirls are welcome to bring a hobby horse %28if they have one at home%29DesignHTMLWords: 84   Characters: 484
URL:https://www.discoverhollywood.com/event/family-fun-tours-lights-camera-cowboy/
LOCATION:Autry National Center\, 4700 Western Heritage Way\, Hollywood\, California
END:VEVENT
BEGIN:VEVENT
DTSTART;TZID=Asia/Kolkata:19980219T000000
DTEND;TZID=Asia/Kolkata:19980219T000000
DTSTAMP:20260422T150953
CREATED:20250702T055614Z
LAST-MODIFIED:20250702T055614Z
UID:10005373-887846400-887846400@www.discoverhollywood.com
SUMMARY:Family Sundays at the Autry!
DESCRIPTION:Bring the whole family to the Autry for a day filled with engaging activities that help your children explore the stories of the diverse people of the American West. %26nbsp%3bEach month features a different theme related to the exhibitions and programs.DesignHTMLWords: 41   Characters: 243
URL:https://www.discoverhollywood.com/event/family-sundays-at-the-autry/
LOCATION:Autry National Center\, 4700 Western Heritage Way\, Hollywood\, California
END:VEVENT
BEGIN:VEVENT
DTSTART;TZID=Asia/Kolkata:19971101T000000
DTEND;TZID=Asia/Kolkata:19971101T000000
DTSTAMP:20260422T150953
CREATED:20250702T060247Z
LAST-MODIFIED:20250702T060247Z
UID:10005483-878342400-878342400@www.discoverhollywood.com
SUMMARY:Fiesta Mata Ortiz
DESCRIPTION:DesignHTMLWords: 0   Characters: 0
URL:https://www.discoverhollywood.com/event/fiesta-mata-ortiz/
LOCATION:Autry National Center\, 4700 Western Heritage Way\, Hollywood\, California
END:VEVENT
BEGIN:VEVENT
DTSTART;TZID=Asia/Kolkata:19971031T000000
DTEND;TZID=Asia/Kolkata:19971031T000000
DTSTAMP:20260422T150953
CREATED:20250702T060247Z
LAST-MODIFIED:20250702T060247Z
UID:10005484-878256000-878256000@www.discoverhollywood.com
SUMMARY:Fiesta Mata Ortiz!
DESCRIPTION:This lively festival features Mexican folklorico dancers and pottery-making demonstrations by master potter Jorge Quintana.DesignHTMLWords: 15   Characters: 121
URL:https://www.discoverhollywood.com/event/fiesta-mata-ortiz-2/
LOCATION:Autry National Center\, 4700 Western Heritage Way\, Hollywood\, California
END:VEVENT
BEGIN:VEVENT
DTSTART;TZID=Asia/Kolkata:19970731T000000
DTEND;TZID=Asia/Kolkata:19970731T000000
DTSTAMP:20260422T150953
CREATED:20250703T061805Z
LAST-MODIFIED:20250703T061805Z
UID:10005576-870307200-870307200@www.discoverhollywood.com
SUMMARY:Flavors: An Autry Culinary Series
DESCRIPTION:Explore the journey from farm to table during this fascinating series of pop-up dinners combining historical and environmentally sustainable ingredients. Enjoy plates from gourmet food stations%2c check out the Autry%27s new %3cem%3eCalifornia Continued%3c/em%3e galleries and garden%2c and meet local farmers.DesignHTMLWords: 40   Characters: 281
URL:https://www.discoverhollywood.com/event/flavors-an-autry-culinary-series/
LOCATION:Autry National Center\, 4700 Western Heritage Way\, Hollywood\, California
END:VEVENT
BEGIN:VEVENT
DTSTART;TZID=Asia/Kolkata:19970730T000000
DTEND;TZID=Asia/Kolkata:19970730T000000
DTSTAMP:20260422T150953
CREATED:20250703T061805Z
LAST-MODIFIED:20250703T061805Z
UID:10005577-870220800-870220800@www.discoverhollywood.com
SUMMARY:Flavors: An Autry Culinary Series
DESCRIPTION:%3cspan style%3d%22margin%3a0px%3b color%3argb%2896%2c 96%2c 96%29%3b font-family%3aHelvetica%2csans-serif%3b font-size%3a11.5pt%3b%22%3eExplore the journey from farm to table during this fascinating series of pop-up dinners combining historical and environmentally sustainable ingredients. Enjoy plates from gourmet food stations%2c check out the Autry%27s new %3cem%3e%3cspan style%3d%22margin%3a0px%3b font-family%3aHelvetica%2csans-serif%3b%22%3eCalifornia Continued%3c/span%3e%3c/em%3e galleries and garden%2c and meet local farmers%3c/span%3eDesignHTMLWords: 40   Characters: 281
URL:https://www.discoverhollywood.com/event/flavors-an-autry-culinary-series-2/
LOCATION:Autry National Center\, 4700 Western Heritage Way\, Hollywood\, California
END:VEVENT
BEGIN:VEVENT
DTSTART;TZID=Asia/Kolkata:19970729T000000
DTEND;TZID=Asia/Kolkata:19970729T000000
DTSTAMP:20260422T150953
CREATED:20250703T061806Z
LAST-MODIFIED:20250703T061806Z
UID:10005578-870134400-870134400@www.discoverhollywood.com
SUMMARY:Flavors: Historic California
DESCRIPTION:Explore the journey from farm to table during this fascinating culinary series of thematic pop-up dinners combining historical and environmentally sustainable ingredients. Presented in collaboration with the Livestock Conservancy and Wildwood Heritage Provisions%2c experience the flavors of authentic Longhorn cattle%2c Churro sheep%2c and other breeds from California’s past%2c and join the conversation on the future of farming.DesignHTMLWords: 57   Characters: 416
URL:https://www.discoverhollywood.com/event/flavors-historic-california/
LOCATION:Autry National Center\, 4700 Western Heritage Way\, Hollywood\, California
END:VEVENT
BEGIN:VEVENT
DTSTART;TZID=Asia/Kolkata:19970706T000000
DTEND;TZID=Asia/Kolkata:19970706T000000
DTSTAMP:20260422T150953
CREATED:20250703T061908Z
LAST-MODIFIED:20250703T061908Z
UID:10005597-868147200-868147200@www.discoverhollywood.com
SUMMARY:Food!  Native Voices Eighth Annual Short Play Festival
DESCRIPTION:Native Voices at the Autry presents its eighth annual Short Play Festival%3a Food%21 Held during the Autry Museum of the American West’s American Indian Arts Marketplace on Sunday%2c November 11%2c 2018%2c the event features new short plays by Native American playwrights that pose the question%3a What’s on the table in Indian Country%3fDesignHTMLWords: 52   Characters: 317
URL:https://www.discoverhollywood.com/event/food-native-voices-eighth-annual-short-play-festival/
LOCATION:Autry National Center\, 4700 Western Heritage Way\, Hollywood\, California
END:VEVENT
BEGIN:VEVENT
DTSTART;TZID=Asia/Kolkata:19960718T000000
DTEND;TZID=Asia/Kolkata:19960718T000000
DTSTAMP:20260422T150953
CREATED:20250703T065457Z
LAST-MODIFIED:20250703T065457Z
UID:10005950-837648000-837648000@www.discoverhollywood.com
SUMMARY:Gene Autry's 111th Birthday Celebration
DESCRIPTION:%3cspan%3eEnjoy a complimentary piece of birthday cake in Crossroads West Cafe. General adult museum admission is only %249.29 to mark this special occasion.%3c/span%3e\n%3cspan%3e%3c/span%3eDesignHTMLWords: 23   Characters: 142
URL:https://www.discoverhollywood.com/event/gene-autrys-111th-birthday-celebration/
LOCATION:Autry National Center\, 4700 Western Heritage Way\, Hollywood\, California
END:VEVENT
BEGIN:VEVENT
DTSTART;TZID=Asia/Kolkata:19960505T000000
DTEND;TZID=Asia/Kolkata:19960505T000000
DTSTAMP:20260422T150953
CREATED:20250703T065613Z
LAST-MODIFIED:20250703T065613Z
UID:10006024-831254400-831254400@www.discoverhollywood.com
SUMMARY:Ghostlands of an Urban NDN
DESCRIPTION:DesignHTMLWords: 0   Characters: 0
URL:https://www.discoverhollywood.com/event/ghostlands-of-an-urban-ndn/
LOCATION:Autry National Center\, 4700 Western Heritage Way\, Hollywood\, California
END:VEVENT
BEGIN:VEVENT
DTSTART;TZID=Asia/Kolkata:19951231T000000
DTEND;TZID=Asia/Kolkata:19951231T000000
DTSTAMP:20260422T150953
CREATED:20250703T083930Z
LAST-MODIFIED:20250703T083930Z
UID:10006150-820368000-820368000@www.discoverhollywood.com
SUMMARY:Gold Rush
DESCRIPTION:DesignHTMLWords: 0   Characters: 0
URL:https://www.discoverhollywood.com/event/gold-rush/
LOCATION:Autry National Center\, 4700 Western Heritage Way\, Hollywood\, California
END:VEVENT
BEGIN:VEVENT
DTSTART;TZID=Asia/Kolkata:19951229T000000
DTEND;TZID=Asia/Kolkata:19951229T000000
DTSTAMP:20260422T150953
CREATED:20250703T084027Z
LAST-MODIFIED:20250703T084027Z
UID:10006152-820195200-820195200@www.discoverhollywood.com
SUMMARY:Golden Age of Radio
DESCRIPTION:Members of SAG-AFTRA present an entertaining evening from the Golden Age of Radio by re-creating performances from original radio scripts%2c complete with sound effects and original advertisements. The evening always brings smiles and fond memories of the old days of radio%21DesignHTMLWords: 41   Characters: 267
URL:https://www.discoverhollywood.com/event/golden-age-of-radio/
LOCATION:Autry National Center\, 4700 Western Heritage Way\, Hollywood\, California
END:VEVENT
BEGIN:VEVENT
DTSTART;TZID=Asia/Kolkata:19950420T000000
DTEND;TZID=Asia/Kolkata:19950420T000000
DTSTAMP:20260422T150953
CREATED:20250703T090500Z
LAST-MODIFIED:20250703T090500Z
UID:10006405-798336000-798336000@www.discoverhollywood.com
SUMMARY:Halau O Lilinoe a me Na Pua Me Kealoha
DESCRIPTION:DesignHTMLWords: 0   Characters: 0
URL:https://www.discoverhollywood.com/event/halau-o-lilinoe-a-me-na-pua-me-kealoha/
LOCATION:Autry National Center\, 4700 Western Heritage Way\, Hollywood\, California
END:VEVENT
BEGIN:VEVENT
DTSTART;TZID=Asia/Kolkata:19931227T000000
DTEND;TZID=Asia/Kolkata:19931227T000000
DTSTAMP:20260422T150953
CREATED:20250703T105600Z
LAST-MODIFIED:20250703T105600Z
UID:10006599-756950400-756950400@www.discoverhollywood.com
SUMMARY:HUD: What is a Western? Film Series
DESCRIPTION:DesignHTMLWords: 0   Characters: 0
URL:https://www.discoverhollywood.com/event/hud-what-is-a-western-film-series/
LOCATION:Autry National Center\, 4700 Western Heritage Way\, Hollywood\, California
END:VEVENT
END:VCALENDAR