BEGIN:VCALENDAR
VERSION:2.0
PRODID:-//Discover Hollywood Magazine - ECPv6.15.20//NONSGML v1.0//EN
CALSCALE:GREGORIAN
METHOD:PUBLISH
X-ORIGINAL-URL:https://www.discoverhollywood.com
X-WR-CALDESC:Events for Discover Hollywood Magazine
REFRESH-INTERVAL;VALUE=DURATION:PT1H
X-Robots-Tag:noindex
X-PUBLISHED-TTL:PT1H
BEGIN:VTIMEZONE
TZID:Asia/Kolkata
BEGIN:STANDARD
TZOFFSETFROM:+0530
TZOFFSETTO:+0530
TZNAME:IST
DTSTART:19760101T000000
END:STANDARD
END:VTIMEZONE
BEGIN:VEVENT
DTSTART;TZID=Asia/Kolkata:19850920T000000
DTEND;TZID=Asia/Kolkata:19850920T000000
DTSTAMP:20260422T230954
CREATED:20250710T121828Z
LAST-MODIFIED:20250716T063614Z
UID:10010019-496022400-496022400@www.discoverhollywood.com
SUMMARY:Octavio Figueroa y La Combinacion
DESCRIPTION:DesignHTMLWords: 0   Characters: 0
URL:https://www.discoverhollywood.com/event/octavio-figueroa-y-la-combinacion/
LOCATION:Autry National Center\, 4700 Western Heritage Way\, Hollywood\, California
END:VEVENT
BEGIN:VEVENT
DTSTART;TZID=Asia/Kolkata:19850913T000000
DTEND;TZID=Asia/Kolkata:19850913T000000
DTSTAMP:20260422T230954
CREATED:20250710T121853Z
LAST-MODIFIED:20250716T063702Z
UID:10010026-495417600-495417600@www.discoverhollywood.com
SUMMARY:Odd Nights
DESCRIPTION:Great family fun than before with over 80 local artists%2c makers%2c crafters and designers plus 22 food trucks%2c full bar%2c and 3 emerging bandsDesignHTMLWords: 24   Characters: 135
URL:https://www.discoverhollywood.com/event/odd-nights/
LOCATION:Autry National Center\, 4700 Western Heritage Way\, Hollywood\, California
END:VEVENT
BEGIN:VEVENT
DTSTART;TZID=Asia/Kolkata:19850831T000000
DTEND;TZID=Asia/Kolkata:19850831T000000
DTSTAMP:20260422T230954
CREATED:20250710T121913Z
LAST-MODIFIED:20250716T064017Z
UID:10010039-494294400-494294400@www.discoverhollywood.com
SUMMARY:Off the Rails
DESCRIPTION:The Union Pacific Railroad%2c an Indian boarding school%2c and Madame Overdone%27s Stewed Prunes Saloon collide in%3cstrong%3eRandy Reinholz%27s%3c/strong%3e bawdy and irreverent\n%3cem%3eOff the Rails%3c/em%3e%2c an adaptation of Shakespeare%27s\n%3cem%3eMeasure for Measure%3c/em%3e set in Buffalo Bill%27s Wild West%21DesignHTMLWords: 36   Characters: 236
URL:https://www.discoverhollywood.com/event/off-the-rails/
LOCATION:Autry National Center\, 4700 Western Heritage Way\, Hollywood\, California
END:VEVENT
BEGIN:VEVENT
DTSTART;TZID=Asia/Kolkata:19850609T000000
DTEND;TZID=Asia/Kolkata:19850609T000000
DTSTAMP:20260422T230954
CREATED:20250710T122548Z
LAST-MODIFIED:20250716T065053Z
UID:10010122-487123200-487123200@www.discoverhollywood.com
SUMMARY:Once Upon a Time in the West (1968)
DESCRIPTION:DesignHTMLWords: 0   Characters: 0
URL:https://www.discoverhollywood.com/event/once-upon-a-time-in-the-west-1968/
LOCATION:Autry National Center\, 4700 Western Heritage Way\, Hollywood\, California
END:VEVENT
BEGIN:VEVENT
DTSTART;TZID=Asia/Kolkata:19850514T000000
DTEND;TZID=Asia/Kolkata:19850514T000000
DTSTAMP:20260422T230954
CREATED:20250710T122702Z
LAST-MODIFIED:20250710T122702Z
UID:10010148-484876800-484876800@www.discoverhollywood.com
SUMMARY:One-Eyed Jacks: What is a Western? Film Series at the Autry
DESCRIPTION:DesignHTMLWords: 0   Characters: 0
URL:https://www.discoverhollywood.com/event/one-eyed-jacks-what-is-a-western-film-series-at-the-autry/
LOCATION:Autry National Center\, 4700 Western Heritage Way\, Hollywood\, California
END:VEVENT
BEGIN:VEVENT
DTSTART;TZID=Asia/Kolkata:19850325T000000
DTEND;TZID=Asia/Kolkata:19850325T000000
DTSTAMP:20260422T230954
CREATED:20250710T123314Z
LAST-MODIFIED:20250710T123314Z
UID:10010198-480556800-480556800@www.discoverhollywood.com
SUMMARY:Orquesta Charangoa
DESCRIPTION:DesignHTMLWords: 0   Characters: 0
URL:https://www.discoverhollywood.com/event/orquesta-charangoa/
LOCATION:Autry National Center\, 4700 Western Heritage Way\, Hollywood\, California
END:VEVENT
BEGIN:VEVENT
DTSTART;TZID=Asia/Kolkata:19850322T000000
DTEND;TZID=Asia/Kolkata:19850322T000000
DTSTAMP:20260422T230954
CREATED:20250710T123315Z
LAST-MODIFIED:20250710T123315Z
UID:10010201-480297600-480297600@www.discoverhollywood.com
SUMMARY:Orquesta Son Mayor
DESCRIPTION:DesignHTMLWords: 0   Characters: 0
URL:https://www.discoverhollywood.com/event/orquesta-son-mayor/
LOCATION:Autry National Center\, 4700 Western Heritage Way\, Hollywood\, California
END:VEVENT
BEGIN:VEVENT
DTSTART;TZID=Asia/Kolkata:19850321T000000
DTEND;TZID=Asia/Kolkata:19850321T000000
DTSTAMP:20260422T230954
CREATED:20250710T123316Z
LAST-MODIFIED:20250710T123316Z
UID:10010202-480211200-480211200@www.discoverhollywood.com
SUMMARY:Orquesta Son Mayor
DESCRIPTION:DesignHTMLWords: 0   Characters: 0
URL:https://www.discoverhollywood.com/event/orquesta-son-mayor-2/
LOCATION:Autry National Center\, 4700 Western Heritage Way\, Hollywood\, California
END:VEVENT
BEGIN:VEVENT
DTSTART;TZID=Asia/Kolkata:19850320T000000
DTEND;TZID=Asia/Kolkata:19850320T000000
DTSTAMP:20260422T230954
CREATED:20250710T123316Z
LAST-MODIFIED:20250710T123316Z
UID:10010203-480124800-480124800@www.discoverhollywood.com
SUMMARY:Orquesta Son Mayor
DESCRIPTION:DesignHTMLWords: 0   Characters: 0
URL:https://www.discoverhollywood.com/event/orquesta-son-mayor-3/
LOCATION:Autry National Center\, 4700 Western Heritage Way\, Hollywood\, California
END:VEVENT
BEGIN:VEVENT
DTSTART;TZID=Asia/Kolkata:19850319T000000
DTEND;TZID=Asia/Kolkata:19850319T000000
DTSTAMP:20260422T230954
CREATED:20250710T123316Z
LAST-MODIFIED:20250710T123316Z
UID:10010204-480038400-480038400@www.discoverhollywood.com
SUMMARY:Orquesta Tabaco y Ron
DESCRIPTION:DesignHTMLWords: 0   Characters: 0
URL:https://www.discoverhollywood.com/event/orquesta-tabaco-y-ron/
LOCATION:Autry National Center\, 4700 Western Heritage Way\, Hollywood\, California
END:VEVENT
BEGIN:VEVENT
DTSTART;TZID=Asia/Kolkata:19850310T000000
DTEND;TZID=Asia/Kolkata:19850310T000000
DTSTAMP:20260422T230954
CREATED:20250710T123346Z
LAST-MODIFIED:20250710T123346Z
UID:10010213-479260800-479260800@www.discoverhollywood.com
SUMMARY:Oscar Hernandez and the L.A. Salsa All-Stars
DESCRIPTION:DesignHTMLWords: 0   Characters: 0
URL:https://www.discoverhollywood.com/event/oscar-hernandez-and-the-l-a-salsa-all-stars/
LOCATION:Autry National Center\, 4700 Western Heritage Way\, Hollywood\, California
END:VEVENT
BEGIN:VEVENT
DTSTART;TZID=Asia/Kolkata:19830522T000000
DTEND;TZID=Asia/Kolkata:19830522T000000
DTSTAMP:20260422T230954
CREATED:20250714T092958Z
LAST-MODIFIED:20250714T092958Z
UID:10010441-422409600-422409600@www.discoverhollywood.com
SUMMARY:Play!
DESCRIPTION:%3cbr%3eDesignHTMLWords: 0   Characters: 0
URL:https://www.discoverhollywood.com/event/play/
LOCATION:Autry National Center\, 4700 Western Heritage Way\, Hollywood\, California
END:VEVENT
BEGIN:VEVENT
DTSTART;TZID=Asia/Kolkata:19830521T000000
DTEND;TZID=Asia/Kolkata:19830521T000000
DTSTAMP:20260422T230954
CREATED:20250714T093003Z
LAST-MODIFIED:20250714T093003Z
UID:10010442-422323200-422323200@www.discoverhollywood.com
SUMMARY:Play!
DESCRIPTION:%3cbr%3eDesignHTMLWords: 0   Characters: 0
URL:https://www.discoverhollywood.com/event/play-2/
LOCATION:Autry National Center\, 4700 Western Heritage Way\, Hollywood\, California
END:VEVENT
BEGIN:VEVENT
DTSTART;TZID=Asia/Kolkata:19821109T000000
DTEND;TZID=Asia/Kolkata:19821109T000000
DTSTAMP:20260422T230954
CREATED:20250714T093529Z
LAST-MODIFIED:20250714T093529Z
UID:10010635-405648000-405648000@www.discoverhollywood.com
SUMMARY:Pure Native
DESCRIPTION:World Premiere. Brewster White returns to the reservation%2c with a plan to convince the tribal council and clan mothers to lease %22Rez%22 water rights to a large food conglomerate that wants to sell%26nbsp%3b%3cem%3ePure Native%3c/em%3e%26nbsp%3bbottled water.%26nbsp%3b\n%3cdiv%3e\n	%3cbr%3e\n%3c/div%3e\n%3cdiv%3e\n	%3ca href%3d%22https%3a//theautry.org/events/signature-programs/native-voices%22 target%3d%22_blank%22%3etheautry.org/events/signature-programs/native-voices%3c/a%3e\n%3c/div%3eDesignHTMLWords: 38   Characters: 269
URL:https://www.discoverhollywood.com/event/pure-native/
LOCATION:Autry National Center\, 4700 Western Heritage Way\, Hollywood\, California
END:VEVENT
BEGIN:VEVENT
DTSTART;TZID=Asia/Kolkata:19820731T000000
DTEND;TZID=Asia/Kolkata:19820731T000000
DTSTAMP:20260422T230954
CREATED:20250714T093920Z
LAST-MODIFIED:20250714T093920Z
UID:10010736-396921600-396921600@www.discoverhollywood.com
SUMMARY:Ramrod: What is a Western? Film Series
DESCRIPTION:DesignHTMLWords: 0   Characters: 0
URL:https://www.discoverhollywood.com/event/ramrod-what-is-a-western-film-series/
LOCATION:Autry National Center\, 4700 Western Heritage Way\, Hollywood\, California
END:VEVENT
BEGIN:VEVENT
DTSTART;TZID=Asia/Kolkata:19820531T000000
DTEND;TZID=Asia/Kolkata:19820531T000000
DTSTAMP:20260422T230954
CREATED:20250714T094207Z
LAST-MODIFIED:20250714T094207Z
UID:10010797-391651200-391651200@www.discoverhollywood.com
SUMMARY:Rear Window
DESCRIPTION:Eat%7cSee%7cHear debuts another year of film favorites. The original traveling outdoor cinema celebrates its seventh year with a selection of 20 movies and music performances alongside 150%2b rotating food trucks. %3ca href%3d%22http%3a//www.eatseehear.com/%22 target%3d%22_blank%22%3ewww.eatseehear.com%3c/a%3eDesignHTMLWords: 31   Characters: 222
URL:https://www.discoverhollywood.com/event/rear-window/
LOCATION:Autry National Center\, 4700 Western Heritage Way\, Hollywood\, California
END:VEVENT
BEGIN:VEVENT
DTSTART;TZID=Asia/Kolkata:19811226T000000
DTEND;TZID=Asia/Kolkata:19811226T000000
DTSTAMP:20260422T230954
CREATED:20250714T095535Z
LAST-MODIFIED:20250714T095535Z
UID:10010953-378172800-378172800@www.discoverhollywood.com
SUMMARY:Ricardo Lemvo and Makina Loca
DESCRIPTION:DesignHTMLWords: 0   Characters: 0
URL:https://www.discoverhollywood.com/event/ricardo-lemvo-and-makina-loca/
LOCATION:Autry National Center\, 4700 Western Heritage Way\, Hollywood\, California
END:VEVENT
BEGIN:VEVENT
DTSTART;TZID=Asia/Kolkata:19811225T000000
DTEND;TZID=Asia/Kolkata:19811225T000000
DTSTAMP:20260422T230954
CREATED:20250714T095535Z
LAST-MODIFIED:20250714T095535Z
UID:10010954-378086400-378086400@www.discoverhollywood.com
SUMMARY:Ricardo Lemvo and Makina Loca
DESCRIPTION:DesignHTMLWords: 0   Characters: 0
URL:https://www.discoverhollywood.com/event/ricardo-lemvo-and-makina-loca-2/
LOCATION:Autry National Center\, 4700 Western Heritage Way\, Hollywood\, California
END:VEVENT
BEGIN:VEVENT
DTSTART;TZID=Asia/Kolkata:19811204T000000
DTEND;TZID=Asia/Kolkata:19811204T000000
DTSTAMP:20260422T230954
CREATED:20250714T100114Z
LAST-MODIFIED:20250714T100114Z
UID:10010975-376272000-376272000@www.discoverhollywood.com
SUMMARY:Rick Bartow: Things You Know But Cannot Explain
DESCRIPTION:%3cspan style%3d%22margin%3a0px%3b font-family%3aCalibri%2csans-serif%3b font-size%3a11pt%3b%22%3eFirst major retrospective of Native contemporary artist Rick Bartow %281946–2016%29 reveals his powerful body of work.%3c/span%3eDesignHTMLWords: 16   Characters: 111
URL:https://www.discoverhollywood.com/event/rick-bartow-things-you-know-but-cannot-explain/
LOCATION:Autry National Center\, 4700 Western Heritage Way\, Hollywood\, California
END:VEVENT
BEGIN:VEVENT
DTSTART;TZID=Asia/Kolkata:19811119T000000
DTEND;TZID=Asia/Kolkata:19811119T000000
DTSTAMP:20260422T230954
CREATED:20250714T100307Z
LAST-MODIFIED:20250714T100307Z
UID:10010990-374976000-374976000@www.discoverhollywood.com
SUMMARY:Ridin' on a Rainbow and The Cowboy and the Indians
DESCRIPTION:DesignHTMLWords: 0   Characters: 0
URL:https://www.discoverhollywood.com/event/ridin-on-a-rainbow-and-the-cowboy-and-the-indians/
LOCATION:Autry National Center\, 4700 Western Heritage Way\, Hollywood\, California
END:VEVENT
BEGIN:VEVENT
DTSTART;TZID=Asia/Kolkata:19800228T000000
DTEND;TZID=Asia/Kolkata:19800228T000000
DTSTAMP:20260422T230954
CREATED:20250714T113249Z
LAST-MODIFIED:20250714T113249Z
UID:10011420-320544000-320544000@www.discoverhollywood.com
SUMMARY:Rosy Simas Presents We Wait in the Darkness
DESCRIPTION:%3cimg src%3d%22http%3a//theautry.org/images/gallery/albums/Program/dance_by_rosy_simas___i_we_wait_in_the_darkness_i_/simas-for-calendar_lg.jpg%22 alt%3d%22%22 height%3d%22230%22 width%3d%22440%22%3eDesignHTMLWords: 0   Characters: 0
URL:https://www.discoverhollywood.com/event/rosy-simas-presents-we-wait-in-the-darkness/
LOCATION:Autry National Center\, 4700 Western Heritage Way\, Hollywood\, California
END:VEVENT
BEGIN:VEVENT
DTSTART;TZID=Asia/Kolkata:19800218T000000
DTEND;TZID=Asia/Kolkata:19800218T000000
DTSTAMP:20260422T230954
CREATED:20250714T113308Z
LAST-MODIFIED:20250714T113308Z
UID:10011430-319680000-319680000@www.discoverhollywood.com
SUMMARY:Route 66: The Road and the Romance
DESCRIPTION:%3cbr%3eDesignHTMLWords: 0   Characters: 0
URL:https://www.discoverhollywood.com/event/route-66-the-road-and-the-romance/
LOCATION:Autry National Center\, 4700 Western Heritage Way\, Hollywood\, California
END:VEVENT
BEGIN:VEVENT
DTSTART;TZID=Asia/Kolkata:19791121T000000
DTEND;TZID=Asia/Kolkata:19791121T000000
DTSTAMP:20260422T230954
CREATED:20250714T115114Z
LAST-MODIFIED:20250714T115114Z
UID:10011697-311990400-311990400@www.discoverhollywood.com
SUMMARY:SCIC Native American Film Festival
DESCRIPTION:DesignHTMLWords: 0   Characters: 0
URL:https://www.discoverhollywood.com/event/scic-native-american-film-festival/
LOCATION:Autry National Center\, 4700 Western Heritage Way\, Hollywood\, California
END:VEVENT
BEGIN:VEVENT
DTSTART;TZID=Asia/Kolkata:19790919T000000
DTEND;TZID=Asia/Kolkata:19790919T000000
DTSTAMP:20260422T230954
CREATED:20250714T115706Z
LAST-MODIFIED:20250714T115706Z
UID:10011760-306547200-306547200@www.discoverhollywood.com
SUMMARY:Selena
DESCRIPTION:Eat%7cSee%7cHear debuts another year of film favorites. The original traveling outdoor cinema celebrates its seventh year with a selection of 20 movies and music performances alongside 150%2b rotating food trucks. %3ca href%3d%22http%3a//www.eatseehear.com/%22 target%3d%22_blank%22%3ewww.eatseehear.com%3c/a%3eDesignHTMLWords: 31   Characters: 222
URL:https://www.discoverhollywood.com/event/selena-2/
LOCATION:Autry National Center\, 4700 Western Heritage Way\, Hollywood\, California
END:VEVENT
BEGIN:VEVENT
DTSTART;TZID=Asia/Kolkata:19790531T000000
DTEND;TZID=Asia/Kolkata:19790531T000000
DTSTAMP:20260422T230954
CREATED:20250714T120401Z
LAST-MODIFIED:20250714T120401Z
UID:10011871-296956800-296956800@www.discoverhollywood.com
SUMMARY:Shane
DESCRIPTION:DesignHTMLWords: 0   Characters: 0
URL:https://www.discoverhollywood.com/event/shane/
LOCATION:Autry National Center\, 4700 Western Heritage Way\, Hollywood\, California
END:VEVENT
BEGIN:VEVENT
DTSTART;TZID=Asia/Kolkata:19790313T000000
DTEND;TZID=Asia/Kolkata:19790313T000000
DTSTAMP:20260422T230954
CREATED:20250714T120608Z
LAST-MODIFIED:20250714T120608Z
UID:10011950-290131200-290131200@www.discoverhollywood.com
SUMMARY:Short Play Festival: Take Back the Land
DESCRIPTION:The only Equity theatre company dedicated exclusively to developing new work by Native American artists%2c%26nbsp%3b%3ca href%3d%22http%3a//theautry.us4.list-manage.com/track/click%3fu%3ddee130c52671d690ce268dfef%26amp%3bid%3d98a84b379d%26amp%3be%3dd63b50dc4a%22 target%3d%22_blank%22%3e%3cb%3eNative Voices at the Autry%3c/b%3e%3c/a%3e%26nbsp%3bpresents its sixth annual Short Play Festival%3a%26nbsp%3b\n%3cem%3eTake Back the Land%3c/em%3e. Held during the Autry Museum of the American West%27s%26nbsp%3b\n%3ca href%3d%22http%3a//theautry.us4.list-manage.com/track/click%3fu%3ddee130c52671d690ce268DesignHTMLWords: 40   Characters: 247
URL:https://www.discoverhollywood.com/event/short-play-festival-take-back-the-land/
LOCATION:Autry National Center\, 4700 Western Heritage Way\, Hollywood\, California
END:VEVENT
BEGIN:VEVENT
DTSTART;TZID=Asia/Kolkata:19781111T000000
DTEND;TZID=Asia/Kolkata:19781111T000000
DTSTAMP:20260422T230954
CREATED:20250714T122459Z
LAST-MODIFIED:20250714T122459Z
UID:10012072-279590400-279590400@www.discoverhollywood.com
SUMMARY:Sizzling Summer Nights
DESCRIPTION:%3cbr%3eDesignHTMLWords: 0   Characters: 0
URL:https://www.discoverhollywood.com/event/sizzling-summer-nights/
LOCATION:Autry National Center\, 4700 Western Heritage Way\, Hollywood\, California
END:VEVENT
BEGIN:VEVENT
DTSTART;TZID=Asia/Kolkata:19781110T000000
DTEND;TZID=Asia/Kolkata:19781110T000000
DTSTAMP:20260422T230954
CREATED:20250714T122514Z
LAST-MODIFIED:20250714T122514Z
UID:10012073-279504000-279504000@www.discoverhollywood.com
SUMMARY:Sizzling Summer Nights
DESCRIPTION:Dance the night away with L.A.’s best salsa and Latin fusion bands at the Autry’s popular summer series. The outdoor parties include free lessons%2c access to museum galleries%2c a separate children’s dance floor%2c and more. Tacos%2c margaritas%2c and other light refreshments are available for purchase.DesignHTMLWords: 45   Characters: 285
URL:https://www.discoverhollywood.com/event/sizzling-summer-nights-2/
LOCATION:Autry National Center\, 4700 Western Heritage Way\, Hollywood\, California
END:VEVENT
BEGIN:VEVENT
DTSTART;TZID=Asia/Kolkata:19771203T000000
DTEND;TZID=Asia/Kolkata:19771203T000000
DTSTAMP:20260422T230954
CREATED:20250715T090214Z
LAST-MODIFIED:20250715T090214Z
UID:10012416-249955200-249955200@www.discoverhollywood.com
SUMMARY:Stand-Off at HWY #37
DESCRIPTION:DesignHTMLWords: 0   Characters: 0
URL:https://www.discoverhollywood.com/event/stand-off-at-hwy-37/
LOCATION:Autry National Center\, 4700 Western Heritage Way\, Hollywood\, California
END:VEVENT
BEGIN:VEVENT
DTSTART;TZID=Asia/Kolkata:19770710T000000
DTEND;TZID=Asia/Kolkata:19770710T000000
DTSTAMP:20260422T230954
CREATED:20250715T092042Z
LAST-MODIFIED:20250715T092042Z
UID:10012562-237340800-237340800@www.discoverhollywood.com
SUMMARY:StoryTime
DESCRIPTION:DesignHTMLWords: 0   Characters: 0
URL:https://www.discoverhollywood.com/event/storytime/
LOCATION:Autry National Center\, 4700 Western Heritage Way\, Hollywood\, California
END:VEVENT
END:VCALENDAR