BEGIN:VCALENDAR
VERSION:2.0
PRODID:-//Discover Hollywood Magazine - ECPv6.15.17//NONSGML v1.0//EN
CALSCALE:GREGORIAN
METHOD:PUBLISH
X-WR-CALNAME:Discover Hollywood Magazine
X-ORIGINAL-URL:https://www.discoverhollywood.com
X-WR-CALDESC:Events for Discover Hollywood Magazine
REFRESH-INTERVAL;VALUE=DURATION:PT1H
X-Robots-Tag:noindex
X-PUBLISHED-TTL:PT1H
BEGIN:VTIMEZONE
TZID:Asia/Kolkata
BEGIN:STANDARD
TZOFFSETFROM:+0530
TZOFFSETTO:+0530
TZNAME:IST
DTSTART:20010101T000000
END:STANDARD
END:VTIMEZONE
BEGIN:VEVENT
DTSTART;TZID=Asia/Kolkata:20230305T000000
DTEND;TZID=Asia/Kolkata:20230305T000000
DTSTAMP:20260422T153150
CREATED:20250630T090110Z
LAST-MODIFIED:20250630T090110Z
UID:10001125-1677974400-1677974400@www.discoverhollywood.com
SUMMARY:20 Years of Winners: Scenes\, Songs\, and Speeches from 20 Years of The Young Playwrights Festival
DESCRIPTION:Benefiting the Blank Theatre%2c for one night only%21DesignHTMLWords: 8   Characters: 47
URL:https://www.discoverhollywood.com/event/20-years-of-winners-scenes-songs-and-speeches-from-20-years-of-the-young-playwrights-festival-2/
LOCATION:Avalon Hollywood\, Select
END:VEVENT
BEGIN:VEVENT
DTSTART;TZID=Asia/Kolkata:20221211T000000
DTEND;TZID=Asia/Kolkata:20221211T000000
DTSTAMP:20260422T153150
CREATED:20250630T090225Z
LAST-MODIFIED:20250630T090225Z
UID:10001153-1670716800-1670716800@www.discoverhollywood.com
SUMMARY:2018 Depeche Mode Convention
DESCRIPTION:%3cspan%3eHosted by RICHARD BLADE and featuring Live Music Tributes to Depeche Mode%2c Cool Collectibles%2c Rare Videos%2c Contests%2c Prizes%2c Guest DJ%27s…and of course Dancing All NIGHT LONG-%21%3c/span%3e\n%3cdiv%3e\n	%3cspan%3e%3cbr%3e%3c/span%3e\n%3c/div%3e\n%3cdiv%3e\n	%3cspan%3e%3cspan%3e%3ca href%3d%22https%3a//avalonhollywood.com/event/special-event-111818-depeche-mode-convention/%22 target%3d%22_blank%22%3ehttps%3a//avalonhollywood.com/event/special-event-111818-depeche-mode-convention/%3c/a%3e%3c/span%3e%3c/span%3e\n%3c/div%3eDesignHTMLWords: 27   Characters: 240
URL:https://www.discoverhollywood.com/event/2018-depeche-mode-convention-2/
LOCATION:Avalon Hollywood\, Select
END:VEVENT
BEGIN:VEVENT
DTSTART;TZID=Asia/Kolkata:20220127T000000
DTEND;TZID=Asia/Kolkata:20220127T000000
DTSTAMP:20260422T153150
CREATED:20250630T091452Z
LAST-MODIFIED:20250630T091452Z
UID:10001259-1643241600-1643241600@www.discoverhollywood.com
SUMMARY:50 Shades Of Men
DESCRIPTION:%3cbr%3eDesignHTMLWords: 0   Characters: 0
URL:https://www.discoverhollywood.com/event/50-shades-of-men-2/
LOCATION:Avalon Hollywood\, Select
END:VEVENT
BEGIN:VEVENT
DTSTART;TZID=Asia/Kolkata:20210722T000000
DTEND;TZID=Asia/Kolkata:20210722T000000
DTSTAMP:20260422T153150
CREATED:20250630T093738Z
LAST-MODIFIED:20250630T093738Z
UID:10001322-1626912000-1626912000@www.discoverhollywood.com
SUMMARY:A Catbaret
DESCRIPTION:%3cp%3eA CATbaret%21 – A One-Night Only Celebrity Musical Celebration of the Alluring Feline is a cat-and-cabaret themed benefit concert and musical revue filled with exciting celebrity performances of popular and humorous cat-themed songs%2c all accompanied by a live band. Produced by Kitty Bungalow Charm School for Wayward Cats%2c this Broadway caliber event is for the animal lovers and theater aficionados alike.%3c/p%3eDesignHTMLWords: 60   Characters: 395
URL:https://www.discoverhollywood.com/event/a-catbaret-2/
LOCATION:Avalon Hollywood\, Select
END:VEVENT
BEGIN:VEVENT
DTSTART;TZID=Asia/Kolkata:20210719T000000
DTEND;TZID=Asia/Kolkata:20210719T000000
DTSTAMP:20260422T153150
CREATED:20250630T093738Z
LAST-MODIFIED:20250630T093738Z
UID:10001323-1626652800-1626652800@www.discoverhollywood.com
SUMMARY:A Cause for Entertainment Breast Cancer Annual Charity Event
DESCRIPTION:%3cbr%3eDesignHTMLWords: 0   Characters: 0
URL:https://www.discoverhollywood.com/event/a-cause-for-entertainment-breast-cancer-annual-charity-event-2/
LOCATION:Avalon Hollywood\, Select
END:VEVENT
BEGIN:VEVENT
DTSTART;TZID=Asia/Kolkata:20201121T000000
DTEND;TZID=Asia/Kolkata:20201121T000000
DTSTAMP:20260422T153150
CREATED:20250630T095226Z
LAST-MODIFIED:20250630T095226Z
UID:10001403-1605916800-1605916800@www.discoverhollywood.com
SUMMARY:A Perfect Circle
DESCRIPTION:DesignHTMLWords: 0   Characters: 0
URL:https://www.discoverhollywood.com/event/a-perfect-circle-3/
LOCATION:Avalon Hollywood\, Select
END:VEVENT
BEGIN:VEVENT
DTSTART;TZID=Asia/Kolkata:20190125T000000
DTEND;TZID=Asia/Kolkata:20190125T000000
DTSTAMP:20260422T153150
CREATED:20250630T103148Z
LAST-MODIFIED:20250630T103148Z
UID:10001620-1548374400-1548374400@www.discoverhollywood.com
SUMMARY:Ajapai
DESCRIPTION:DesignHTMLWords: 0   Characters: 0
URL:https://www.discoverhollywood.com/event/ajapai-2/
LOCATION:Avalon Hollywood\, Select
END:VEVENT
BEGIN:VEVENT
DTSTART;TZID=Asia/Kolkata:20170324T000000
DTEND;TZID=Asia/Kolkata:20170324T000000
DTSTAMP:20260422T153150
CREATED:20250630T105342Z
LAST-MODIFIED:20250630T105342Z
UID:10001844-1490313600-1490313600@www.discoverhollywood.com
SUMMARY:AMFAMFAMF presents Destructo & DJ Diesel
DESCRIPTION:DJ Diesel%2c aka Shaquille O%27Neil%27s debut Los Angeles performance.%3cdiv%3e\n	%3cbr%3e\n%3c/div%3e\n%3cdiv%3e\n	%3ca href%3d%22https%3a//wl.seetickets.us/event/AMFAMFAMF-presents-Destructo-and-DJ-Diesel-Shaquille-ONeal/373748%3fafflky%3dAvalonHollywood%26amp%3bsp%3d9IEVR0%22 target%3d%22_blank%22%3ehttps%3a//wl.seetickets.us/event/AMFAMFAMF-presents-Destructo-and-DJ-Diesel-Shaquille-ONeal/373748%3fafflky%3dAvalonHollywood%26amp%3bsp%3d9IEVR0%3c/a%3e\n%3c/div%3eDesignHTMLWords: 10   Characters: 180
URL:https://www.discoverhollywood.com/event/amfamfamf-presents-destructo-dj-diesel-2/
LOCATION:Avalon Hollywood\, Select
END:VEVENT
BEGIN:VEVENT
DTSTART;TZID=Asia/Kolkata:20150610T000000
DTEND;TZID=Asia/Kolkata:20150610T000000
DTSTAMP:20260422T153150
CREATED:20250630T113705Z
LAST-MODIFIED:20250630T113705Z
UID:10002086-1433894400-1433894400@www.discoverhollywood.com
SUMMARY:Anjelah Johnson
DESCRIPTION:DesignHTMLWords: 0   Characters: 0
URL:https://www.discoverhollywood.com/event/anjelah-johnson/
LOCATION:Avalon Hollywood\, Select
END:VEVENT
BEGIN:VEVENT
DTSTART;TZID=Asia/Kolkata:20150111T000000
DTEND;TZID=Asia/Kolkata:20150111T000000
DTSTAMP:20260422T153150
CREATED:20250630T114050Z
LAST-MODIFIED:20250630T114050Z
UID:10002161-1420934400-1420934400@www.discoverhollywood.com
SUMMARY:Ape Drums\, Promnite\, Wild Boyz b2b Not Sorry\, Nala
DESCRIPTION:DesignHTMLWords: 0   Characters: 0
URL:https://www.discoverhollywood.com/event/ape-drums-promnite-wild-boyz-b2b-not-sorry-nala/
LOCATION:Avalon Hollywood\, Select
END:VEVENT
BEGIN:VEVENT
DTSTART;TZID=Asia/Kolkata:20131109T000000
DTEND;TZID=Asia/Kolkata:20131109T000000
DTSTAMP:20260422T153150
CREATED:20250630T120305Z
LAST-MODIFIED:20250630T120305Z
UID:10002375-1383955200-1383955200@www.discoverhollywood.com
SUMMARY:B&L presents KRNE\, GRAVES\, Fatherdude Live
DESCRIPTION:DesignHTMLWords: 0   Characters: 0
URL:https://www.discoverhollywood.com/event/bl-presents-krne-graves-fatherdude-live/
LOCATION:Avalon Hollywood\, Select
END:VEVENT
BEGIN:VEVENT
DTSTART;TZID=Asia/Kolkata:20120929T000000
DTEND;TZID=Asia/Kolkata:20120929T000000
DTSTAMP:20260422T153150
CREATED:20250630T120624Z
LAST-MODIFIED:20250630T120624Z
UID:10002578-1348876800-1348876800@www.discoverhollywood.com
SUMMARY:Bear Grillz\, Midnight Tyrannosaurus\, Pogman\, Kaleido\, Dafuq
DESCRIPTION:DesignHTMLWords: 0   Characters: 0
URL:https://www.discoverhollywood.com/event/bear-grillz-midnight-tyrannosaurus-pogman-kaleido-dafuq/
LOCATION:Avalon Hollywood\, Select
END:VEVENT
BEGIN:VEVENT
DTSTART;TZID=Asia/Kolkata:20120228T000000
DTEND;TZID=Asia/Kolkata:20120228T000000
DTSTAMP:20260422T153150
CREATED:20250630T122744Z
LAST-MODIFIED:20250630T122744Z
UID:10002685-1330387200-1330387200@www.discoverhollywood.com
SUMMARY:Ben Nicky [4 Hour Set]\, Kristina Sky
DESCRIPTION:%3cdiv%3e21 years and over.%3c/div%3eDesignHTMLWords: 4   Characters: 17
URL:https://www.discoverhollywood.com/event/ben-nicky-4-hour-set-kristina-sky/
LOCATION:Avalon Hollywood\, Select
END:VEVENT
BEGIN:VEVENT
DTSTART;TZID=Asia/Kolkata:20100606T000000
DTEND;TZID=Asia/Kolkata:20100606T000000
DTSTAMP:20260422T153150
CREATED:20250630T131050Z
LAST-MODIFIED:20250716T122202Z
UID:10003002-1275782400-1275782400@www.discoverhollywood.com
SUMMARY:BLOOD SWEAT & BASS III: Downlink\, Dieselboy\, Midnight Tyrannosaurus\, Recoil\, INIT
DESCRIPTION:%3cbr%3eDesignHTMLWords: 0   Characters: 0
URL:https://www.discoverhollywood.com/event/blood-sweat-bass-iii-downlink-dieselboy-midnight-tyrannosaurus-recoil-init/
LOCATION:Avalon Hollywood\, Select
END:VEVENT
BEGIN:VEVENT
DTSTART;TZID=Asia/Kolkata:20100604T000000
DTEND;TZID=Asia/Kolkata:20100604T000000
DTSTAMP:20260422T153150
CREATED:20250630T131051Z
LAST-MODIFIED:20250716T122202Z
UID:10003003-1275609600-1275609600@www.discoverhollywood.com
SUMMARY:Blood Sweat and Bass
DESCRIPTION:DesignHTMLWords: 0   Characters: 0
URL:https://www.discoverhollywood.com/event/blood-sweat-and-bass/
LOCATION:Avalon Hollywood\, Select
END:VEVENT
BEGIN:VEVENT
DTSTART;TZID=Asia/Kolkata:20080630T000000
DTEND;TZID=Asia/Kolkata:20080630T000000
DTSTAMP:20260422T153150
CREATED:20250701T063255Z
LAST-MODIFIED:20250701T063255Z
UID:10003350-1214784000-1214784000@www.discoverhollywood.com
SUMMARY:Burlesque Brunch
DESCRIPTION:Burlesque%2c Live Band%2c Singers%2c and drink specials\n%3cbr%3eDesignHTMLWords: 7   Characters: 46
URL:https://www.discoverhollywood.com/event/burlesque-brunch/
LOCATION:Avalon Hollywood\, Select
END:VEVENT
BEGIN:VEVENT
DTSTART;TZID=Asia/Kolkata:20070318T000000
DTEND;TZID=Asia/Kolkata:20070318T000000
DTSTAMP:20260422T153150
CREATED:20250701T070734Z
LAST-MODIFIED:20250701T070734Z
UID:10003490-1174176000-1174176000@www.discoverhollywood.com
SUMMARY:CATbaret Gala!
DESCRIPTION:%3ch6 class%3d%22font_6%22 style%3d%22font-size%3a16px%22%3e\n	%3cspan%3e%3cspan%3eThe 6th Annual Celebrity Musical Fundraiser.%3cspan class%3d%22wixGuard%22%3e%3c/span%3eCelebritiy performances%2c amazing dance n%3c/span%3e%3c/span%3e\n	%3cspan%3e%3cspan%3eumbers and a full night of food%2c frolic%26nbsp%3band fun – all for the felines%21%3c/span%3e%3c/span%3e\n	%3cspan%3e\n		%3cspan%3eFantastic Fig%2c Nib%3c/span%3e\n		%3cspan%3ebles%2c Happy Hour with Beer brewed by Cats%2c a chance to win %2420%2c000 of prizes%2c cat videos and%3c/span%3e\n		%3cspan%3e\n			more. Celebrity%26nbsp%3bfeline-focused%26nbsp%3bmusical%26nbsp%3bDesignHTMLWords: 49   Characters: 294
URL:https://www.discoverhollywood.com/event/catbaret-gala/
LOCATION:Avalon Hollywood\, Select
END:VEVENT
BEGIN:VEVENT
DTSTART;TZID=Asia/Kolkata:20070117T000000
DTEND;TZID=Asia/Kolkata:20070117T000000
DTSTAMP:20260422T153150
CREATED:20250701T080317Z
LAST-MODIFIED:20250701T080317Z
UID:10003520-1168992000-1168992000@www.discoverhollywood.com
SUMMARY:Cedric Gervais\, Atomic Mike\, DJ Kash
DESCRIPTION:%3cbr%3eDesignHTMLWords: 0   Characters: 0
URL:https://www.discoverhollywood.com/event/cedric-gervais-atomic-mike-dj-kash/
LOCATION:Avalon Hollywood\, Select
END:VEVENT
BEGIN:VEVENT
DTSTART;TZID=Asia/Kolkata:20060428T000000
DTEND;TZID=Asia/Kolkata:20060428T000000
DTSTAMP:20260422T153150
CREATED:20250701T083523Z
LAST-MODIFIED:20250701T083523Z
UID:10003652-1146182400-1146182400@www.discoverhollywood.com
SUMMARY:Chickenfoot
DESCRIPTION:DesignHTMLWords: 0   Characters: 0
URL:https://www.discoverhollywood.com/event/chickenfoot-2/
LOCATION:Avalon Hollywood\, Select
END:VEVENT
BEGIN:VEVENT
DTSTART;TZID=Asia/Kolkata:20060321T000000
DTEND;TZID=Asia/Kolkata:20060321T000000
DTSTAMP:20260422T153150
CREATED:20250701T084012Z
LAST-MODIFIED:20250701T084012Z
UID:10003671-1142899200-1142899200@www.discoverhollywood.com
SUMMARY:Chippendales
DESCRIPTION:Break the Rules Tour\n%3cbr%3eDesignHTMLWords: 4   Characters: 20
URL:https://www.discoverhollywood.com/event/chippendales/
LOCATION:Avalon Hollywood\, Select
END:VEVENT
BEGIN:VEVENT
DTSTART;TZID=Asia/Kolkata:20050918T000000
DTEND;TZID=Asia/Kolkata:20050918T000000
DTSTAMP:20260422T153150
CREATED:20250701T091106Z
LAST-MODIFIED:20250701T091106Z
UID:10003763-1127001600-1127001600@www.discoverhollywood.com
SUMMARY:Chuckie [Open to Close]
DESCRIPTION:%3ch1%3e\n	Chuckie %5bOpen to Close%5d\n	%3cbr%3e\n	%2b After Hours in BARDOT%3c/h1%3eDesignHTMLWords: 9   Characters: 45
URL:https://www.discoverhollywood.com/event/chuckie-open-to-close/
LOCATION:Avalon Hollywood\, Select
END:VEVENT
BEGIN:VEVENT
DTSTART;TZID=Asia/Kolkata:20050906T000000
DTEND;TZID=Asia/Kolkata:20050906T000000
DTSTAMP:20260422T153150
CREATED:20250701T091121Z
LAST-MODIFIED:20250701T091121Z
UID:10003769-1125964800-1125964800@www.discoverhollywood.com
SUMMARY:Cinco 3
DESCRIPTION:%3cbr%3eDesignHTMLWords: 0   Characters: 0
URL:https://www.discoverhollywood.com/event/cinco-3/
LOCATION:Avalon Hollywood\, Select
END:VEVENT
BEGIN:VEVENT
DTSTART;TZID=Asia/Kolkata:20050610T000000
DTEND;TZID=Asia/Kolkata:20050610T000000
DTSTAMP:20260422T153150
CREATED:20250701T092054Z
LAST-MODIFIED:20250701T092054Z
UID:10003813-1118361600-1118361600@www.discoverhollywood.com
SUMMARY:Circa Survive
DESCRIPTION:With Special Guests%3a\n%3cbr%3e\nDredg%2c Codeseven%2c Animals As LeadersDesignHTMLWords: 8   Characters: 54
URL:https://www.discoverhollywood.com/event/circa-survive/
LOCATION:Avalon Hollywood\, Select
END:VEVENT
BEGIN:VEVENT
DTSTART;TZID=Asia/Kolkata:20040331T000000
DTEND;TZID=Asia/Kolkata:20040331T000000
DTSTAMP:20260422T153150
CREATED:20250701T104633Z
LAST-MODIFIED:20250701T104633Z
UID:10004031-1080691200-1080691200@www.discoverhollywood.com
SUMMARY:CONTROL Harder Styles
DESCRIPTION:DesignHTMLWords: 0   Characters: 0
URL:https://www.discoverhollywood.com/event/control-harder-styles/
LOCATION:Avalon Hollywood\, Select
END:VEVENT
BEGIN:VEVENT
DTSTART;TZID=Asia/Kolkata:20040327T000000
DTEND;TZID=Asia/Kolkata:20040327T000000
DTSTAMP:20260422T153150
CREATED:20250701T104633Z
LAST-MODIFIED:20250701T104633Z
UID:10004033-1080345600-1080345600@www.discoverhollywood.com
SUMMARY:Control Weekend Takeover 7 Year Anniversary
DESCRIPTION:%3cp%3eGladiator%2c DJ Sliink b2b Brenmar%2c Aazar%2c Jon Mon%2c Tighttraxx%3c/p%3e\n%3cp%3e%3c/p%3eDesignHTMLWords: 9   Characters: 56
URL:https://www.discoverhollywood.com/event/control-weekend-takeover-7-year-anniversary/
LOCATION:Avalon Hollywood\, Select
END:VEVENT
BEGIN:VEVENT
DTSTART;TZID=Asia/Kolkata:20040325T000000
DTEND;TZID=Asia/Kolkata:20040325T000000
DTSTAMP:20260422T153150
CREATED:20250701T104634Z
LAST-MODIFIED:20250701T104634Z
UID:10004034-1080172800-1080172800@www.discoverhollywood.com
SUMMARY:Control Weekend Takeover 7 Year Anniversary: Wolfgang Gartner\, Wuki\, Penthouse Penthouse
DESCRIPTION:%3cbr%3eDesignHTMLWords: 0   Characters: 0
URL:https://www.discoverhollywood.com/event/control-weekend-takeover-7-year-anniversary-wolfgang-gartner-wuki-penthouse-penthouse/
LOCATION:Avalon Hollywood\, Select
END:VEVENT
BEGIN:VEVENT
DTSTART;TZID=Asia/Kolkata:20040218T000000
DTEND;TZID=Asia/Kolkata:20040218T000000
DTSTAMP:20260422T153150
CREATED:20250701T104717Z
LAST-MODIFIED:20250701T104717Z
UID:10004052-1077062400-1077062400@www.discoverhollywood.com
SUMMARY:Corinne Bailey Rae
DESCRIPTION:DesignHTMLWords: 0   Characters: 0
URL:https://www.discoverhollywood.com/event/corinne-bailey-rae/
LOCATION:Avalon Hollywood\, Select
END:VEVENT
BEGIN:VEVENT
DTSTART;TZID=Asia/Kolkata:20031108T000000
DTEND;TZID=Asia/Kolkata:20031108T000000
DTSTAMP:20260422T153150
CREATED:20250701T105541Z
LAST-MODIFIED:20250701T105541Z
UID:10004103-1068249600-1068249600@www.discoverhollywood.com
SUMMARY:Crankdat\, Atliens\, Castor Troy\, RWDY
DESCRIPTION:DesignHTMLWords: 0   Characters: 0
URL:https://www.discoverhollywood.com/event/crankdat-atliens-castor-troy-rwdy/
LOCATION:Avalon Hollywood\, Select
END:VEVENT
BEGIN:VEVENT
DTSTART;TZID=Asia/Kolkata:20030404T000000
DTEND;TZID=Asia/Kolkata:20030404T000000
DTSTAMP:20260422T153150
CREATED:20250701T112611Z
LAST-MODIFIED:20250701T112611Z
UID:10004212-1049414400-1049414400@www.discoverhollywood.com
SUMMARY:Daedelus & Two Fresh
DESCRIPTION:DesignHTMLWords: 0   Characters: 0
URL:https://www.discoverhollywood.com/event/daedelus-two-fresh/
LOCATION:Avalon Hollywood\, Select
END:VEVENT
BEGIN:VEVENT
DTSTART;TZID=Asia/Kolkata:20021022T000000
DTEND;TZID=Asia/Kolkata:20021022T000000
DTSTAMP:20260422T153150
CREATED:20250701T113510Z
LAST-MODIFIED:20250701T113510Z
UID:10004294-1035244800-1035244800@www.discoverhollywood.com
SUMMARY:Dark Side of the Moon Concert
DESCRIPTION:%3cbr%3eDesignHTMLWords: 0   Characters: 0
URL:https://www.discoverhollywood.com/event/dark-side-of-the-moon-concert/
LOCATION:Avalon Hollywood\, Select
END:VEVENT
END:VCALENDAR