BEGIN:VCALENDAR
VERSION:2.0
PRODID:-//Discover Hollywood Magazine - ECPv6.15.20//NONSGML v1.0//EN
CALSCALE:GREGORIAN
METHOD:PUBLISH
X-WR-CALNAME:Discover Hollywood Magazine
X-ORIGINAL-URL:https://www.discoverhollywood.com
X-WR-CALDESC:Events for Discover Hollywood Magazine
REFRESH-INTERVAL;VALUE=DURATION:PT1H
X-Robots-Tag:noindex
X-PUBLISHED-TTL:PT1H
BEGIN:VTIMEZONE
TZID:Asia/Kolkata
BEGIN:STANDARD
TZOFFSETFROM:+0530
TZOFFSETTO:+0530
TZNAME:IST
DTSTART:19880101T000000
END:STANDARD
END:VTIMEZONE
BEGIN:VEVENT
DTSTART;TZID=Asia/Kolkata:19990902T000000
DTEND;TZID=Asia/Kolkata:19990902T000000
DTSTAMP:20260425T004822
CREATED:20250701T125938Z
LAST-MODIFIED:20250701T125938Z
UID:10004857-936230400-936230400@www.discoverhollywood.com
SUMMARY:Drive By Truckers
DESCRIPTION:DesignHTMLWords: 0   Characters: 0
URL:https://www.discoverhollywood.com/event/drive-by-truckers/
LOCATION:Avalon Hollywood\, Select
END:VEVENT
BEGIN:VEVENT
DTSTART;TZID=Asia/Kolkata:19990202T000000
DTEND;TZID=Asia/Kolkata:19990202T000000
DTSTAMP:20260425T004822
CREATED:20250701T134037Z
LAST-MODIFIED:20250702T044526Z
UID:10005025-917913600-917913600@www.discoverhollywood.com
SUMMARY:EDX
DESCRIPTION:DesignHTMLWords: 0   Characters: 0
URL:https://www.discoverhollywood.com/event/edx/
LOCATION:Avalon Hollywood\, Select
END:VEVENT
BEGIN:VEVENT
DTSTART;TZID=Asia/Kolkata:19990201T000000
DTEND;TZID=Asia/Kolkata:19990201T000000
DTSTAMP:20260425T004822
CREATED:20250701T134210Z
LAST-MODIFIED:20250702T044540Z
UID:10005026-917827200-917827200@www.discoverhollywood.com
SUMMARY:EDX\, TEEMID\, Antonio Giacca\, Armour
DESCRIPTION:%3cbr%3eDesignHTMLWords: 0   Characters: 0
URL:https://www.discoverhollywood.com/event/edx-teemid-antonio-giacca-armour/
LOCATION:Avalon Hollywood\, Select
END:VEVENT
BEGIN:VEVENT
DTSTART;TZID=Asia/Kolkata:19981018T000000
DTEND;TZID=Asia/Kolkata:19981018T000000
DTSTAMP:20260425T004822
CREATED:20250702T045056Z
LAST-MODIFIED:20250702T045056Z
UID:10005132-908668800-908668800@www.discoverhollywood.com
SUMMARY:Elvis Birthday Bash
DESCRIPTION:%3cimg id%3d%22fullResImage%22 style%3d%22width%3a392px%3b height%3a508px%3b%22 src%3d%22http%3a//avalonhollywood.com/wp-content/uploads/2014/12/010815_elvis_80_3.jpg%22%3eDesignHTMLWords: 0   Characters: 0
URL:https://www.discoverhollywood.com/event/elvis-birthday-bash/
LOCATION:Avalon Hollywood\, Select
END:VEVENT
BEGIN:VEVENT
DTSTART;TZID=Asia/Kolkata:19980831T000000
DTEND;TZID=Asia/Kolkata:19980831T000000
DTSTAMP:20260425T004822
CREATED:20250702T050441Z
LAST-MODIFIED:20250702T050441Z
UID:10005180-904521600-904521600@www.discoverhollywood.com
SUMMARY:Endorphins Release Party
DESCRIPTION:DesignHTMLWords: 0   Characters: 0
URL:https://www.discoverhollywood.com/event/endorphins-release-party/
LOCATION:Avalon Hollywood\, Select
END:VEVENT
BEGIN:VEVENT
DTSTART;TZID=Asia/Kolkata:19980711T000000
DTEND;TZID=Asia/Kolkata:19980711T000000
DTSTAMP:20260425T004822
CREATED:20250702T051853Z
LAST-MODIFIED:20250702T051853Z
UID:10005231-900115200-900115200@www.discoverhollywood.com
SUMMARY:Erick Morillo: Extended Set
DESCRIPTION:%3cbr%3eDesignHTMLWords: 0   Characters: 0
URL:https://www.discoverhollywood.com/event/erick-morillo-extended-set/
LOCATION:Avalon Hollywood\, Select
END:VEVENT
BEGIN:VEVENT
DTSTART;TZID=Asia/Kolkata:19980113T000000
DTEND;TZID=Asia/Kolkata:19980113T000000
DTSTAMP:20260425T004822
CREATED:20250702T060018Z
LAST-MODIFIED:20250702T060018Z
UID:10005410-884649600-884649600@www.discoverhollywood.com
SUMMARY:Fates Warning
DESCRIPTION:DesignHTMLWords: 0   Characters: 0
URL:https://www.discoverhollywood.com/event/fates-warning/
LOCATION:Avalon Hollywood\, Select
END:VEVENT
BEGIN:VEVENT
DTSTART;TZID=Asia/Kolkata:19970401T000000
DTEND;TZID=Asia/Kolkata:19970401T000000
DTSTAMP:20260425T004822
CREATED:20250703T062217Z
LAST-MODIFIED:20250703T062217Z
UID:10005693-859852800-859852800@www.discoverhollywood.com
SUMMARY:Frank The Man The Music
DESCRIPTION:DesignHTMLWords: 0   Characters: 0
URL:https://www.discoverhollywood.com/event/frank-the-man-the-music/
LOCATION:Avalon Hollywood\, Select
END:VEVENT
BEGIN:VEVENT
DTSTART;TZID=Asia/Kolkata:19961025T000000
DTEND;TZID=Asia/Kolkata:19961025T000000
DTSTAMP:20260425T004822
CREATED:20250703T064826Z
LAST-MODIFIED:20250703T064826Z
UID:10005851-846201600-846201600@www.discoverhollywood.com
SUMMARY:Gabriel & Dresden
DESCRIPTION:%3cdiv id%3d%22event_image%22%3e\n	%3ca style%3d%22overflow%3ahidden%3b display%3ablock%3b position%3arelative%3b%22 href%3d%22http%3a//avalonhollywood.com/wp-content/uploads/2015/10/123115_avalon_lg.jpg%22 rel%3d%22lightbox%22%3e%3cspan class%3d%22image-overlay overlay-type-image%22%3e%3cspan class%3d%22image-overlay-inside%22%3e%3c/span%3e%3c/span%3e%3c/a%3e\n%3c/div%3e\n%3cdiv id%3d%22event_details%22%3e\n	SATURDAY 12/31/15%3cp%3e%3c/p%3e\n	%3ch2%3eAVALON presents%3c/h2%3e\n	%3ch1%3e\n		NEW YEARS EVE with\n		%3cbr%3e\n		Morgan Page – Exclusive 3 Hour Set%2c\n		%3cbr%3e\n		Gabriel %26amp%3b Dresden – Extended After Hours Set%2cDesignHTMLWords: 22   Characters: 132
URL:https://www.discoverhollywood.com/event/gabriel-dresden/
LOCATION:Avalon Hollywood\, Select
END:VEVENT
BEGIN:VEVENT
DTSTART;TZID=Asia/Kolkata:19960916T000000
DTEND;TZID=Asia/Kolkata:19960916T000000
DTSTAMP:20260425T004822
CREATED:20250703T064911Z
LAST-MODIFIED:20250703T064911Z
UID:10005890-842832000-842832000@www.discoverhollywood.com
SUMMARY:Game Day Tour: Milo & Otis
DESCRIPTION:%3cbr%3eDesignHTMLWords: 0   Characters: 0
URL:https://www.discoverhollywood.com/event/game-day-tour-milo-otis/
LOCATION:Avalon Hollywood\, Select
END:VEVENT
BEGIN:VEVENT
DTSTART;TZID=Asia/Kolkata:19960824T000000
DTEND;TZID=Asia/Kolkata:19960824T000000
DTSTAMP:20260425T004822
CREATED:20250703T065322Z
LAST-MODIFIED:20250703T065323Z
UID:10005913-840844800-840844800@www.discoverhollywood.com
SUMMARY:Garik Sukachev & “Brigada S”
DESCRIPTION:%3cbr%3eDesignHTMLWords: 0   Characters: 0
URL:https://www.discoverhollywood.com/event/garik-sukachev-brigada-s/
LOCATION:Avalon Hollywood\, Select
END:VEVENT
BEGIN:VEVENT
DTSTART;TZID=Asia/Kolkata:19960713T000000
DTEND;TZID=Asia/Kolkata:19960713T000000
DTSTAMP:20260425T004822
CREATED:20250703T065507Z
LAST-MODIFIED:20250703T065507Z
UID:10005955-837216000-837216000@www.discoverhollywood.com
SUMMARY:Generations from Exile Tribe
DESCRIPTION:DesignHTMLWords: 0   Characters: 0
URL:https://www.discoverhollywood.com/event/generations-from-exile-tribe/
LOCATION:Avalon Hollywood\, Select
END:VEVENT
BEGIN:VEVENT
DTSTART;TZID=Asia/Kolkata:19960531T000000
DTEND;TZID=Asia/Kolkata:19960531T000000
DTSTAMP:20260425T004822
CREATED:20250703T065601Z
LAST-MODIFIED:20250703T065601Z
UID:10005998-833500800-833500800@www.discoverhollywood.com
SUMMARY:Get Lucky for Lupus LA
DESCRIPTION:%3cbr%3eDesignHTMLWords: 0   Characters: 0
URL:https://www.discoverhollywood.com/event/get-lucky-for-lupus-la/
LOCATION:Avalon Hollywood\, Select
END:VEVENT
BEGIN:VEVENT
DTSTART;TZID=Asia/Kolkata:19951228T000000
DTEND;TZID=Asia/Kolkata:19951228T000000
DTSTAMP:20260425T004822
CREATED:20250703T084027Z
LAST-MODIFIED:20250703T084027Z
UID:10006153-820108800-820108800@www.discoverhollywood.com
SUMMARY:Golden Features\, Hoodboi\, Alizzz\, Ryan Shepherd
DESCRIPTION:%3cbr%3eDesignHTMLWords: 0   Characters: 0
URL:https://www.discoverhollywood.com/event/golden-features-hoodboi-alizzz-ryan-shepherd/
LOCATION:Avalon Hollywood\, Select
END:VEVENT
BEGIN:VEVENT
DTSTART;TZID=Asia/Kolkata:19950928T000000
DTEND;TZID=Asia/Kolkata:19950928T000000
DTSTAMP:20260425T004822
CREATED:20250703T084259Z
LAST-MODIFIED:20250703T084259Z
UID:10006244-812246400-812246400@www.discoverhollywood.com
SUMMARY:Gravity
DESCRIPTION:%3ch2%3eCONTROL%3c/h2%3e\n%3ch1%3e\n	Figure presents Gravity%2c\n	%3cbr%3e\n	Victor Niglio%2c\n	%3cbr%3e\n	Lumberjvck%2c\n	%3cbr%3e\n	Dirty Deeds%2c\n	%3cbr%3e\n	BabyQ%3c/h1%3eDesignHTMLWords: 10   Characters: 74
URL:https://www.discoverhollywood.com/event/gravity/
LOCATION:Avalon Hollywood\, Select
END:VEVENT
BEGIN:VEVENT
DTSTART;TZID=Asia/Kolkata:19950923T000000
DTEND;TZID=Asia/Kolkata:19950923T000000
DTSTAMP:20260425T004822
CREATED:20250703T084309Z
LAST-MODIFIED:20250703T084309Z
UID:10006249-811814400-811814400@www.discoverhollywood.com
SUMMARY:Gravity Studio - Escape Plan
DESCRIPTION:%3cbr%3eDesignHTMLWords: 0   Characters: 0
URL:https://www.discoverhollywood.com/event/gravity-studio-escape-plan/
LOCATION:Avalon Hollywood\, Select
END:VEVENT
BEGIN:VEVENT
DTSTART;TZID=Asia/Kolkata:19940420T000000
DTEND;TZID=Asia/Kolkata:19940420T000000
DTSTAMP:20260425T004822
CREATED:20250703T095446Z
LAST-MODIFIED:20250703T095446Z
UID:10006485-766800000-766800000@www.discoverhollywood.com
SUMMARY:Hollywood PAL Masquerade and Awards Gala
DESCRIPTION:%3ca href%3d%22https%3a//hollywoodpal.org/home/events/gala/%22%3ehttps%3a//hollywoodpal.org/home/events/gala/%3c/a%3eDesignHTMLWords: 1   Characters: 40
URL:https://www.discoverhollywood.com/event/hollywood-pal-masquerade-and-awards-gala/
LOCATION:Avalon Hollywood\, Select
END:VEVENT
BEGIN:VEVENT
DTSTART;TZID=Asia/Kolkata:19940303T000000
DTEND;TZID=Asia/Kolkata:19940303T000000
DTSTAMP:20260425T004822
CREATED:20250703T100041Z
LAST-MODIFIED:20250703T100041Z
UID:10006533-762652800-762652800@www.discoverhollywood.com
SUMMARY:Hook N Sling\, David Steven\, Atomic Mike
DESCRIPTION:DesignHTMLWords: 0   Characters: 0
URL:https://www.discoverhollywood.com/event/hook-n-sling-david-steven-atomic-mike/
LOCATION:Avalon Hollywood\, Select
END:VEVENT
BEGIN:VEVENT
DTSTART;TZID=Asia/Kolkata:19940208T000000
DTEND;TZID=Asia/Kolkata:19940208T000000
DTSTAMP:20260425T004822
CREATED:20250703T100253Z
LAST-MODIFIED:20250703T100253Z
UID:10006556-760665600-760665600@www.discoverhollywood.com
SUMMARY:Hospitality
DESCRIPTION:%3cbr%3eDesignHTMLWords: 0   Characters: 0
URL:https://www.discoverhollywood.com/event/hospitality/
LOCATION:Avalon Hollywood\, Select
END:VEVENT
BEGIN:VEVENT
DTSTART;TZID=Asia/Kolkata:19930802T000000
DTEND;TZID=Asia/Kolkata:19930802T000000
DTSTAMP:20260425T004822
CREATED:20250703T110005Z
LAST-MODIFIED:20250703T110005Z
UID:10006746-744249600-744249600@www.discoverhollywood.com
SUMMARY:Immortal
DESCRIPTION:DesignHTMLWords: 0   Characters: 0
URL:https://www.discoverhollywood.com/event/immortal/
LOCATION:Avalon Hollywood\, Select
END:VEVENT
BEGIN:VEVENT
DTSTART;TZID=Asia/Kolkata:19930615T000000
DTEND;TZID=Asia/Kolkata:19930615T000000
DTSTAMP:20260425T004822
CREATED:20250703T110134Z
LAST-MODIFIED:20250703T110134Z
UID:10006794-740102400-740102400@www.discoverhollywood.com
SUMMARY:In This Together Festival
DESCRIPTION:%3cbr%3eDesignHTMLWords: 0   Characters: 0
URL:https://www.discoverhollywood.com/event/in-this-together-festival/
LOCATION:Avalon Hollywood\, Select
END:VEVENT
BEGIN:VEVENT
DTSTART;TZID=Asia/Kolkata:19930508T000000
DTEND;TZID=Asia/Kolkata:19930508T000000
DTSTAMP:20260425T004822
CREATED:20250703T110224Z
LAST-MODIFIED:20250703T110224Z
UID:10006832-736819200-736819200@www.discoverhollywood.com
SUMMARY:Infected Mushroom
DESCRIPTION:DesignHTMLWords: 0   Characters: 0
URL:https://www.discoverhollywood.com/event/infected-mushroom/
LOCATION:Avalon Hollywood\, Select
END:VEVENT
BEGIN:VEVENT
DTSTART;TZID=Asia/Kolkata:19930311T000000
DTEND;TZID=Asia/Kolkata:19930311T000000
DTSTAMP:20260425T004822
CREATED:20250703T110941Z
LAST-MODIFIED:20250703T110941Z
UID:10006890-731808000-731808000@www.discoverhollywood.com
SUMMARY:Invisibl Skratch Piklz\, The Beat Junkies\, Peanut Butter Wolf
DESCRIPTION:DesignHTMLWords: 0   Characters: 0
URL:https://www.discoverhollywood.com/event/invisibl-skratch-piklz-the-beat-junkies-peanut-butter-wolf/
LOCATION:Avalon Hollywood\, Select
END:VEVENT
BEGIN:VEVENT
DTSTART;TZID=Asia/Kolkata:19911003T000000
DTEND;TZID=Asia/Kolkata:19911003T000000
DTSTAMP:20260425T004822
CREATED:20250703T120643Z
LAST-MODIFIED:20250703T120643Z
UID:10007415-686448000-686448000@www.discoverhollywood.com
SUMMARY:John 00 Fleming
DESCRIPTION:%3cbr%3eDesignHTMLWords: 0   Characters: 0
URL:https://www.discoverhollywood.com/event/john-00-fleming/
LOCATION:Avalon Hollywood\, Select
END:VEVENT
BEGIN:VEVENT
DTSTART;TZID=Asia/Kolkata:19910505T000000
DTEND;TZID=Asia/Kolkata:19910505T000000
DTSTAMP:20260425T004822
CREATED:20250703T121539Z
LAST-MODIFIED:20250703T121539Z
UID:10007566-673401600-673401600@www.discoverhollywood.com
SUMMARY:Josh Pan\, Team EZY\, X&G
DESCRIPTION:DesignHTMLWords: 0   Characters: 0
URL:https://www.discoverhollywood.com/event/josh-pan-team-ezy-xg/
LOCATION:Avalon Hollywood\, Select
END:VEVENT
BEGIN:VEVENT
DTSTART;TZID=Asia/Kolkata:19910407T000000
DTEND;TZID=Asia/Kolkata:19910407T000000
DTSTAMP:20260425T004822
CREATED:20250703T121719Z
LAST-MODIFIED:20250703T121719Z
UID:10007594-670982400-670982400@www.discoverhollywood.com
SUMMARY:Joyryde + Rickyxsan\,
DESCRIPTION:%3cbr%3eDesignHTMLWords: 0   Characters: 0
URL:https://www.discoverhollywood.com/event/joyryde-rickyxsan/
LOCATION:Avalon Hollywood\, Select
END:VEVENT
BEGIN:VEVENT
DTSTART;TZID=Asia/Kolkata:19900201T000000
DTEND;TZID=Asia/Kolkata:19900201T000000
DTSTAMP:20260425T004822
CREATED:20250709T062625Z
LAST-MODIFIED:20250709T062625Z
UID:10008024-633830400-633830400@www.discoverhollywood.com
SUMMARY:KRNE\, GRAVES\, Fatherdude Live
DESCRIPTION:DesignHTMLWords: 0   Characters: 0
URL:https://www.discoverhollywood.com/event/krne-graves-fatherdude-live/
LOCATION:Avalon Hollywood\, Select
END:VEVENT
BEGIN:VEVENT
DTSTART;TZID=Asia/Kolkata:19900117T000000
DTEND;TZID=Asia/Kolkata:19900117T000000
DTSTAMP:20260425T004822
CREATED:20250709T062856Z
LAST-MODIFIED:20250709T062856Z
UID:10008039-632534400-632534400@www.discoverhollywood.com
SUMMARY:Kryder\, Randy Seidman
DESCRIPTION:DesignHTMLWords: 0   Characters: 0
URL:https://www.discoverhollywood.com/event/kryder-randy-seidman/
LOCATION:Avalon Hollywood\, Select
END:VEVENT
BEGIN:VEVENT
DTSTART;TZID=Asia/Kolkata:19900103T000000
DTEND;TZID=Asia/Kolkata:19900103T000000
DTSTAMP:20260425T004822
CREATED:20250709T063129Z
LAST-MODIFIED:20250709T063129Z
UID:10008053-631324800-631324800@www.discoverhollywood.com
SUMMARY:Kyau & Albert
DESCRIPTION:DesignHTMLWords: 0   Characters: 0
URL:https://www.discoverhollywood.com/event/kyau-albert/
LOCATION:Avalon Hollywood\, Select
END:VEVENT
BEGIN:VEVENT
DTSTART;TZID=Asia/Kolkata:19890429T000000
DTEND;TZID=Asia/Kolkata:19890429T000000
DTSTAMP:20260425T004822
CREATED:20250709T123302Z
LAST-MODIFIED:20250709T123302Z
UID:10008717-609811200-609811200@www.discoverhollywood.com
SUMMARY:Magic & Wine
DESCRIPTION:%3cbr%3eDesignHTMLWords: 0   Characters: 0
URL:https://www.discoverhollywood.com/event/magic-wine/
LOCATION:Avalon Hollywood\, Select
END:VEVENT
END:VCALENDAR