BEGIN:VCALENDAR
VERSION:2.0
PRODID:-//Discover Hollywood Magazine - ECPv6.15.17//NONSGML v1.0//EN
CALSCALE:GREGORIAN
METHOD:PUBLISH
X-ORIGINAL-URL:https://www.discoverhollywood.com
X-WR-CALDESC:Events for Discover Hollywood Magazine
REFRESH-INTERVAL;VALUE=DURATION:PT1H
X-Robots-Tag:noindex
X-PUBLISHED-TTL:PT1H
BEGIN:VTIMEZONE
TZID:Asia/Kolkata
BEGIN:STANDARD
TZOFFSETFROM:+0530
TZOFFSETTO:+0530
TZNAME:IST
DTSTART:19940101T000000
END:STANDARD
END:VTIMEZONE
BEGIN:VEVENT
DTSTART;TZID=Asia/Kolkata:20221229T000000
DTEND;TZID=Asia/Kolkata:20221229T000000
DTSTAMP:20260421T025423
CREATED:20250630T090210Z
LAST-MODIFIED:20250630T090210Z
UID:10001147-1672272000-1672272000@www.discoverhollywood.com
SUMMARY:2015 Musa Music Festival
DESCRIPTION:%3cbr%3eDesignHTMLWords: 0   Characters: 0
URL:https://www.discoverhollywood.com/event/2015-musa-music-festival-2/
LOCATION:Barnsdall Gallery Theatre\, 4800 Hollywood Blvd\, Los Angeles\, California
END:VEVENT
BEGIN:VEVENT
DTSTART;TZID=Asia/Kolkata:20220816T000000
DTEND;TZID=Asia/Kolkata:20220816T000000
DTSTAMP:20260421T025423
CREATED:20250630T090425Z
LAST-MODIFIED:20250630T090425Z
UID:10001192-1660608000-1660608000@www.discoverhollywood.com
SUMMARY:25th Annual LA Women's Theatre Festival
DESCRIPTION:The 25TH Annual %28Silver Anniversary%29 Los Angeles Women’s Theatre Festival %28LAWTF%29 has a roster of distinguished artists who will co-host four days and five programs at Barnsdall Gallery Theatre.DesignHTMLWords: 29   Characters: 188
URL:https://www.discoverhollywood.com/event/25th-annual-la-womens-theatre-festival-2/
LOCATION:Barnsdall Gallery Theatre\, 4800 Hollywood Blvd\, Los Angeles\, California
END:VEVENT
BEGIN:VEVENT
DTSTART;TZID=Asia/Kolkata:20211219T000000
DTEND;TZID=Asia/Kolkata:20211219T000000
DTSTAMP:20260421T025423
CREATED:20250630T092220Z
LAST-MODIFIED:20250630T092220Z
UID:10001272-1639872000-1639872000@www.discoverhollywood.com
SUMMARY:6th Annual Benefit Concert
DESCRIPTION:%3ctable border%3d%220%22%3e\n	%3ctr%3e\n		%3ctd%3e\n			Category%3a Musical\n			%3cbr%3e\n			The Bosnia Foundation\n			%3cbr%3e\n		%3c/td%3e\n	%3c/tr%3e\n	%3ctr%3e\n		%3ctd%3eAdmission%3a %2450.00%2c VIP %24100.00%3c/td%3e\n	%3c/tr%3e\n	%3ctr%3e\n		%3ctd%3eContact Person%3a %3ca href%3d%22mailto%3aajlana@bosniafoundation.org%3fsubject%3dBGTTix.com – 6th Annual benefit Concert%22%3eAjlana%3c/a%3e%3c/td%3e\n	%3c/tr%3e\n	%3ctr%3e\n		%3ctd%3eContact Phone%3a 714-882-3568%3c/td%3e\n	%3c/tr%3e\n%3c/table%3eDesignHTMLWords: 15   Characters: 113
URL:https://www.discoverhollywood.com/event/6th-annual-benefit-concert-2/
LOCATION:Barnsdall Gallery Theatre\, 4800 Hollywood Blvd\, Los Angeles\, California
END:VEVENT
BEGIN:VEVENT
DTSTART;TZID=Asia/Kolkata:20210417T000000
DTEND;TZID=Asia/Kolkata:20210417T000000
DTSTAMP:20260421T025423
CREATED:20250630T094837Z
LAST-MODIFIED:20250630T094837Z
UID:10001354-1618617600-1618617600@www.discoverhollywood.com
SUMMARY:A Good Man is Hard to Keep
DESCRIPTION:%3ctable border%3d%220%22%3e\n	%3ctr%3e\n		%3ctd%3eCategory%3a Play%3c/td%3e\n	%3c/tr%3e\n	%3ctr%3e\n		%3ctd%3eAdmission%3a %2415 – %2425.00%3c/td%3e\n	%3c/tr%3e\n	%3ctr%3e\n		%3ctd%3eContact Person%3a %3ca href%3d%22mailto%3akiesha.bell@gmail.com%3fsubject%3dBGTTix.com – A Good Man is hard to Keep%21%22%3eAtiyyah Diaab%3c/a%3e%3c/td%3e\n	%3c/tr%3e\n	%3ctr%3e\n		%3ctd%3eContact Phone%3a 954-376-1446%3c/td%3e\n	%3c/tr%3e\n%3c/table%3eDesignHTMLWords: 12   Characters: 88
URL:https://www.discoverhollywood.com/event/a-good-man-is-hard-to-keep-2/
LOCATION:Barnsdall Gallery Theatre\, 4800 Hollywood Blvd\, Los Angeles\, California
END:VEVENT
BEGIN:VEVENT
DTSTART;TZID=Asia/Kolkata:20200916T000000
DTEND;TZID=Asia/Kolkata:20200916T000000
DTSTAMP:20260421T025423
CREATED:20250630T095721Z
LAST-MODIFIED:20250630T095721Z
UID:10001425-1600214400-1600214400@www.discoverhollywood.com
SUMMARY:A Splinter
DESCRIPTION:DesignHTMLWords: 0   Characters: 0
URL:https://www.discoverhollywood.com/event/a-splinter-2/
LOCATION:Barnsdall Gallery Theatre\, 4800 Hollywood Blvd\, Los Angeles\, California
END:VEVENT
BEGIN:VEVENT
DTSTART;TZID=Asia/Kolkata:20200811T000000
DTEND;TZID=Asia/Kolkata:20200811T000000
DTSTAMP:20260421T025423
CREATED:20250630T095751Z
LAST-MODIFIED:20250630T095751Z
UID:10001437-1597104000-1597104000@www.discoverhollywood.com
SUMMARY:A Traditional Kathak Solo\, Featuring Rina Mehta
DESCRIPTION:%3cbr%3eDesignHTMLWords: 0   Characters: 0
URL:https://www.discoverhollywood.com/event/a-traditional-kathak-solo-featuring-rina-mehta-2/
LOCATION:Barnsdall Gallery Theatre\, 4800 Hollywood Blvd\, Los Angeles\, California
END:VEVENT
BEGIN:VEVENT
DTSTART;TZID=Asia/Kolkata:20180103T000000
DTEND;TZID=Asia/Kolkata:20180103T000000
DTSTAMP:20260421T025423
CREATED:20250630T103955Z
LAST-MODIFIED:20250630T103955Z
UID:10001749-1514937600-1514937600@www.discoverhollywood.com
SUMMARY:All That Drag
DESCRIPTION:DesignHTMLWords: 0   Characters: 0
URL:https://www.discoverhollywood.com/event/all-that-drag-2/
LOCATION:Barnsdall Gallery Theatre\, 4800 Hollywood Blvd\, Los Angeles\, California
END:VEVENT
BEGIN:VEVENT
DTSTART;TZID=Asia/Kolkata:20170429T000000
DTEND;TZID=Asia/Kolkata:20170429T000000
DTSTAMP:20260421T025423
CREATED:20250630T105312Z
LAST-MODIFIED:20250630T105312Z
UID:10001832-1493424000-1493424000@www.discoverhollywood.com
SUMMARY:American Music Festival
DESCRIPTION:%3cbr%3eDesignHTMLWords: 0   Characters: 0
URL:https://www.discoverhollywood.com/event/american-music-festival-2/
LOCATION:Barnsdall Gallery Theatre\, 4800 Hollywood Blvd\, Los Angeles\, California
END:VEVENT
BEGIN:VEVENT
DTSTART;TZID=Asia/Kolkata:20150726T000000
DTEND;TZID=Asia/Kolkata:20150726T000000
DTSTAMP:20260421T025423
CREATED:20250630T113551Z
LAST-MODIFIED:20250630T113551Z
UID:10002063-1437868800-1437868800@www.discoverhollywood.com
SUMMARY:Angelo Tsarouchas "Appetite For Discussion"
DESCRIPTION:An Evening of Epic Comedy Featuring Angelo Tsarouchas.%26nbsp%3bDesignHTMLWords: 8   Characters: 53
URL:https://www.discoverhollywood.com/event/angelo-tsarouchas-appetite-for-discussion/
LOCATION:Barnsdall Gallery Theatre\, 4800 Hollywood Blvd\, Los Angeles\, California
END:VEVENT
BEGIN:VEVENT
DTSTART;TZID=Asia/Kolkata:20150724T000000
DTEND;TZID=Asia/Kolkata:20150724T000000
DTSTAMP:20260421T025423
CREATED:20250630T113551Z
LAST-MODIFIED:20250630T113551Z
UID:10002064-1437696000-1437696000@www.discoverhollywood.com
SUMMARY:Angelo Tsarouchas: Appetite For Discussion
DESCRIPTION:An evening of epic comedy featuring Angelo Tsarouchas.\n%3cbr%3eDesignHTMLWords: 8   Characters: 53
URL:https://www.discoverhollywood.com/event/angelo-tsarouchas-appetite-for-discussion-2/
LOCATION:Barnsdall Gallery Theatre\, 4800 Hollywood Blvd\, Los Angeles\, California
END:VEVENT
BEGIN:VEVENT
DTSTART;TZID=Asia/Kolkata:20140929T000000
DTEND;TZID=Asia/Kolkata:20140929T000000
DTSTAMP:20260421T025423
CREATED:20250630T114320Z
LAST-MODIFIED:20250630T114320Z
UID:10002213-1411948800-1411948800@www.discoverhollywood.com
SUMMARY:Armenian Festival Nor Serounta Cultural Festival
DESCRIPTION:%3cbr%3eDesignHTMLWords: 0   Characters: 0
URL:https://www.discoverhollywood.com/event/armenian-festival-nor-serounta-cultural-festival/
LOCATION:Barnsdall Gallery Theatre\, 4800 Hollywood Blvd\, Los Angeles\, California
END:VEVENT
BEGIN:VEVENT
DTSTART;TZID=Asia/Kolkata:20140826T000000
DTEND;TZID=Asia/Kolkata:20140826T000000
DTSTAMP:20260421T025423
CREATED:20250630T114420Z
LAST-MODIFIED:20250630T114420Z
UID:10002230-1409011200-1409011200@www.discoverhollywood.com
SUMMARY:Art Auction
DESCRIPTION:%3cbr%3eDesignHTMLWords: 0   Characters: 0
URL:https://www.discoverhollywood.com/event/art-auction/
LOCATION:Barnsdall Gallery Theatre\, 4800 Hollywood Blvd\, Los Angeles\, California
END:VEVENT
BEGIN:VEVENT
DTSTART;TZID=Asia/Kolkata:20130117T000000
DTEND;TZID=Asia/Kolkata:20130117T000000
DTSTAMP:20260421T025423
CREATED:20250630T120539Z
LAST-MODIFIED:20250630T120539Z
UID:10002523-1358380800-1358380800@www.discoverhollywood.com
SUMMARY:Barnsdall Gallery Theatre Musical Theatre
DESCRIPTION:DesignHTMLWords: 0   Characters: 0
URL:https://www.discoverhollywood.com/event/barnsdall-gallery-theatre-musical-theatre/
LOCATION:Barnsdall Gallery Theatre\, 4800 Hollywood Blvd\, Los Angeles\, California
END:VEVENT
BEGIN:VEVENT
DTSTART;TZID=Asia/Kolkata:20120428T000000
DTEND;TZID=Asia/Kolkata:20120428T000000
DTSTAMP:20260421T025423
CREATED:20250630T122651Z
LAST-MODIFIED:20250630T122651Z
UID:10002655-1335571200-1335571200@www.discoverhollywood.com
SUMMARY:Being Rapanui
DESCRIPTION:DesignHTMLWords: 0   Characters: 0
URL:https://www.discoverhollywood.com/event/being-rapanui/
LOCATION:Barnsdall Gallery Theatre\, 4800 Hollywood Blvd\, Los Angeles\, California
END:VEVENT
BEGIN:VEVENT
DTSTART;TZID=Asia/Kolkata:20081111T000000
DTEND;TZID=Asia/Kolkata:20081111T000000
DTSTAMP:20260421T025423
CREATED:20250701T063128Z
LAST-MODIFIED:20250701T063128Z
UID:10003283-1226361600-1226361600@www.discoverhollywood.com
SUMMARY:Brown Christmas
DESCRIPTION:DesignHTMLWords: 0   Characters: 0
URL:https://www.discoverhollywood.com/event/brown-christmas/
LOCATION:Barnsdall Gallery Theatre\, 4800 Hollywood Blvd\, Los Angeles\, California
END:VEVENT
BEGIN:VEVENT
DTSTART;TZID=Asia/Kolkata:20061230T000000
DTEND;TZID=Asia/Kolkata:20061230T000000
DTSTAMP:20260421T025423
CREATED:20250701T080413Z
LAST-MODIFIED:20250701T080413Z
UID:10003529-1167436800-1167436800@www.discoverhollywood.com
SUMMARY:Celebrating the Dance and Music Traditions of North India
DESCRIPTION:Part of the World Festival of Sacred MusicDesignHTMLWords: 8   Characters: 42
URL:https://www.discoverhollywood.com/event/celebrating-the-dance-and-music-traditions-of-north-india/
LOCATION:Barnsdall Gallery Theatre\, 4800 Hollywood Blvd\, Los Angeles\, California
END:VEVENT
BEGIN:VEVENT
DTSTART;TZID=Asia/Kolkata:20050413T000000
DTEND;TZID=Asia/Kolkata:20050413T000000
DTSTAMP:20260421T025423
CREATED:20250701T092930Z
LAST-MODIFIED:20250701T092930Z
UID:10003842-1113350400-1113350400@www.discoverhollywood.com
SUMMARY:Civil Wrongs to Civil Rights  - Miles Regis
DESCRIPTION:July to September 2012\n%3cbr%3e\n%3cbr%3e\nOpening Reception%3a Saturday July 21st%2c 6-8pm\n%3cbr%3e\n%3cbr%3e\nBarnsdall.org%26nbsp%3b MilesRegis.comDesignHTMLWords: 12   Characters: 94
URL:https://www.discoverhollywood.com/event/civil-wrongs-to-civil-rights-miles-regis/
LOCATION:Barnsdall Gallery Theatre\, 4800 Hollywood Blvd\, Los Angeles\, California
END:VEVENT
BEGIN:VEVENT
DTSTART;TZID=Asia/Kolkata:20030627T000000
DTEND;TZID=Asia/Kolkata:20030627T000000
DTSTAMP:20260421T025423
CREATED:20250701T110803Z
LAST-MODIFIED:20250701T110803Z
UID:10004170-1056672000-1056672000@www.discoverhollywood.com
SUMMARY:Cumbre Flamenca
DESCRIPTION:This is Belén Maya%27s only California Show Appearance%21 Additionally%2c Barnsdall welcomes Domingo Ortega back to L.A. for this special show. Belén Maya is considered one of the most important contemporary flamenco artists in the world%2c Belen Maya has pushed the limits of this art form through her constant quest for innovation. Belen is not only known for her contemporary%2c sophisticated and elegant way of moving but also regarded as an innovator. Her visionary approach to Flamenco was perceived as daring.DesignHTMLWords: 80   Characters: 495
URL:https://www.discoverhollywood.com/event/cumbre-flamenca/
LOCATION:Barnsdall Gallery Theatre\, 4800 Hollywood Blvd\, Los Angeles\, California
END:VEVENT
BEGIN:VEVENT
DTSTART;TZID=Asia/Kolkata:20020930T000000
DTEND;TZID=Asia/Kolkata:20020930T000000
DTSTAMP:20260421T025423
CREATED:20250701T113705Z
LAST-MODIFIED:20250701T113705Z
UID:10004305-1033344000-1033344000@www.discoverhollywood.com
SUMMARY:Daroo Korean Cultural Center Competition
DESCRIPTION:OpenDesignHTMLWords: 1   Characters: 4
URL:https://www.discoverhollywood.com/event/daroo-korean-cultural-center-competition/
LOCATION:Barnsdall Gallery Theatre\, 4800 Hollywood Blvd\, Los Angeles\, California
END:VEVENT
BEGIN:VEVENT
DTSTART;TZID=Asia/Kolkata:20011110T000000
DTEND;TZID=Asia/Kolkata:20011110T000000
DTSTAMP:20260421T025423
CREATED:20250701T120657Z
LAST-MODIFIED:20250701T120658Z
UID:10004467-1005350400-1005350400@www.discoverhollywood.com
SUMMARY:Debate on Religion and Morality
DESCRIPTION:DesignHTMLWords: 0   Characters: 0
URL:https://www.discoverhollywood.com/event/debate-on-religion-and-morality/
LOCATION:Barnsdall Gallery Theatre\, 4800 Hollywood Blvd\, Los Angeles\, California
END:VEVENT
BEGIN:VEVENT
DTSTART;TZID=Asia/Kolkata:20010108T000000
DTEND;TZID=Asia/Kolkata:20010108T000000
DTSTAMP:20260421T025423
CREATED:20250701T122035Z
LAST-MODIFIED:20250701T122035Z
UID:10004610-978912000-978912000@www.discoverhollywood.com
SUMMARY:Digital Media Artists Los Angeles
DESCRIPTION:%3cbr%3eDesignHTMLWords: 0   Characters: 0
URL:https://www.discoverhollywood.com/event/digital-media-artists-los-angeles/
LOCATION:Barnsdall Gallery Theatre\, 4800 Hollywood Blvd\, Los Angeles\, California
END:VEVENT
BEGIN:VEVENT
DTSTART;TZID=Asia/Kolkata:20000413T000000
DTEND;TZID=Asia/Kolkata:20000413T000000
DTSTAMP:20260421T025423
CREATED:20250701T125716Z
LAST-MODIFIED:20250701T125716Z
UID:10004745-955584000-955584000@www.discoverhollywood.com
SUMMARY:Don't Help Me I'm Dying
DESCRIPTION:Tia Morris\n%3cbr%3eDesignHTMLWords: 2   Characters: 10
URL:https://www.discoverhollywood.com/event/dont-help-me-im-dying/
LOCATION:Barnsdall Gallery Theatre\, 4800 Hollywood Blvd\, Los Angeles\, California
END:VEVENT
BEGIN:VEVENT
DTSTART;TZID=Asia/Kolkata:19971122T000000
DTEND;TZID=Asia/Kolkata:19971122T000000
DTSTAMP:20260421T025423
CREATED:20250702T060207Z
LAST-MODIFIED:20250702T060207Z
UID:10005462-880156800-880156800@www.discoverhollywood.com
SUMMARY:Festival of New AmericanAmerican Music - Rocket Science
DESCRIPTION:DesignHTMLWords: 0   Characters: 0
URL:https://www.discoverhollywood.com/event/festival-of-new-americanamerican-music-rocket-science/
LOCATION:Barnsdall Gallery Theatre\, 4800 Hollywood Blvd\, Los Angeles\, California
END:VEVENT
BEGIN:VEVENT
DTSTART;TZID=Asia/Kolkata:19971007T000000
DTEND;TZID=Asia/Kolkata:19971007T000000
DTSTAMP:20260421T025423
CREATED:20250703T061418Z
LAST-MODIFIED:20250703T061418Z
UID:10005508-876182400-876182400@www.discoverhollywood.com
SUMMARY:Film Screening
DESCRIPTION:DesignHTMLWords: 0   Characters: 0
URL:https://www.discoverhollywood.com/event/film-screening/
LOCATION:Barnsdall Gallery Theatre\, 4800 Hollywood Blvd\, Los Angeles\, California
END:VEVENT
BEGIN:VEVENT
DTSTART;TZID=Asia/Kolkata:19970910T000000
DTEND;TZID=Asia/Kolkata:19970910T000000
DTSTAMP:20260421T025423
CREATED:20250703T061523Z
LAST-MODIFIED:20250703T061523Z
UID:10005535-873849600-873849600@www.discoverhollywood.com
SUMMARY:Firesign theatre
DESCRIPTION:DesignHTMLWords: 0   Characters: 0
URL:https://www.discoverhollywood.com/event/firesign-theatre/
LOCATION:Barnsdall Gallery Theatre\, 4800 Hollywood Blvd\, Los Angeles\, California
END:VEVENT
BEGIN:VEVENT
DTSTART;TZID=Asia/Kolkata:19970626T000000
DTEND;TZID=Asia/Kolkata:19970626T000000
DTSTAMP:20260421T025423
CREATED:20250703T061925Z
LAST-MODIFIED:20250703T061925Z
UID:10005607-867283200-867283200@www.discoverhollywood.com
SUMMARY:For Our Boys
DESCRIPTION:Africa in America%3a Music%2c Dance and CultureDesignHTMLWords: 7   Characters: 41
URL:https://www.discoverhollywood.com/event/for-our-boys/
LOCATION:Barnsdall Gallery Theatre\, 4800 Hollywood Blvd\, Los Angeles\, California
END:VEVENT
BEGIN:VEVENT
DTSTART;TZID=Asia/Kolkata:19960731T000000
DTEND;TZID=Asia/Kolkata:19960731T000000
DTSTAMP:20260421T025423
CREATED:20250703T065410Z
LAST-MODIFIED:20250703T065410Z
UID:10005937-838771200-838771200@www.discoverhollywood.com
SUMMARY:Gay Freedom Band
DESCRIPTION:DesignHTMLWords: 0   Characters: 0
URL:https://www.discoverhollywood.com/event/gay-freedom-band/
LOCATION:Barnsdall Gallery Theatre\, 4800 Hollywood Blvd\, Los Angeles\, California
END:VEVENT
BEGIN:VEVENT
DTSTART;TZID=Asia/Kolkata:19960103T000000
DTEND;TZID=Asia/Kolkata:19960103T000000
DTSTAMP:20260421T025423
CREATED:20250703T083929Z
LAST-MODIFIED:20250703T083929Z
UID:10006147-820627200-820627200@www.discoverhollywood.com
SUMMARY:Going Hollywood
DESCRIPTION:%3cp%3eA Festival Staged Reading%3c/p%3e\n%3cp%3eA jolly%2c hilarious and very musical version of the brilliant Kaufman and Hart comedy%2c ONCE IN A LIFETIME.%3c/p%3e\n%3cp%3eTickets may be reserved by emailing%26nbsp%3b%3ca href%3d%22mailto%3ainfo@lafestival.org%22 target%3d%22_blank%22%3einfo@lafestival.org%3c/a%3e%3c/p%3eDesignHTMLWords: 29   Characters: 185
URL:https://www.discoverhollywood.com/event/going-hollywood/
LOCATION:Barnsdall Gallery Theatre\, 4800 Hollywood Blvd\, Los Angeles\, California
END:VEVENT
BEGIN:VEVENT
DTSTART;TZID=Asia/Kolkata:19950916T000000
DTEND;TZID=Asia/Kolkata:19950916T000000
DTSTAMP:20260421T025423
CREATED:20250703T084317Z
LAST-MODIFIED:20250703T084317Z
UID:10006256-811209600-811209600@www.discoverhollywood.com
SUMMARY:Grease Sing-A-Long
DESCRIPTION:DesignHTMLWords: 0   Characters: 0
URL:https://www.discoverhollywood.com/event/grease-sing-a-long-4/
LOCATION:Barnsdall Gallery Theatre\, 4800 Hollywood Blvd\, Los Angeles\, California
END:VEVENT
BEGIN:VEVENT
DTSTART;TZID=Asia/Kolkata:19950510T000000
DTEND;TZID=Asia/Kolkata:19950510T000000
DTSTAMP:20260421T025423
CREATED:20250703T084631Z
LAST-MODIFIED:20250703T084631Z
UID:10006385-800064000-800064000@www.discoverhollywood.com
SUMMARY:Gym Crew Challange
DESCRIPTION:%3ctable border%3d%220%22%3e\n	%3ctr%3e\n		%3ctd%3eCategory%3a Dance%3c/td%3e\n	%3c/tr%3e\n	%3ctr%3e\n		%3ctd%3eAdmission%3a %2425.00%3c/td%3e\n	%3c/tr%3e\n	%3ctr%3e\n		%3ctd%3eContact Person%3a %3ca href%3d%22mailto%3agymcrewchallenge@gmail.com%3fsubject%3dBGTTix.com – Gym Crew Challenge%22%3eCaroline Magbolos%3c/a%3e%3c/td%3e\n	%3c/tr%3e\n	%3ctr%3e\n		%3ctd%3e%3chr%3e%3c/td%3e\n	%3c/tr%3e\n%3c/table%3eDesignHTMLWords: 8   Characters: 63
URL:https://www.discoverhollywood.com/event/gym-crew-challange/
LOCATION:Barnsdall Gallery Theatre\, 4800 Hollywood Blvd\, Los Angeles\, California
END:VEVENT
END:VCALENDAR