BEGIN:VCALENDAR
VERSION:2.0
PRODID:-//Discover Hollywood Magazine - ECPv6.15.20//NONSGML v1.0//EN
CALSCALE:GREGORIAN
METHOD:PUBLISH
X-WR-CALNAME:Discover Hollywood Magazine
X-ORIGINAL-URL:https://www.discoverhollywood.com
X-WR-CALDESC:Events for Discover Hollywood Magazine
REFRESH-INTERVAL;VALUE=DURATION:PT1H
X-Robots-Tag:noindex
X-PUBLISHED-TTL:PT1H
BEGIN:VTIMEZONE
TZID:Asia/Kolkata
BEGIN:STANDARD
TZOFFSETFROM:+0530
TZOFFSETTO:+0530
TZNAME:IST
DTSTART:19690101T000000
END:STANDARD
END:VTIMEZONE
BEGIN:VEVENT
DTSTART;TZID=Asia/Kolkata:19900905T000000
DTEND;TZID=Asia/Kolkata:19900905T000000
DTSTAMP:20260423T055138
CREATED:20250709T091448Z
LAST-MODIFIED:20250709T091448Z
UID:10008468-652492800-652492800@www.discoverhollywood.com
SUMMARY:Lila Winterfest
DESCRIPTION:DesignHTMLWords: 0   Characters: 0
URL:https://www.discoverhollywood.com/event/lila-winterfest/
LOCATION:Barnsdall Gallery Theatre\, 4800 Hollywood Blvd\, Los Angeles\, California
END:VEVENT
BEGIN:VEVENT
DTSTART;TZID=Asia/Kolkata:19900227T000000
DTEND;TZID=Asia/Kolkata:19900227T000000
DTSTAMP:20260423T055138
CREATED:20250709T062018Z
LAST-MODIFIED:20250709T062018Z
UID:10007998-636076800-636076800@www.discoverhollywood.com
SUMMARY:Korean Classical Dance Concert
DESCRIPTION:%3cbr%3eDesignHTMLWords: 0   Characters: 0
URL:https://www.discoverhollywood.com/event/korean-classical-dance-concert/
LOCATION:Barnsdall Gallery Theatre\, 4800 Hollywood Blvd\, Los Angeles\, California
END:VEVENT
BEGIN:VEVENT
DTSTART;TZID=Asia/Kolkata:19900226T000000
DTEND;TZID=Asia/Kolkata:19900226T000000
DTSTAMP:20260423T055138
CREATED:20250709T062019Z
LAST-MODIFIED:20250709T062019Z
UID:10007999-635990400-635990400@www.discoverhollywood.com
SUMMARY:Korean Dance
DESCRIPTION:DesignHTMLWords: 0   Characters: 0
URL:https://www.discoverhollywood.com/event/korean-dance/
LOCATION:Barnsdall Gallery Theatre\, 4800 Hollywood Blvd\, Los Angeles\, California
END:VEVENT
BEGIN:VEVENT
DTSTART;TZID=Asia/Kolkata:19900223T000000
DTEND;TZID=Asia/Kolkata:19900223T000000
DTSTAMP:20260423T055138
CREATED:20250709T062019Z
LAST-MODIFIED:20250709T062019Z
UID:10008002-635731200-635731200@www.discoverhollywood.com
SUMMARY:Korean Traditional Music and Art Competition
DESCRIPTION:Free event.\n%3cbr%3eDesignHTMLWords: 2   Characters: 10
URL:https://www.discoverhollywood.com/event/korean-traditional-music-and-art-competition/
LOCATION:Barnsdall Gallery Theatre\, 4800 Hollywood Blvd\, Los Angeles\, California
END:VEVENT
BEGIN:VEVENT
DTSTART;TZID=Asia/Kolkata:19881229T000000
DTEND;TZID=Asia/Kolkata:19881229T000000
DTSTAMP:20260423T055138
CREATED:20250709T123827Z
LAST-MODIFIED:20250709T123827Z
UID:10008823-599356800-599356800@www.discoverhollywood.com
SUMMARY:Maria Bermudez and Friends
DESCRIPTION:DesignHTMLWords: 0   Characters: 0
URL:https://www.discoverhollywood.com/event/maria-bermudez-and-friends/
LOCATION:Barnsdall Gallery Theatre\, 4800 Hollywood Blvd\, Los Angeles\, California
END:VEVENT
BEGIN:VEVENT
DTSTART;TZID=Asia/Kolkata:19880229T000000
DTEND;TZID=Asia/Kolkata:19880229T000000
DTSTAMP:20260423T055139
CREATED:20250710T095355Z
LAST-MODIFIED:20250710T095355Z
UID:10009127-573091200-573091200@www.discoverhollywood.com
SUMMARY:Mesakke Bangsaku World Tour
DESCRIPTION:%3ctable border%3d%220%22%3e\n	%3ctr%3e\n		%3ctd%3eCategory%3a Comedy%3c/td%3e\n	%3c/tr%3e\n	%3ctr%3e\n		%3ctd%3eAdmission%3a %2412.00%3c/td%3e\n	%3c/tr%3e\n	%3ctr%3e\n		%3ctd%3eContact Person%3a %3ca href%3d%22mailto%3adw.mimba@gmail.com%3fsubject%3dBGTTix.com – Mesakke Bangsaku World Tour%22%3eDwi Mimba%3c/a%3e%3c/td%3e\n	%3c/tr%3e\n%3c/table%3eDesignHTMLWords: 8   Characters: 56
URL:https://www.discoverhollywood.com/event/mesakke-bangsaku-world-tour/
LOCATION:Barnsdall Gallery Theatre\, 4800 Hollywood Blvd\, Los Angeles\, California
END:VEVENT
BEGIN:VEVENT
DTSTART;TZID=Asia/Kolkata:19850502T000000
DTEND;TZID=Asia/Kolkata:19850502T000000
DTSTAMP:20260423T055139
CREATED:20250710T122714Z
LAST-MODIFIED:20250710T122714Z
UID:10010160-483840000-483840000@www.discoverhollywood.com
SUMMARY:Open Call 2016: Play
DESCRIPTION:This%26nbsp%3byear%27s%26nbsp%3bOpen Call%26nbsp%3bcontinues%26nbsp%3bwhat is%26nbsp%3bamong the largest and longest running non-juried exhibitions in Los%26nbsp%3bAngeles. On view from %3cb%3eAugust 18 through September 18%3c/b%3e%2c the show is set to showcase the provocative and%26nbsp%3bwhimsical%26nbsp%3bwork of more than 300 promising artists from%26nbsp%3bacross Southern CaliforniaDesignHTMLWords: 47   Characters: 287
URL:https://www.discoverhollywood.com/event/open-call-2016-play-2/
LOCATION:Barnsdall Gallery Theatre\, 4800 Hollywood Blvd\, Los Angeles\, California
END:VEVENT
BEGIN:VEVENT
DTSTART;TZID=Asia/Kolkata:19821130T000000
DTEND;TZID=Asia/Kolkata:19821130T000000
DTSTAMP:20260423T055139
CREATED:20250714T093455Z
LAST-MODIFIED:20250714T093455Z
UID:10010614-407462400-407462400@www.discoverhollywood.com
SUMMARY:Pulling Back the Curtain: The Best Kept Secrets in Hollywood
DESCRIPTION:%3cspan%3eA concert of original music from%26nbsp%3bHollywood’s orchestrators%2c%26nbsp%3bmusic editors%2c and soundtrack team members.%3c/span%3e\n%3cdiv%3e\n	%3cspan%3e%3cbr%3e%3c/span%3e\n%3c/div%3e\n%3cdiv%3e\n	%3cspan%3e\n		%3ca href%3d%22http%3a//helixcollective.net/pulling-back-the-curtain/%22 target%3d%22_blank%22%3ehttp%3a//helixcollective.net/pulling-back-the-curtain/%3c/a%3e\n		%3cbr%3e\n	%3c/span%3e\n	%3cdiv%3e\n		%3cspan%3e%3cbr%3e%3c/span%3e\n	%3c/div%3e\n	%3cdiv%3e\n		%3cspan%3e%3cbr%3e%3c/span%3e\n	%3c/div%3e\n%3c/div%3eDesignHTMLWords: 15   Characters: 150
URL:https://www.discoverhollywood.com/event/pulling-back-the-curtain-the-best-kept-secrets-in-hollywood/
LOCATION:Barnsdall Gallery Theatre\, 4800 Hollywood Blvd\, Los Angeles\, California
END:VEVENT
BEGIN:VEVENT
DTSTART;TZID=Asia/Kolkata:19820720T000000
DTEND;TZID=Asia/Kolkata:19820720T000000
DTSTAMP:20260423T055139
CREATED:20250714T093939Z
LAST-MODIFIED:20250714T093939Z
UID:10010747-395971200-395971200@www.discoverhollywood.com
SUMMARY:Rangoli Dance Company presents a Double Bill: Krishna\, a magnificent incarnation Traditional Appalachian Music and Dance
DESCRIPTION:%3cp%3e%3cspan%3eClassical Indian dance%2c music%2c and visual designs express a scope of artistic and spiritual experience that extends from the intimate to the infinite.%3c/span%3e\n	%3cspan%3eThe concert features “Bharatanatyam” dances %28Classical dances of India%29 to enact stories related to Lord Krishna. %3c/span%3e\n	%3cspan%3eCome join Rangoli Dance Company as Artistic Directors Malathi and Lakshmi Iyengar unite their creative forces and evocative choreography for this exciting journey%21 %3c/span%3e\n%3c/p%3eDesignHTMLWords: 62   Characters: 421
URL:https://www.discoverhollywood.com/event/rangoli-dance-company-presents-a-double-bill-krishna-a-magnificent-incarnation-traditional-appalachian-music-and-dance/
LOCATION:Barnsdall Gallery Theatre\, 4800 Hollywood Blvd\, Los Angeles\, California
END:VEVENT
BEGIN:VEVENT
DTSTART;TZID=Asia/Kolkata:19820309T000000
DTEND;TZID=Asia/Kolkata:19820309T000000
DTSTAMP:20260423T055139
CREATED:20250714T094557Z
LAST-MODIFIED:20250714T094557Z
UID:10010880-384480000-384480000@www.discoverhollywood.com
SUMMARY:Remembering James: The Life and Music of James Brown
DESCRIPTION:%3cem%3eRemembering James%3c/em%3e\n%3cspan%3e%2c a 90-minute musically formatted show%2c tells the story of The Godfather of Soul%2c James Brown. Spanning nearly two decades of his monumental career%2c you’ll see how a divided country%2c the growing civil rights movement and the assassination of Dr. Martin Luther King%2c Jr. shaped the artist’s work. A six-piece band accompanies the show%2c bringing the passion of his music alive. This stage adaptation stars Dedrick Weathersby as James and features Will Roc as MD.%3c/span%3eDesignHTMLWords: 76   Characters: 463
URL:https://www.discoverhollywood.com/event/remembering-james-the-life-and-music-of-james-brown/
LOCATION:Barnsdall Gallery Theatre\, 4800 Hollywood Blvd\, Los Angeles\, California
END:VEVENT
BEGIN:VEVENT
DTSTART;TZID=Asia/Kolkata:19811114T000000
DTEND;TZID=Asia/Kolkata:19811114T000000
DTSTAMP:20260423T055139
CREATED:20250714T100317Z
LAST-MODIFIED:20250714T100317Z
UID:10010995-374544000-374544000@www.discoverhollywood.com
SUMMARY:Rime Ling Buddhism in the 21st Century
DESCRIPTION:DesignHTMLWords: 0   Characters: 0
URL:https://www.discoverhollywood.com/event/rime-ling-buddhism-in-the-21st-century/
LOCATION:Barnsdall Gallery Theatre\, 4800 Hollywood Blvd\, Los Angeles\, California
END:VEVENT
BEGIN:VEVENT
DTSTART;TZID=Asia/Kolkata:19811103T000000
DTEND;TZID=Asia/Kolkata:19811103T000000
DTSTAMP:20260423T055139
CREATED:20250714T100329Z
LAST-MODIFIED:20250714T100329Z
UID:10011006-373593600-373593600@www.discoverhollywood.com
SUMMARY:Rise Up & Shout!
DESCRIPTION:DesignHTMLWords: 0   Characters: 0
URL:https://www.discoverhollywood.com/event/rise-up-shout/
LOCATION:Barnsdall Gallery Theatre\, 4800 Hollywood Blvd\, Los Angeles\, California
END:VEVENT
BEGIN:VEVENT
DTSTART;TZID=Asia/Kolkata:19790904T000000
DTEND;TZID=Asia/Kolkata:19790904T000000
DTSTAMP:20260423T055139
CREATED:20250714T115737Z
LAST-MODIFIED:20250714T115737Z
UID:10011775-305251200-305251200@www.discoverhollywood.com
SUMMARY:Senior Star Search
DESCRIPTION:Showcasing performers 55 years young and over.\n%3cbr%3e\nShow plus dessert and free parking\n%3cbr%3e\ntickets%3a 818-606-6679\n%3cbr%3e\nseniorstarsearch@gmail.com\n%3cbr%3eDesignHTMLWords: 16   Characters: 125
URL:https://www.discoverhollywood.com/event/senior-star-search/
LOCATION:Barnsdall Gallery Theatre\, 4800 Hollywood Blvd\, Los Angeles\, California
END:VEVENT
BEGIN:VEVENT
DTSTART;TZID=Asia/Kolkata:19790609T000000
DTEND;TZID=Asia/Kolkata:19790609T000000
DTSTAMP:20260423T055139
CREATED:20250714T120307Z
LAST-MODIFIED:20250714T120307Z
UID:10011862-297734400-297734400@www.discoverhollywood.com
SUMMARY:Shakespeare in Song
DESCRIPTION:%3cspan%3eActors and singers will share the stage for an evening of Shakespeare in spoken word and choral song. Hear the world premiere of a new set of Shakespeare songs by renowned choral composer%26nbsp%3bRichard Burchard.%3c/span%3e\n%3cdiv%3e\n	%3cspan%3e%3cbr%3e%3c/span%3e\n%3c/div%3e\n%3cdiv%3e\n	%3cspan%3e%3ca href%3d%22http%3a//www.lachorallab.org/%22 target%3d%22_blank%22%3ewww.lachorallab.org%3c/a%3e%3c/span%3e\n	%3cbr%3e\n%3c%21–%5bif %21supportLineBreakNewLine%5d–%3e\n	%3cbr%3e\n%3c%21–%5bendif%5d–%3e%3c/div%3eDesignHTMLWords: 36   Characters: 223
URL:https://www.discoverhollywood.com/event/shakespeare-in-song/
LOCATION:Barnsdall Gallery Theatre\, 4800 Hollywood Blvd\, Los Angeles\, California
END:VEVENT
BEGIN:VEVENT
DTSTART;TZID=Asia/Kolkata:19790501T000000
DTEND;TZID=Asia/Kolkata:19790501T000000
DTSTAMP:20260423T055139
CREATED:20250714T120444Z
LAST-MODIFIED:20250714T120444Z
UID:10011901-294364800-294364800@www.discoverhollywood.com
SUMMARY:Sheila Aula Solo Performance
DESCRIPTION:Hosted by Rangoli\n%3cbr%3eDesignHTMLWords: 3   Characters: 17
URL:https://www.discoverhollywood.com/event/sheila-aula-solo-performance/
LOCATION:Barnsdall Gallery Theatre\, 4800 Hollywood Blvd\, Los Angeles\, California
END:VEVENT
BEGIN:VEVENT
DTSTART;TZID=Asia/Kolkata:19790208T000000
DTEND;TZID=Asia/Kolkata:19790208T000000
DTSTAMP:20260423T055139
CREATED:20250714T121858Z
LAST-MODIFIED:20250714T121858Z
UID:10011983-287280000-287280000@www.discoverhollywood.com
SUMMARY:Siddhartha's Intent\, Buddhish Lecture
DESCRIPTION:DesignHTMLWords: 0   Characters: 0
URL:https://www.discoverhollywood.com/event/siddharthas-intent-buddhish-lecture/
LOCATION:Barnsdall Gallery Theatre\, 4800 Hollywood Blvd\, Los Angeles\, California
END:VEVENT
BEGIN:VEVENT
DTSTART;TZID=Asia/Kolkata:19790111T000000
DTEND;TZID=Asia/Kolkata:19790111T000000
DTSTAMP:20260423T055139
CREATED:20250714T122026Z
LAST-MODIFIED:20250714T122026Z
UID:10012011-284860800-284860800@www.discoverhollywood.com
SUMMARY:Silverlake Conservancy
DESCRIPTION:DesignHTMLWords: 0   Characters: 0
URL:https://www.discoverhollywood.com/event/silverlake-conservancy/
LOCATION:Barnsdall Gallery Theatre\, 4800 Hollywood Blvd\, Los Angeles\, California
END:VEVENT
BEGIN:VEVENT
DTSTART;TZID=Asia/Kolkata:19781028T000000
DTEND;TZID=Asia/Kolkata:19781028T000000
DTSTAMP:20260423T055139
CREATED:20250714T122920Z
LAST-MODIFIED:20250714T122920Z
UID:10012086-278380800-278380800@www.discoverhollywood.com
SUMMARY:Skin
DESCRIPTION:%3cbr%3eDesignHTMLWords: 0   Characters: 0
URL:https://www.discoverhollywood.com/event/skin-2/
LOCATION:Barnsdall Gallery Theatre\, 4800 Hollywood Blvd\, Los Angeles\, California
END:VEVENT
BEGIN:VEVENT
DTSTART;TZID=Asia/Kolkata:19780214T000000
DTEND;TZID=Asia/Kolkata:19780214T000000
DTSTAMP:20260423T055139
CREATED:20250715T083159Z
LAST-MODIFIED:20250715T083159Z
UID:10012343-256262400-256262400@www.discoverhollywood.com
SUMMARY:Speak of Me as I am
DESCRIPTION:DesignHTMLWords: 0   Characters: 0
URL:https://www.discoverhollywood.com/event/speak-of-me-as-i-am/
LOCATION:Barnsdall Gallery Theatre\, 4800 Hollywood Blvd\, Los Angeles\, California
END:VEVENT
BEGIN:VEVENT
DTSTART;TZID=Asia/Kolkata:19780213T000000
DTEND;TZID=Asia/Kolkata:19780213T000000
DTSTAMP:20260423T055139
CREATED:20250715T083400Z
LAST-MODIFIED:20250715T083400Z
UID:10012344-256176000-256176000@www.discoverhollywood.com
SUMMARY:Speak Theatre NWC
DESCRIPTION:DesignHTMLWords: 0   Characters: 0
URL:https://www.discoverhollywood.com/event/speak-theatre-nwc/
LOCATION:Barnsdall Gallery Theatre\, 4800 Hollywood Blvd\, Los Angeles\, California
END:VEVENT
BEGIN:VEVENT
DTSTART;TZID=Asia/Kolkata:19780207T000000
DTEND;TZID=Asia/Kolkata:19780207T000000
DTSTAMP:20260423T055139
CREATED:20250715T083601Z
LAST-MODIFIED:20250715T083601Z
UID:10012350-255657600-255657600@www.discoverhollywood.com
SUMMARY:Special Debate: Does God Exist?
DESCRIPTION:Facing off in a special debate on whether God exists%26nbsp%3bwill be%26nbsp%3bLouise Antony%2c professor%26nbsp%3bof philosophy at the University of Massachusetts%26nbsp%3bAmherst%2cand%26nbsp%3bDoug Geivett%2c professor of philosophy at Biola University%2c across%26nbsp%3bthe street from the Center for Inquiry in Barnsdall Park’s theater.%26nbsp%3bEddie%26nbsp%3bTabash%2c honorary chair of CFI-L.A.%2c%26nbsp%3bwill precede the debate with a talk about “Debating Religion in Public.”%26nbsp%3bDesignHTMLWords: 61   Characters: 384
URL:https://www.discoverhollywood.com/event/special-debate-does-god-exist/
LOCATION:Barnsdall Gallery Theatre\, 4800 Hollywood Blvd\, Los Angeles\, California
END:VEVENT
BEGIN:VEVENT
DTSTART;TZID=Asia/Kolkata:19760411T000000
DTEND;TZID=Asia/Kolkata:19760411T000000
DTSTAMP:20260423T055139
CREATED:20250715T110249Z
LAST-MODIFIED:20250715T110249Z
UID:10013017-198028800-198028800@www.discoverhollywood.com
SUMMARY:The 2nd Annual Haiti Film Festival
DESCRIPTION:DesignHTMLWords: 0   Characters: 0
URL:https://www.discoverhollywood.com/event/the-2nd-annual-haiti-film-festival/
LOCATION:Barnsdall Gallery Theatre\, 4800 Hollywood Blvd\, Los Angeles\, California
END:VEVENT
BEGIN:VEVENT
DTSTART;TZID=Asia/Kolkata:19750112T000000
DTEND;TZID=Asia/Kolkata:19750112T000000
DTSTAMP:20260423T055139
CREATED:20250715T115902Z
LAST-MODIFIED:20250715T115902Z
UID:10013302-158716800-158716800@www.discoverhollywood.com
SUMMARY:The ever LBGT Literacy Festival in L.A..  It's a day of moderated panel discussions and an evening of readings.
DESCRIPTION:%3ctable height%3d%221%22 width%3d%2225%22 border%3d%220%22%3e\n	%3ctr%3e\n		%3ctd%3e%3cbr%3e%3c/td%3e\n	%3c/tr%3e\n	%3ctr%3e\n		%3ctd colspan%3d%222%22%3e%3cbr%3e%3c/td%3e\n	%3c/tr%3e\n%3c/table%3eDesignHTMLWords: 0   Characters: 0
URL:https://www.discoverhollywood.com/event/the-ever-lbgt-literacy-festival-in-l-a-its-a-day-of-moderated-panel-discussions-and-an-evening-of-readings/
LOCATION:Barnsdall Gallery Theatre\, 4800 Hollywood Blvd\, Los Angeles\, California
END:VEVENT
BEGIN:VEVENT
DTSTART;TZID=Asia/Kolkata:19740324T000000
DTEND;TZID=Asia/Kolkata:19740324T000000
DTSTAMP:20260423T055139
CREATED:20250715T124626Z
LAST-MODIFIED:20250715T124626Z
UID:10013581-133315200-133315200@www.discoverhollywood.com
SUMMARY:The King of the Desert
DESCRIPTION:%3cstrong id%3d%22yui_3_16_0_ym19_1_1483572456736_5015%22%3e%3ci id%3d%22yui_3_16_0_ym19_1_1483572456736_5014%22%3eTHE KING OF THE DESERT%3c/i%3e%3c/strong%3e\n%3cspan class%3d%22yiv6030860903gmail-apple-converted-space%22%3e%3cb%3e%26nbsp%3b%3c/b%3e%3c/span%3e\n%3cspan%3ereturns to Los Angeles for an exclusive engagement to benefit%3c/span%3e\n%3cspan class%3d%22yiv6030860903gmail-apple-converted-space%22%3e%26nbsp%3b%3c/span%3e\n%3cstrong id%3d%22yui_3_16_0_ym19_1_1483572456736_5012%22%3eFamily HEART Camp%3c/strong%3e\n%3cspan class%3d%22yiv6030860903gmail-apple-converted-space%22 id%3d%22yui_3_16_0_ym19_1_14DesignHTMLWords: 18   Characters: 106
URL:https://www.discoverhollywood.com/event/the-king-of-the-desert-2/
LOCATION:Barnsdall Gallery Theatre\, 4800 Hollywood Blvd\, Los Angeles\, California
END:VEVENT
BEGIN:VEVENT
DTSTART;TZID=Asia/Kolkata:19730629T000000
DTEND;TZID=Asia/Kolkata:19730629T000000
DTSTAMP:20260423T055139
CREATED:20250715T125353Z
LAST-MODIFIED:20250715T125353Z
UID:10013849-110160000-110160000@www.discoverhollywood.com
SUMMARY:The One World Stage & Screen Annual Gala Fundraiser !
DESCRIPTION:Plus%2c there are some exciting add-ons available for guests – everything from signed photos and posters%2c to T-shirts%2c red carpet photos%2c and a raffle with many great prizes%21 %26nbsp%3bThe event should be loads of fun%2c so please join us to support our worthwhile charity.DesignHTMLWords: 44   Characters: 251
URL:https://www.discoverhollywood.com/event/the-one-world-stage-screen-annual-gala-fundraiser/
LOCATION:Barnsdall Gallery Theatre\, 4800 Hollywood Blvd\, Los Angeles\, California
END:VEVENT
BEGIN:VEVENT
DTSTART;TZID=Asia/Kolkata:19720215T000000
DTEND;TZID=Asia/Kolkata:19720215T000000
DTSTAMP:20260423T055139
CREATED:20250716T061012Z
LAST-MODIFIED:20250716T061012Z
UID:10014349-66960000-66960000@www.discoverhollywood.com
SUMMARY:Theatre Unique
DESCRIPTION:DesignHTMLWords: 0   Characters: 0
URL:https://www.discoverhollywood.com/event/theatre-unique/
LOCATION:Barnsdall Gallery Theatre\, 4800 Hollywood Blvd\, Los Angeles\, California
END:VEVENT
BEGIN:VEVENT
DTSTART;TZID=Asia/Kolkata:19711030T000000
DTEND;TZID=Asia/Kolkata:19711030T000000
DTSTAMP:20260423T055139
CREATED:20250716T061704Z
LAST-MODIFIED:20250716T061704Z
UID:10014457-57628800-57628800@www.discoverhollywood.com
SUMMARY:Ticket to Ride: A Tribute to the Beatles
DESCRIPTION:%3cbr%3eDesignHTMLWords: 0   Characters: 0
URL:https://www.discoverhollywood.com/event/ticket-to-ride-a-tribute-to-the-beatles/
LOCATION:Barnsdall Gallery Theatre\, 4800 Hollywood Blvd\, Los Angeles\, California
END:VEVENT
BEGIN:VEVENT
DTSTART;TZID=Asia/Kolkata:20260423T055139
DTEND;TZID=Asia/Kolkata:20260423T055139
DTSTAMP:20260423T055139
CREATED:20250716T084211Z
LAST-MODIFIED:20250716T084211Z
UID:10015464-0-0@www.discoverhollywood.com
SUMMARY:World Festival of Music
DESCRIPTION:Music and Dance performance\n%3cbr%3e\n%2415%2c %2410 for studentsDesignHTMLWords: 8   Characters: 48
URL:https://www.discoverhollywood.com/event/world-festival-of-music/
LOCATION:Barnsdall Gallery Theatre\, 4800 Hollywood Blvd\, Los Angeles\, California
END:VEVENT
BEGIN:VEVENT
DTSTART;TZID=Asia/Kolkata:20260423T055139
DTEND;TZID=Asia/Kolkata:20260423T055139
DTSTAMP:20260423T055139
CREATED:20250716T083519Z
LAST-MODIFIED:20250716T083519Z
UID:10015338-0-0@www.discoverhollywood.com
SUMMARY:Why Are you Single
DESCRIPTION:%3ctable border%3d%220%22%3e\n	%3ctr%3e\n		%3ctd%3eCategory%3a Play%3c/td%3e\n	%3c/tr%3e\n	%3ctr%3e\n		%3ctd%3eAdmission%3a %2425.00%2c VIP %2445.00%3c/td%3e\n	%3c/tr%3e\n	%3ctr%3e\n		%3ctd%3eContact Person%3a %3ca href%3d%22mailto%3aseegllc@gmail.com%3fsubject%3dBGTTix.com – Why are you Single%3f%22%3eSonia McKie%3c/a%3e%3c/td%3e\n	%3c/tr%3e\n%3c/table%3eDesignHTMLWords: 10   Characters: 66
URL:https://www.discoverhollywood.com/event/why-are-you-single/
LOCATION:Barnsdall Gallery Theatre\, 4800 Hollywood Blvd\, Los Angeles\, California
END:VEVENT
BEGIN:VEVENT
DTSTART;TZID=Asia/Kolkata:20260423T055139
DTEND;TZID=Asia/Kolkata:20260423T055139
DTSTAMP:20260423T055139
CREATED:20250716T082534Z
LAST-MODIFIED:20250716T082534Z
UID:10015247-0-0@www.discoverhollywood.com
SUMMARY:West Coast Singers Winter Holiday Concert
DESCRIPTION:DesignHTMLWords: 0   Characters: 0
URL:https://www.discoverhollywood.com/event/west-coast-singers-winter-holiday-concert/
LOCATION:Barnsdall Gallery Theatre\, 4800 Hollywood Blvd\, Los Angeles\, California
END:VEVENT
END:VCALENDAR