BEGIN:VCALENDAR
VERSION:2.0
PRODID:-//Discover Hollywood Magazine - ECPv6.15.20//NONSGML v1.0//EN
CALSCALE:GREGORIAN
METHOD:PUBLISH
X-WR-CALNAME:Discover Hollywood Magazine
X-ORIGINAL-URL:https://www.discoverhollywood.com
X-WR-CALDESC:Events for Discover Hollywood Magazine
REFRESH-INTERVAL;VALUE=DURATION:PT1H
X-Robots-Tag:noindex
X-PUBLISHED-TTL:PT1H
BEGIN:VTIMEZONE
TZID:Asia/Kolkata
BEGIN:STANDARD
TZOFFSETFROM:+0530
TZOFFSETTO:+0530
TZNAME:IST
DTSTART:19690101T000000
END:STANDARD
END:VTIMEZONE
BEGIN:VEVENT
DTSTART;TZID=Asia/Kolkata:20221030T000000
DTEND;TZID=Asia/Kolkata:20221030T000000
DTSTAMP:20260424T122133
CREATED:20250630T090310Z
LAST-MODIFIED:20250630T090310Z
UID:10001167-1667088000-1667088000@www.discoverhollywood.com
SUMMARY:20th Century Decorative Arts Auction
DESCRIPTION:DesignHTMLWords: 0   Characters: 0
URL:https://www.discoverhollywood.com/event/20th-century-decorative-arts-auction-2/
LOCATION:Bonhams\, 7601 Sunset Blvd\, Hollywood\, California
END:VEVENT
BEGIN:VEVENT
DTSTART;TZID=Asia/Kolkata:20221027T000000
DTEND;TZID=Asia/Kolkata:20221027T000000
DTSTAMP:20260424T122133
CREATED:20250630T090310Z
LAST-MODIFIED:20250630T090310Z
UID:10001168-1666828800-1666828800@www.discoverhollywood.com
SUMMARY:20th Century Decorative Arts Preview
DESCRIPTION:DesignHTMLWords: 0   Characters: 0
URL:https://www.discoverhollywood.com/event/20th-century-decorative-arts-preview-2/
LOCATION:Bonhams\, 7601 Sunset Blvd\, Hollywood\, California
END:VEVENT
BEGIN:VEVENT
DTSTART;TZID=Asia/Kolkata:20070616T000000
DTEND;TZID=Asia/Kolkata:20070616T000000
DTSTAMP:20260424T122133
CREATED:20250701T065235Z
LAST-MODIFIED:20250701T065235Z
UID:10003445-1181952000-1181952000@www.discoverhollywood.com
SUMMARY:Carousel and Circus Memorabilia
DESCRIPTION:DesignHTMLWords: 0   Characters: 0
URL:https://www.discoverhollywood.com/event/carousel-and-circus-memorabilia/
LOCATION:Bonhams\, 7601 Sunset Blvd\, Hollywood\, California
END:VEVENT
BEGIN:VEVENT
DTSTART;TZID=Asia/Kolkata:20070608T000000
DTEND;TZID=Asia/Kolkata:20070608T000000
DTSTAMP:20260424T122133
CREATED:20250701T065436Z
LAST-MODIFIED:20250701T065436Z
UID:10003449-1181260800-1181260800@www.discoverhollywood.com
SUMMARY:Carpets & Rugs Auction
DESCRIPTION:%3cbr%3eDesignHTMLWords: 0   Characters: 0
URL:https://www.discoverhollywood.com/event/carpets-rugs-auction/
LOCATION:Bonhams\, 7601 Sunset Blvd\, Hollywood\, California
END:VEVENT
BEGIN:VEVENT
DTSTART;TZID=Asia/Kolkata:20041108T000000
DTEND;TZID=Asia/Kolkata:20041108T000000
DTSTAMP:20260424T122133
CREATED:20250701T093627Z
LAST-MODIFIED:20250701T093627Z
UID:10003920-1099872000-1099872000@www.discoverhollywood.com
SUMMARY:Coins and Medals Auction
DESCRIPTION:DesignHTMLWords: 0   Characters: 0
URL:https://www.discoverhollywood.com/event/coins-and-medals-auction/
LOCATION:Bonhams\, 7601 Sunset Blvd\, Hollywood\, California
END:VEVENT
BEGIN:VEVENT
DTSTART;TZID=Asia/Kolkata:20041106T000000
DTEND;TZID=Asia/Kolkata:20041106T000000
DTSTAMP:20260424T122133
CREATED:20250701T093818Z
LAST-MODIFIED:20250701T093818Z
UID:10003921-1099699200-1099699200@www.discoverhollywood.com
SUMMARY:Coins and Medals preview
DESCRIPTION:DesignHTMLWords: 0   Characters: 0
URL:https://www.discoverhollywood.com/event/coins-and-medals-preview/
LOCATION:Bonhams\, 7601 Sunset Blvd\, Hollywood\, California
END:VEVENT
BEGIN:VEVENT
DTSTART;TZID=Asia/Kolkata:20010603T000000
DTEND;TZID=Asia/Kolkata:20010603T000000
DTSTAMP:20260424T122133
CREATED:20250701T120842Z
LAST-MODIFIED:20250701T120842Z
UID:10004547-991526400-991526400@www.discoverhollywood.com
SUMMARY:Designer Handbags and Jewelry
DESCRIPTION:DesignHTMLWords: 0   Characters: 0
URL:https://www.discoverhollywood.com/event/designer-handbags-and-jewelry/
LOCATION:Bonhams\, 7601 Sunset Blvd\, Hollywood\, California
END:VEVENT
BEGIN:VEVENT
DTSTART;TZID=Asia/Kolkata:19980815T000000
DTEND;TZID=Asia/Kolkata:19980815T000000
DTSTAMP:20260424T122133
CREATED:20250702T050540Z
LAST-MODIFIED:20250702T050540Z
UID:10005196-903139200-903139200@www.discoverhollywood.com
SUMMARY:Entertainment Preview and Auction
DESCRIPTION:Preview%3a Friday Nov 16th – Saturday Nov 17th at 10am\n%3cbr%3e\nAuction%3a Sunday Nov 18th at 10amDesignHTMLWords: 15   Characters: 82
URL:https://www.discoverhollywood.com/event/entertainment-preview-and-auction/
LOCATION:Bonhams\, 7601 Sunset Blvd\, Hollywood\, California
END:VEVENT
BEGIN:VEVENT
DTSTART;TZID=Asia/Kolkata:19970927T000000
DTEND;TZID=Asia/Kolkata:19970927T000000
DTSTAMP:20260424T122133
CREATED:20250703T061434Z
LAST-MODIFIED:20250703T061434Z
UID:10005518-875318400-875318400@www.discoverhollywood.com
SUMMARY:Fine and Rare Wines
DESCRIPTION:%3cbr%3eDesignHTMLWords: 0   Characters: 0
URL:https://www.discoverhollywood.com/event/fine-and-rare-wines/
LOCATION:Bonhams\, 7601 Sunset Blvd\, Hollywood\, California
END:VEVENT
BEGIN:VEVENT
DTSTART;TZID=Asia/Kolkata:19970926T000000
DTEND;TZID=Asia/Kolkata:19970926T000000
DTSTAMP:20260424T122133
CREATED:20250703T061435Z
LAST-MODIFIED:20250703T061435Z
UID:10005519-875232000-875232000@www.discoverhollywood.com
SUMMARY:Fine European Furniture and Decorative Art
DESCRIPTION:DesignHTMLWords: 0   Characters: 0
URL:https://www.discoverhollywood.com/event/fine-european-furniture-and-decorative-art/
LOCATION:Bonhams\, 7601 Sunset Blvd\, Hollywood\, California
END:VEVENT
BEGIN:VEVENT
DTSTART;TZID=Asia/Kolkata:19970925T000000
DTEND;TZID=Asia/Kolkata:19970925T000000
DTSTAMP:20260424T122133
CREATED:20250703T061435Z
LAST-MODIFIED:20250703T061435Z
UID:10005520-875145600-875145600@www.discoverhollywood.com
SUMMARY:Fine Furniture\, Silver\, Decorative Arts and Clocks
DESCRIPTION:%3cbr%3eDesignHTMLWords: 0   Characters: 0
URL:https://www.discoverhollywood.com/event/fine-furniture-silver-decorative-arts-and-clocks/
LOCATION:Bonhams\, 7601 Sunset Blvd\, Hollywood\, California
END:VEVENT
BEGIN:VEVENT
DTSTART;TZID=Asia/Kolkata:19970924T000000
DTEND;TZID=Asia/Kolkata:19970924T000000
DTSTAMP:20260424T122133
CREATED:20250703T061450Z
LAST-MODIFIED:20250703T061450Z
UID:10005521-875059200-875059200@www.discoverhollywood.com
SUMMARY:Fine Oriental Rugs and Carpets
DESCRIPTION:%3cbr%3eDesignHTMLWords: 0   Characters: 0
URL:https://www.discoverhollywood.com/event/fine-oriental-rugs-and-carpets/
LOCATION:Bonhams\, 7601 Sunset Blvd\, Hollywood\, California
END:VEVENT
BEGIN:VEVENT
DTSTART;TZID=Asia/Kolkata:19960719T000000
DTEND;TZID=Asia/Kolkata:19960719T000000
DTSTAMP:20260424T122133
CREATED:20250703T065456Z
LAST-MODIFIED:20250703T065456Z
UID:10005949-837734400-837734400@www.discoverhollywood.com
SUMMARY:Gems and Minerals Works of Art
DESCRIPTION:DesignHTMLWords: 0   Characters: 0
URL:https://www.discoverhollywood.com/event/gems-and-minerals-works-of-art/
LOCATION:Bonhams\, 7601 Sunset Blvd\, Hollywood\, California
END:VEVENT
BEGIN:VEVENT
DTSTART;TZID=Asia/Kolkata:19830115T000000
DTEND;TZID=Asia/Kolkata:19830115T000000
DTSTAMP:20260424T122133
CREATED:20250714T093247Z
LAST-MODIFIED:20250714T093247Z
UID:10010568-411436800-411436800@www.discoverhollywood.com
SUMMARY:Prints and Multiples Auction
DESCRIPTION:%3cbr%3eDesignHTMLWords: 0   Characters: 0
URL:https://www.discoverhollywood.com/event/prints-and-multiples-auction/
LOCATION:Bonhams\, 7601 Sunset Blvd\, Hollywood\, California
END:VEVENT
BEGIN:VEVENT
DTSTART;TZID=Asia/Kolkata:19781207T000000
DTEND;TZID=Asia/Kolkata:19781207T000000
DTSTAMP:20260424T122133
CREATED:20250714T122250Z
LAST-MODIFIED:20250714T122250Z
UID:10012046-281836800-281836800@www.discoverhollywood.com
SUMMARY:Single Owner-AI
DESCRIPTION:%3cbr%3eDesignHTMLWords: 0   Characters: 0
URL:https://www.discoverhollywood.com/event/single-owner-ai/
LOCATION:Bonhams\, 7601 Sunset Blvd\, Hollywood\, California
END:VEVENT
BEGIN:VEVENT
DTSTART;TZID=Asia/Kolkata:19720321T000000
DTEND;TZID=Asia/Kolkata:19720321T000000
DTSTAMP:20260424T122133
CREATED:20250716T060752Z
LAST-MODIFIED:20250716T060752Z
UID:10014314-69984000-69984000@www.discoverhollywood.com
SUMMARY:The Wonder of Opals\, The Splendor of Gold
DESCRIPTION:DesignHTMLWords: 0   Characters: 0
URL:https://www.discoverhollywood.com/event/the-wonder-of-opals-the-splendor-of-gold/
LOCATION:Bonhams\, 7601 Sunset Blvd\, Hollywood\, California
END:VEVENT
BEGIN:VEVENT
DTSTART;TZID=Asia/Kolkata:20260424T122133
DTEND;TZID=Asia/Kolkata:20260424T122133
DTSTAMP:20260424T122133
CREATED:20250716T081512Z
LAST-MODIFIED:20250716T081512Z
UID:10014918-0-0@www.discoverhollywood.com
SUMMARY:Urban Art
DESCRIPTION:Preview%3a Friday Oct 26th – Sunday Oct 28th at 10am\n%3cbr%3e\nAuction%3a Monday Oct 29th at 10amDesignHTMLWords: 15   Characters: 80
URL:https://www.discoverhollywood.com/event/urban-art/
LOCATION:Bonhams\, 7601 Sunset Blvd\, Hollywood\, California
END:VEVENT
BEGIN:VEVENT
DTSTART;TZID=Asia/Kolkata:20260424T122133
DTEND;TZID=Asia/Kolkata:20260424T122133
DTSTAMP:20260424T122133
CREATED:20250714T113924Z
LAST-MODIFIED:20250714T113924Z
UID:10011555-0-0@www.discoverhollywood.com
SUMMARY:Salon Jewelry Auction
DESCRIPTION:DesignHTMLWords: 0   Characters: 0
URL:https://www.discoverhollywood.com/event/salon-jewelry-auction/
LOCATION:Bonhams\, 7601 Sunset Blvd\, Hollywood\, California
END:VEVENT
BEGIN:VEVENT
DTSTART;TZID=Asia/Kolkata:20260424T122133
DTEND;TZID=Asia/Kolkata:20260424T122133
DTSTAMP:20260424T122133
CREATED:20250714T113924Z
LAST-MODIFIED:20250714T113924Z
UID:10011556-0-0@www.discoverhollywood.com
SUMMARY:Salon Jewelry Preview
DESCRIPTION:DesignHTMLWords: 0   Characters: 0
URL:https://www.discoverhollywood.com/event/salon-jewelry-preview/
LOCATION:Bonhams\, 7601 Sunset Blvd\, Hollywood\, California
END:VEVENT
END:VCALENDAR