BEGIN:VCALENDAR
VERSION:2.0
PRODID:-//Discover Hollywood Magazine - ECPv6.15.17//NONSGML v1.0//EN
CALSCALE:GREGORIAN
METHOD:PUBLISH
X-WR-CALNAME:Discover Hollywood Magazine
X-ORIGINAL-URL:https://www.discoverhollywood.com
X-WR-CALDESC:Events for Discover Hollywood Magazine
REFRESH-INTERVAL;VALUE=DURATION:PT1H
X-Robots-Tag:noindex
X-PUBLISHED-TTL:PT1H
BEGIN:VTIMEZONE
TZID:Asia/Kolkata
BEGIN:STANDARD
TZOFFSETFROM:+0530
TZOFFSETTO:+0530
TZNAME:IST
DTSTART:19910101T000000
END:STANDARD
END:VTIMEZONE
BEGIN:VEVENT
DTSTART;TZID=Asia/Kolkata:20210426T000000
DTEND;TZID=Asia/Kolkata:20210426T000000
DTSTAMP:20260422T100524
CREATED:20250630T094837Z
LAST-MODIFIED:20250630T094837Z
UID:10001351-1619395200-1619395200@www.discoverhollywood.com
SUMMARY:A Giant Dog
DESCRIPTION:DesignHTMLWords: 0   Characters: 0
URL:https://www.discoverhollywood.com/event/a-giant-dog-2/
LOCATION:Bootleg Bar\, 2220 Beverly Blvd.\, Los Angeles\, California\, 90026.0
END:VEVENT
BEGIN:VEVENT
DTSTART;TZID=Asia/Kolkata:20170414T000000
DTEND;TZID=Asia/Kolkata:20170414T000000
DTSTAMP:20260422T100524
CREATED:20250630T105326Z
LAST-MODIFIED:20250630T105326Z
UID:10001837-1492128000-1492128000@www.discoverhollywood.com
SUMMARY:American Wrestlers
DESCRIPTION:DesignHTMLWords: 0   Characters: 0
URL:https://www.discoverhollywood.com/event/american-wrestlers-2/
LOCATION:Bootleg Bar\, 2220 Beverly Blvd.\, Los Angeles\, California\, 90026.0
END:VEVENT
BEGIN:VEVENT
DTSTART;TZID=Asia/Kolkata:20161004T000000
DTEND;TZID=Asia/Kolkata:20161004T000000
DTSTAMP:20260422T100524
CREATED:20250630T105734Z
LAST-MODIFIED:20250630T105734Z
UID:10001901-1475539200-1475539200@www.discoverhollywood.com
SUMMARY:An Evening with Chris Crofton
DESCRIPTION:DesignHTMLWords: 0   Characters: 0
URL:https://www.discoverhollywood.com/event/an-evening-with-chris-crofton-2/
LOCATION:Bootleg Bar\, 2220 Beverly Blvd.\, Los Angeles\, California\, 90026.0
END:VEVENT
BEGIN:VEVENT
DTSTART;TZID=Asia/Kolkata:20160207T000000
DTEND;TZID=Asia/Kolkata:20160207T000000
DTSTAMP:20260422T100524
CREATED:20250630T110029Z
LAST-MODIFIED:20250630T110029Z
UID:10001981-1454803200-1454803200@www.discoverhollywood.com
SUMMARY:Anarbor
DESCRIPTION:DesignHTMLWords: 0   Characters: 0
URL:https://www.discoverhollywood.com/event/anarbor-2/
LOCATION:Bootleg Bar\, 2220 Beverly Blvd.\, Los Angeles\, California\, 90026.0
END:VEVENT
BEGIN:VEVENT
DTSTART;TZID=Asia/Kolkata:20150527T000000
DTEND;TZID=Asia/Kolkata:20150527T000000
DTSTAMP:20260422T100524
CREATED:20250630T113720Z
LAST-MODIFIED:20250630T113720Z
UID:10002093-1432684800-1432684800@www.discoverhollywood.com
SUMMARY:Anna Ash Album Release Show
DESCRIPTION:Anna Ash%27s sophomore record%2c Floodlights%2c is a test of tension. Tension between her sun-baked concrete present in Los Angeles%2c and the faint and frozen nostalgia of her northern Michigan past.DesignHTMLWords: 30   Characters: 185
URL:https://www.discoverhollywood.com/event/anna-ash-album-release-show/
LOCATION:Bootleg Bar\, 2220 Beverly Blvd.\, Los Angeles\, California\, 90026.0
END:VEVENT
BEGIN:VEVENT
DTSTART;TZID=Asia/Kolkata:20100827T000000
DTEND;TZID=Asia/Kolkata:20100827T000000
DTSTAMP:20260422T100524
CREATED:20250630T130945Z
LAST-MODIFIED:20250716T122057Z
UID:10002961-1282867200-1282867200@www.discoverhollywood.com
SUMMARY:Blaenavon
DESCRIPTION:DesignHTMLWords: 0   Characters: 0
URL:https://www.discoverhollywood.com/event/blaenavon/
LOCATION:Bootleg Bar\, 2220 Beverly Blvd.\, Los Angeles\, California\, 90026.0
END:VEVENT
BEGIN:VEVENT
DTSTART;TZID=Asia/Kolkata:20091009T000000
DTEND;TZID=Asia/Kolkata:20091009T000000
DTSTAMP:20260422T100524
CREATED:20250630T131254Z
LAST-MODIFIED:20250716T125400Z
UID:10003122-1255046400-1255046400@www.discoverhollywood.com
SUMMARY:Bootleg Variety Hour
DESCRIPTION:Host David Kovac\n%3cbr%3eDesignHTMLWords: 3   Characters: 16
URL:https://www.discoverhollywood.com/event/bootleg-variety-hour/
LOCATION:Bootleg Bar\, 2220 Beverly Blvd.\, Los Angeles\, California\, 90026.0
END:VEVENT
BEGIN:VEVENT
DTSTART;TZID=Asia/Kolkata:20070523T000000
DTEND;TZID=Asia/Kolkata:20070523T000000
DTSTAMP:20260422T100524
CREATED:20250701T065837Z
LAST-MODIFIED:20250701T065837Z
UID:10003457-1179878400-1179878400@www.discoverhollywood.com
SUMMARY:Carsie Blanton
DESCRIPTION:DesignHTMLWords: 0   Characters: 0
URL:https://www.discoverhollywood.com/event/carsie-blanton-2/
LOCATION:Bootleg Bar\, 2220 Beverly Blvd.\, Los Angeles\, California\, 90026.0
END:VEVENT
BEGIN:VEVENT
DTSTART;TZID=Asia/Kolkata:20040125T000000
DTEND;TZID=Asia/Kolkata:20040125T000000
DTSTAMP:20260422T100524
CREATED:20250701T104738Z
LAST-MODIFIED:20250701T104738Z
UID:10004064-1074988800-1074988800@www.discoverhollywood.com
SUMMARY:Cory Branan
DESCRIPTION:DesignHTMLWords: 0   Characters: 0
URL:https://www.discoverhollywood.com/event/cory-branan/
LOCATION:Bootleg Bar\, 2220 Beverly Blvd.\, Los Angeles\, California\, 90026.0
END:VEVENT
BEGIN:VEVENT
DTSTART;TZID=Asia/Kolkata:20030526T000000
DTEND;TZID=Asia/Kolkata:20030526T000000
DTSTAMP:20260422T100524
CREATED:20250701T111606Z
LAST-MODIFIED:20250701T111606Z
UID:10004186-1053907200-1053907200@www.discoverhollywood.com
SUMMARY:Cymbals Eat Guitars
DESCRIPTION:DesignHTMLWords: 0   Characters: 0
URL:https://www.discoverhollywood.com/event/cymbals-eat-guitars/
LOCATION:Bootleg Bar\, 2220 Beverly Blvd.\, Los Angeles\, California\, 90026.0
END:VEVENT
BEGIN:VEVENT
DTSTART;TZID=Asia/Kolkata:20011218T000000
DTEND;TZID=Asia/Kolkata:20011218T000000
DTSTAMP:20260422T100524
CREATED:20250701T120620Z
LAST-MODIFIED:20250701T120622Z
UID:10004448-1008633600-1008633600@www.discoverhollywood.com
SUMMARY:Dear Lemon Trees
DESCRIPTION:As individuals the three friends have been important figures in the L.A. music world for many years. They were also key founders of an locally based songwriting group before recording %22The Briar and The Rose%22 %28Tom Waits%29 on Grace’s critically acclaimed 2014 release No Place To Fall.DesignHTMLWords: 47   Characters: 275
URL:https://www.discoverhollywood.com/event/dear-lemon-trees/
LOCATION:Bootleg Bar\, 2220 Beverly Blvd.\, Los Angeles\, California\, 90026.0
END:VEVENT
BEGIN:VEVENT
DTSTART;TZID=Asia/Kolkata:20010818T000000
DTEND;TZID=Asia/Kolkata:20010818T000000
DTSTAMP:20260422T100524
CREATED:20250701T120759Z
LAST-MODIFIED:20250701T120759Z
UID:10004509-998092800-998092800@www.discoverhollywood.com
SUMMARY:Della Mae
DESCRIPTION:DesignHTMLWords: 0   Characters: 0
URL:https://www.discoverhollywood.com/event/della-mae/
LOCATION:Bootleg Bar\, 2220 Beverly Blvd.\, Los Angeles\, California\, 90026.0
END:VEVENT
BEGIN:VEVENT
DTSTART;TZID=Asia/Kolkata:20010317T000000
DTEND;TZID=Asia/Kolkata:20010317T000000
DTSTAMP:20260422T100524
CREATED:20250701T120916Z
LAST-MODIFIED:20250701T120916Z
UID:10004586-984787200-984787200@www.discoverhollywood.com
SUMMARY:Diana
DESCRIPTION:DesignHTMLWords: 0   Characters: 0
URL:https://www.discoverhollywood.com/event/diana/
LOCATION:Bootleg Bar\, 2220 Beverly Blvd.\, Los Angeles\, California\, 90026.0
END:VEVENT
BEGIN:VEVENT
DTSTART;TZID=Asia/Kolkata:20000712T000000
DTEND;TZID=Asia/Kolkata:20000712T000000
DTSTAMP:20260422T100524
CREATED:20250701T124635Z
LAST-MODIFIED:20250701T124635Z
UID:10004700-963360000-963360000@www.discoverhollywood.com
SUMMARY:Django Django
DESCRIPTION:%3cbr%3eDesignHTMLWords: 0   Characters: 0
URL:https://www.discoverhollywood.com/event/django-django/
LOCATION:Bootleg Bar\, 2220 Beverly Blvd.\, Los Angeles\, California\, 90026.0
END:VEVENT
BEGIN:VEVENT
DTSTART;TZID=Asia/Kolkata:20000525T000000
DTEND;TZID=Asia/Kolkata:20000525T000000
DTSTAMP:20260422T100524
CREATED:20250701T125537Z
LAST-MODIFIED:20250701T125537Z
UID:10004724-959212800-959212800@www.discoverhollywood.com
SUMMARY:Dogbreth
DESCRIPTION:DesignHTMLWords: 0   Characters: 0
URL:https://www.discoverhollywood.com/event/dogbreth-2/
LOCATION:Bootleg Bar\, 2220 Beverly Blvd.\, Los Angeles\, California\, 90026.0
END:VEVENT
BEGIN:VEVENT
DTSTART;TZID=Asia/Kolkata:20000308T000000
DTEND;TZID=Asia/Kolkata:20000308T000000
DTSTAMP:20260422T100524
CREATED:20250701T125741Z
LAST-MODIFIED:20250701T125741Z
UID:10004763-952473600-952473600@www.discoverhollywood.com
SUMMARY:Donovan Woods & The Opposition
DESCRIPTION:DesignHTMLWords: 0   Characters: 0
URL:https://www.discoverhollywood.com/event/donovan-woods-the-opposition/
LOCATION:Bootleg Bar\, 2220 Beverly Blvd.\, Los Angeles\, California\, 90026.0
END:VEVENT
BEGIN:VEVENT
DTSTART;TZID=Asia/Kolkata:19981201T000000
DTEND;TZID=Asia/Kolkata:19981201T000000
DTSTAMP:20260422T100524
CREATED:20250702T044841Z
LAST-MODIFIED:20250702T044841Z
UID:10005088-912470400-912470400@www.discoverhollywood.com
SUMMARY:Eleni Mandell Tribute Record Release show- to benefit Plastic Pollution Coalition
DESCRIPTION:Eleni Mandell Tribute Record Release show- to benefit Plastic Pollution Coalition http%3a//www.plasticpollutioncoalition.org\n%3cbr%3e\nJackson Browne%2c Priscilla Ahn%2c Alex Lilly%2c Gus Seyffert%2c Wendy Wang%2c Steve Gregoropoulos%2c Inara George%2c Eleni Mandell%2c and more…DesignHTMLWords: 30   Characters: 238
URL:https://www.discoverhollywood.com/event/eleni-mandell-tribute-record-release-show-to-benefit-plastic-pollution-coalition/
LOCATION:Bootleg Bar\, 2220 Beverly Blvd.\, Los Angeles\, California\, 90026.0
END:VEVENT
BEGIN:VEVENT
DTSTART;TZID=Asia/Kolkata:19980924T000000
DTEND;TZID=Asia/Kolkata:19980924T000000
DTSTAMP:20260422T100524
CREATED:20250702T050340Z
LAST-MODIFIED:20250702T050340Z
UID:10005156-906595200-906595200@www.discoverhollywood.com
SUMMARY:Emily Wells and Alela Diane
DESCRIPTION:%3cbr%3eDesignHTMLWords: 0   Characters: 0
URL:https://www.discoverhollywood.com/event/emily-wells-and-alela-diane/
LOCATION:Bootleg Bar\, 2220 Beverly Blvd.\, Los Angeles\, California\, 90026.0
END:VEVENT
BEGIN:VEVENT
DTSTART;TZID=Asia/Kolkata:19980516T000000
DTEND;TZID=Asia/Kolkata:19980516T000000
DTSTAMP:20260422T100524
CREATED:20250702T052736Z
LAST-MODIFIED:20250702T052736Z
UID:10005287-895276800-895276800@www.discoverhollywood.com
SUMMARY:Everyone Is Dirty
DESCRIPTION:DesignHTMLWords: 0   Characters: 0
URL:https://www.discoverhollywood.com/event/everyone-is-dirty/
LOCATION:Bootleg Bar\, 2220 Beverly Blvd.\, Los Angeles\, California\, 90026.0
END:VEVENT
BEGIN:VEVENT
DTSTART;TZID=Asia/Kolkata:19980416T000000
DTEND;TZID=Asia/Kolkata:19980416T000000
DTSTAMP:20260422T100524
CREATED:20250702T053445Z
LAST-MODIFIED:20250702T053445Z
UID:10005317-892684800-892684800@www.discoverhollywood.com
SUMMARY:Exsage Residency
DESCRIPTION:The setting sun bruises the sky as it strikes the horizon and sinks%2c stripping the gilding from the sand and exposing the cold faces of the stars.DesignHTMLWords: 27   Characters: 144
URL:https://www.discoverhollywood.com/event/exsage-residency/
LOCATION:Bootleg Bar\, 2220 Beverly Blvd.\, Los Angeles\, California\, 90026.0
END:VEVENT
BEGIN:VEVENT
DTSTART;TZID=Asia/Kolkata:19971211T000000
DTEND;TZID=Asia/Kolkata:19971211T000000
DTSTAMP:20260422T100524
CREATED:20250702T060127Z
LAST-MODIFIED:20250702T060127Z
UID:10005443-881798400-881798400@www.discoverhollywood.com
SUMMARY:Fell Runner Homecoming Show
DESCRIPTION:Fell Runner is a Los Angeles-based rock band formed in 2012 by four music students at the California Institute of the Arts.DesignHTMLWords: 22   Characters: 121
URL:https://www.discoverhollywood.com/event/fell-runner-homecoming-show/
LOCATION:Bootleg Bar\, 2220 Beverly Blvd.\, Los Angeles\, California\, 90026.0
END:VEVENT
BEGIN:VEVENT
DTSTART;TZID=Asia/Kolkata:19970127T000000
DTEND;TZID=Asia/Kolkata:19970127T000000
DTSTAMP:20260422T100524
CREATED:20250703T062509Z
LAST-MODIFIED:20250703T062509Z
UID:10005757-854323200-854323200@www.discoverhollywood.com
SUMMARY:French Vanilla
DESCRIPTION:French Vanilla is a feminist art-punk band based in Los Angeles consisting of Max Albeck %28drums%29%2c Ali Day %28guitar/bass%29%2c Sally Spitz %28vocals%29%2c and Daniel Trautfield %28bass/sax%29.DesignHTMLWords: 26   Characters: 163
URL:https://www.discoverhollywood.com/event/french-vanilla/
LOCATION:Bootleg Bar\, 2220 Beverly Blvd.\, Los Angeles\, California\, 90026.0
END:VEVENT
BEGIN:VEVENT
DTSTART;TZID=Asia/Kolkata:19970104T000000
DTEND;TZID=Asia/Kolkata:19970104T000000
DTSTAMP:20260422T100524
CREATED:20250703T062620Z
LAST-MODIFIED:20250703T062620Z
UID:10005780-852336000-852336000@www.discoverhollywood.com
SUMMARY:Fringe
DESCRIPTION:DesignHTMLWords: 0   Characters: 0
URL:https://www.discoverhollywood.com/event/fringe/
LOCATION:Bootleg Bar\, 2220 Beverly Blvd.\, Los Angeles\, California\, 90026.0
END:VEVENT
BEGIN:VEVENT
DTSTART;TZID=Asia/Kolkata:19960720T000000
DTEND;TZID=Asia/Kolkata:19960720T000000
DTSTAMP:20260422T100524
CREATED:20250703T065456Z
LAST-MODIFIED:20250703T065456Z
UID:10005948-837820800-837820800@www.discoverhollywood.com
SUMMARY:Gemma Rey
DESCRIPTION:Gemma Ray’s latest opus The Exodus Suite is a dramatic 52-minute odyssey through her unique style of epic torch song psychedelia.DesignHTMLWords: 21   Characters: 127
URL:https://www.discoverhollywood.com/event/gemma-rey/
LOCATION:Bootleg Bar\, 2220 Beverly Blvd.\, Los Angeles\, California\, 90026.0
END:VEVENT
BEGIN:VEVENT
DTSTART;TZID=Asia/Kolkata:19960420T000000
DTEND;TZID=Asia/Kolkata:19960420T000000
DTSTAMP:20260422T100524
CREATED:20250703T065631Z
LAST-MODIFIED:20250703T065631Z
UID:10006039-829958400-829958400@www.discoverhollywood.com
SUMMARY:Gill Landry (Old Crow Medicine Show)
DESCRIPTION:For a meat and potatoes opening to his bio%2c Gill Landry is a singer-songwriter and multi-instrumentalist from Louisiana. But he%27s also a photographer%2c a traveler%2c a painter%2c a storyteller%2c a mechanic%2c etc…DesignHTMLWords: 32   Characters: 195
URL:https://www.discoverhollywood.com/event/gill-landry-old-crow-medicine-show/
LOCATION:Bootleg Bar\, 2220 Beverly Blvd.\, Los Angeles\, California\, 90026.0
END:VEVENT
BEGIN:VEVENT
DTSTART;TZID=Asia/Kolkata:19951115T000000
DTEND;TZID=Asia/Kolkata:19951115T000000
DTSTAMP:20260422T100524
CREATED:20250703T084142Z
LAST-MODIFIED:20250703T084142Z
UID:10006196-816393600-816393600@www.discoverhollywood.com
SUMMARY:Goodnight\, Texas
DESCRIPTION:%3ch1 class%3d%22headliners summary%22%3eGoodnight%2c Texas%26nbsp%3b and Whiskey Shivers%3c/h1%3e\n%3ch2 class%3d%22supports description%22%3eThe LA Hootenanny%3c/h2%3eDesignHTMLWords: 8   Characters: 54
URL:https://www.discoverhollywood.com/event/goodnight-texas/
LOCATION:Bootleg Bar\, 2220 Beverly Blvd.\, Los Angeles\, California\, 90026.0
END:VEVENT
BEGIN:VEVENT
DTSTART;TZID=Asia/Kolkata:19951015T000000
DTEND;TZID=Asia/Kolkata:19951015T000000
DTSTAMP:20260422T100524
CREATED:20250703T084236Z
LAST-MODIFIED:20250703T084236Z
UID:10006227-813715200-813715200@www.discoverhollywood.com
SUMMARY:Grand Canyon
DESCRIPTION:DesignHTMLWords: 0   Characters: 0
URL:https://www.discoverhollywood.com/event/grand-canyon/
LOCATION:Bootleg Bar\, 2220 Beverly Blvd.\, Los Angeles\, California\, 90026.0
END:VEVENT
BEGIN:VEVENT
DTSTART;TZID=Asia/Kolkata:19930821T000000
DTEND;TZID=Asia/Kolkata:19930821T000000
DTSTAMP:20260422T100524
CREATED:20250703T105843Z
LAST-MODIFIED:20250703T105843Z
UID:10006727-745891200-745891200@www.discoverhollywood.com
SUMMARY:IJI
DESCRIPTION:DesignHTMLWords: 0   Characters: 0
URL:https://www.discoverhollywood.com/event/iji/
LOCATION:Bootleg Bar\, 2220 Beverly Blvd.\, Los Angeles\, California\, 90026.0
END:VEVENT
BEGIN:VEVENT
DTSTART;TZID=Asia/Kolkata:19930224T000000
DTEND;TZID=Asia/Kolkata:19930224T000000
DTSTAMP:20260422T100524
CREATED:20250703T111058Z
LAST-MODIFIED:20250703T111058Z
UID:10006905-730512000-730512000@www.discoverhollywood.com
SUMMARY:Irontom & The Unlikely Candidates
DESCRIPTION:The Midnight Love TourDesignHTMLWords: 4   Characters: 22
URL:https://www.discoverhollywood.com/event/irontom-the-unlikely-candidates/
LOCATION:Bootleg Bar\, 2220 Beverly Blvd.\, Los Angeles\, California\, 90026.0
END:VEVENT
BEGIN:VEVENT
DTSTART;TZID=Asia/Kolkata:19921108T000000
DTEND;TZID=Asia/Kolkata:19921108T000000
DTSTAMP:20260422T100524
CREATED:20250703T111516Z
LAST-MODIFIED:20250703T111516Z
UID:10007013-721180800-721180800@www.discoverhollywood.com
SUMMARY:Jackie Cohen
DESCRIPTION:DesignHTMLWords: 0   Characters: 0
URL:https://www.discoverhollywood.com/event/jackie-cohen/
LOCATION:Bootleg Bar\, 2220 Beverly Blvd.\, Los Angeles\, California\, 90026.0
END:VEVENT
END:VCALENDAR