BEGIN:VCALENDAR
VERSION:2.0
PRODID:-//Discover Hollywood Magazine - ECPv6.15.17//NONSGML v1.0//EN
CALSCALE:GREGORIAN
METHOD:PUBLISH
X-ORIGINAL-URL:https://www.discoverhollywood.com
X-WR-CALDESC:Events for Discover Hollywood Magazine
REFRESH-INTERVAL;VALUE=DURATION:PT1H
X-Robots-Tag:noindex
X-PUBLISHED-TTL:PT1H
BEGIN:VTIMEZONE
TZID:Asia/Kolkata
BEGIN:STANDARD
TZOFFSETFROM:+0530
TZOFFSETTO:+0530
TZNAME:IST
DTSTART:20100101T000000
END:STANDARD
END:VTIMEZONE
BEGIN:VEVENT
DTSTART;TZID=Asia/Kolkata:20260221T190000
DTEND;TZID=Asia/Kolkata:20260221T220000
DTSTAMP:20260422T081804
CREATED:20260105T183530Z
LAST-MODIFIED:20260105T184046Z
UID:10026677-1771700400-1771711200@www.discoverhollywood.com
SUMMARY:Jazz Legends: PONCHO SANCHEZ Celebrating the release of his new Live Album!
DESCRIPTION:The unmistakable rhythm of the congas will echo through Sunset Boulevard as Grammy-winning percussionist Poncho Sanchez returns to the Catalina Jazz Club. The legendary bandleader is set for a high-energy two-night engagement on Friday\, February 20\, and Saturday\, February 21\, 2026\, celebrating the release of his latest project\, Live at the Belly Up Tavern. \nFor over four decades\, Sanchez has been the standard-bearer for Latin jazz\, blending Afro-Cuban rhythms with the soulful grit of American R&B. This new live album\, his 31st recording\, captures the fiery energy of his ensemble in peak form\, featuring fresh arrangements of Latin standards and deep cuts from his storied catalog. \nA Master of the Congas\nBorn in Texas and raised in the heart of the Los Angeles soul scene\, Sanchez’s music is a “fiery stew” influenced by mentors like Cal Tjader and Mongo Santamaría. Attendees can expect a setlist that traverses his immense career\, likely including: \n\n\n“Watermelon Man” \n\n\n“Night Dream” \n\n\n“Besame Mama” \n\n\nReimagined classics from his Grammy-winning album Latin Soul. \n\n\nBacked by his longtime band\, including musical director and trombonist Francisco Torres\, Sanchez delivers a performance that is as much a dance party as it is a masterclass in percussion.
URL:https://www.discoverhollywood.com/event/jazz-legends-poncho-sanchez-celebrating-the-release-of-his-new-live-album/2026-02-21/
LOCATION:Catalina’s Bar & Grill\, Select
END:VEVENT
BEGIN:VEVENT
DTSTART;TZID=Asia/Kolkata:20260220T190000
DTEND;TZID=Asia/Kolkata:20260220T220000
DTSTAMP:20260422T081804
CREATED:20260105T183530Z
LAST-MODIFIED:20260105T184046Z
UID:10026675-1771614000-1771624800@www.discoverhollywood.com
SUMMARY:Jazz Legends: PONCHO SANCHEZ Celebrating the release of his new Live Album!
DESCRIPTION:The unmistakable rhythm of the congas will echo through Sunset Boulevard as Grammy-winning percussionist Poncho Sanchez returns to the Catalina Jazz Club. The legendary bandleader is set for a high-energy two-night engagement on Friday\, February 20\, and Saturday\, February 21\, 2026\, celebrating the release of his latest project\, Live at the Belly Up Tavern. \nFor over four decades\, Sanchez has been the standard-bearer for Latin jazz\, blending Afro-Cuban rhythms with the soulful grit of American R&B. This new live album\, his 31st recording\, captures the fiery energy of his ensemble in peak form\, featuring fresh arrangements of Latin standards and deep cuts from his storied catalog. \nA Master of the Congas\nBorn in Texas and raised in the heart of the Los Angeles soul scene\, Sanchez’s music is a “fiery stew” influenced by mentors like Cal Tjader and Mongo Santamaría. Attendees can expect a setlist that traverses his immense career\, likely including: \n\n\n“Watermelon Man” \n\n\n“Night Dream” \n\n\n“Besame Mama” \n\n\nReimagined classics from his Grammy-winning album Latin Soul. \n\n\nBacked by his longtime band\, including musical director and trombonist Francisco Torres\, Sanchez delivers a performance that is as much a dance party as it is a masterclass in percussion.
URL:https://www.discoverhollywood.com/event/jazz-legends-poncho-sanchez-celebrating-the-release-of-his-new-live-album/2026-02-20/
LOCATION:Catalina’s Bar & Grill\, Select
END:VEVENT
BEGIN:VEVENT
DTSTART;TZID=Asia/Kolkata:20220503T000000
DTEND;TZID=Asia/Kolkata:20220503T000000
DTSTAMP:20260422T081804
CREATED:20250630T091034Z
LAST-MODIFIED:20250630T091034Z
UID:10001227-1651536000-1651536000@www.discoverhollywood.com
SUMMARY:3rd Annual "Dini" Awards--Herb Jeffries
DESCRIPTION:DesignHTMLWords: 0   Characters: 0
URL:https://www.discoverhollywood.com/event/3rd-annual-dini-awards-herb-jeffries-2/
LOCATION:Catalina’s Bar & Grill\, Select
END:VEVENT
BEGIN:VEVENT
DTSTART;TZID=Asia/Kolkata:20211216T000000
DTEND;TZID=Asia/Kolkata:20211216T000000
DTSTAMP:20260422T081804
CREATED:20250630T092220Z
LAST-MODIFIED:20250630T092220Z
UID:10001273-1639612800-1639612800@www.discoverhollywood.com
SUMMARY:6th Annual Filipino-American Jazzfest
DESCRIPTION:DesignHTMLWords: 0   Characters: 0
URL:https://www.discoverhollywood.com/event/6th-annual-filipino-american-jazzfest-2/
LOCATION:Catalina’s Bar & Grill\, Select
END:VEVENT
BEGIN:VEVENT
DTSTART;TZID=Asia/Kolkata:20211110T000000
DTEND;TZID=Asia/Kolkata:20211110T000000
DTSTAMP:20260422T081804
CREATED:20250630T092822Z
LAST-MODIFIED:20250630T092822Z
UID:10001285-1636502400-1636502400@www.discoverhollywood.com
SUMMARY:7th Annual Filipino-American Jazz & World Music Festival
DESCRIPTION:DesignHTMLWords: 0   Characters: 0
URL:https://www.discoverhollywood.com/event/7th-annual-filipino-american-jazz-world-music-festival-2/
LOCATION:Catalina’s Bar & Grill\, Select
END:VEVENT
BEGIN:VEVENT
DTSTART;TZID=Asia/Kolkata:20180702T000000
DTEND;TZID=Asia/Kolkata:20180702T000000
DTSTAMP:20260422T081804
CREATED:20250630T103504Z
LAST-MODIFIED:20250630T103504Z
UID:10001689-1530489600-1530489600@www.discoverhollywood.com
SUMMARY:Alexandra Silber
DESCRIPTION:DesignHTMLWords: 0   Characters: 0
URL:https://www.discoverhollywood.com/event/alexandra-silber-2/
LOCATION:Catalina’s Bar & Grill\, Select
END:VEVENT
BEGIN:VEVENT
DTSTART;TZID=Asia/Kolkata:20170713T000000
DTEND;TZID=Asia/Kolkata:20170713T000000
DTSTAMP:20260422T081804
CREATED:20250630T104255Z
LAST-MODIFIED:20250630T104255Z
UID:10001807-1499904000-1499904000@www.discoverhollywood.com
SUMMARY:Amel Larrieux
DESCRIPTION:DesignHTMLWords: 0   Characters: 0
URL:https://www.discoverhollywood.com/event/amel-larrieux-2/
LOCATION:Catalina’s Bar & Grill\, Select
END:VEVENT
BEGIN:VEVENT
DTSTART;TZID=Asia/Kolkata:20170502T000000
DTEND;TZID=Asia/Kolkata:20170502T000000
DTSTAMP:20260422T081804
CREATED:20250630T105312Z
LAST-MODIFIED:20250630T105312Z
UID:10001831-1493683200-1493683200@www.discoverhollywood.com
SUMMARY:American Jazz Festival
DESCRIPTION:DesignHTMLWords: 0   Characters: 0
URL:https://www.discoverhollywood.com/event/american-jazz-festival-2/
LOCATION:Catalina’s Bar & Grill\, Select
END:VEVENT
BEGIN:VEVENT
DTSTART;TZID=Asia/Kolkata:20170213T000000
DTEND;TZID=Asia/Kolkata:20170213T000000
DTSTAMP:20260422T081804
CREATED:20250630T105426Z
LAST-MODIFIED:20250630T105426Z
UID:10001857-1486944000-1486944000@www.discoverhollywood.com
SUMMARY:Amy & Freddy
DESCRIPTION:Acclaimed Chicago-based dynamic duo and America%27s Got Talent audience favorites Amy %26amp%3b Freddy return to Hollywood for one show.DesignHTMLWords: 18   Characters: 122
URL:https://www.discoverhollywood.com/event/amy-freddy-2/
LOCATION:Catalina’s Bar & Grill\, Select
END:VEVENT
BEGIN:VEVENT
DTSTART;TZID=Asia/Kolkata:20161010T000000
DTEND;TZID=Asia/Kolkata:20161010T000000
DTSTAMP:20260422T081804
CREATED:20250630T105722Z
LAST-MODIFIED:20250630T105722Z
UID:10001899-1476057600-1476057600@www.discoverhollywood.com
SUMMARY:An Evening with Cheryl Bentyne featuring The Elliot Deutsch Big Band
DESCRIPTION:DesignHTMLWords: 0   Characters: 0
URL:https://www.discoverhollywood.com/event/an-evening-with-cheryl-bentyne-featuring-the-elliot-deutsch-big-band-2/
LOCATION:Catalina’s Bar & Grill\, Select
END:VEVENT
BEGIN:VEVENT
DTSTART;TZID=Asia/Kolkata:20160907T000000
DTEND;TZID=Asia/Kolkata:20160907T000000
DTSTAMP:20260422T081804
CREATED:20250630T105807Z
LAST-MODIFIED:20250630T105807Z
UID:10001910-1473206400-1473206400@www.discoverhollywood.com
SUMMARY:An Evening with Duke Ellington with Ted Howe and special guest vocalists
DESCRIPTION:DesignHTMLWords: 0   Characters: 0
URL:https://www.discoverhollywood.com/event/an-evening-with-duke-ellington-with-ted-howe-and-special-guest-vocalists-2/
LOCATION:Catalina’s Bar & Grill\, Select
END:VEVENT
BEGIN:VEVENT
DTSTART;TZID=Asia/Kolkata:20160703T000000
DTEND;TZID=Asia/Kolkata:20160703T000000
DTSTAMP:20260422T081804
CREATED:20250630T105838Z
LAST-MODIFIED:20250630T105838Z
UID:10001932-1467504000-1467504000@www.discoverhollywood.com
SUMMARY:An Evening with Peter Marshall
DESCRIPTION:DesignHTMLWords: 0   Characters: 0
URL:https://www.discoverhollywood.com/event/an-evening-with-peter-marshall-2/
LOCATION:Catalina’s Bar & Grill\, Select
END:VEVENT
BEGIN:VEVENT
DTSTART;TZID=Asia/Kolkata:20160126T000000
DTEND;TZID=Asia/Kolkata:20160126T000000
DTSTAMP:20260422T081804
CREATED:20250630T110037Z
LAST-MODIFIED:20250630T110037Z
UID:10001985-1453766400-1453766400@www.discoverhollywood.com
SUMMARY:Anat Cohen with Benny Green\, Peter Washington and Lewis Nash
DESCRIPTION:DesignHTMLWords: 0   Characters: 0
URL:https://www.discoverhollywood.com/event/anat-cohen-with-benny-green-peter-washington-and-lewis-nash-2/
LOCATION:Catalina’s Bar & Grill\, Select
END:VEVENT
BEGIN:VEVENT
DTSTART;TZID=Asia/Kolkata:20150920T000000
DTEND;TZID=Asia/Kolkata:20150920T000000
DTSTAMP:20260422T081804
CREATED:20250630T113435Z
LAST-MODIFIED:20250630T113435Z
UID:10002035-1442707200-1442707200@www.discoverhollywood.com
SUMMARY:Andy Garcia and Cineson All Star Band
DESCRIPTION:DesignHTMLWords: 0   Characters: 0
URL:https://www.discoverhollywood.com/event/andy-garcia-and-cineson-all-star-band/
LOCATION:Catalina’s Bar & Grill\, Select
END:VEVENT
BEGIN:VEVENT
DTSTART;TZID=Asia/Kolkata:20150604T000000
DTEND;TZID=Asia/Kolkata:20150604T000000
DTSTAMP:20260422T081804
CREATED:20250630T113706Z
LAST-MODIFIED:20250630T113706Z
UID:10002089-1433376000-1433376000@www.discoverhollywood.com
SUMMARY:Ann Hampton Callaway
DESCRIPTION:DesignHTMLWords: 0   Characters: 0
URL:https://www.discoverhollywood.com/event/ann-hampton-callaway/
LOCATION:Catalina’s Bar & Grill\, Select
END:VEVENT
BEGIN:VEVENT
DTSTART;TZID=Asia/Kolkata:20150101T000000
DTEND;TZID=Asia/Kolkata:20150101T000000
DTSTAMP:20260422T081804
CREATED:20250630T114106Z
LAST-MODIFIED:20250630T114106Z
UID:10002166-1420070400-1420070400@www.discoverhollywood.com
SUMMARY:Apollo
DESCRIPTION:DesignHTMLWords: 0   Characters: 0
URL:https://www.discoverhollywood.com/event/apollo/
LOCATION:Catalina’s Bar & Grill\, Select
END:VEVENT
BEGIN:VEVENT
DTSTART;TZID=Asia/Kolkata:20141013T000000
DTEND;TZID=Asia/Kolkata:20141013T000000
DTSTAMP:20260422T081804
CREATED:20250630T114305Z
LAST-MODIFIED:20250630T114305Z
UID:10002206-1413158400-1413158400@www.discoverhollywood.com
SUMMARY:Ariana Savalas and Kathy Zadora
DESCRIPTION:DesignHTMLWords: 0   Characters: 0
URL:https://www.discoverhollywood.com/event/ariana-savalas-and-kathy-zadora/
LOCATION:Catalina’s Bar & Grill\, Select
END:VEVENT
BEGIN:VEVENT
DTSTART;TZID=Asia/Kolkata:20140508T000000
DTEND;TZID=Asia/Kolkata:20140508T000000
DTSTAMP:20260422T081804
CREATED:20250630T114705Z
LAST-MODIFIED:20250630T114705Z
UID:10002285-1399507200-1399507200@www.discoverhollywood.com
SUMMARY:Ashley Faatoalia - CD Release Party!
DESCRIPTION:DesignHTMLWords: 0   Characters: 0
URL:https://www.discoverhollywood.com/event/ashley-faatoalia-cd-release-party/
LOCATION:Catalina’s Bar & Grill\, Select
END:VEVENT
BEGIN:VEVENT
DTSTART;TZID=Asia/Kolkata:20140426T000000
DTEND;TZID=Asia/Kolkata:20140426T000000
DTSTAMP:20260422T081804
CREATED:20250630T114720Z
LAST-MODIFIED:20250630T114720Z
UID:10002291-1398470400-1398470400@www.discoverhollywood.com
SUMMARY:ASMAC Holiday Show
DESCRIPTION:DesignHTMLWords: 0   Characters: 0
URL:https://www.discoverhollywood.com/event/asmac-holiday-show/
LOCATION:Catalina’s Bar & Grill\, Select
END:VEVENT
BEGIN:VEVENT
DTSTART;TZID=Asia/Kolkata:20131030T000000
DTEND;TZID=Asia/Kolkata:20131030T000000
DTSTAMP:20260422T081804
CREATED:20250630T120314Z
LAST-MODIFIED:20250630T120314Z
UID:10002380-1383091200-1383091200@www.discoverhollywood.com
SUMMARY:Babara Morrison and the Bu Crew
DESCRIPTION:DesignHTMLWords: 0   Characters: 0
URL:https://www.discoverhollywood.com/event/babara-morrison-and-the-bu-crew/
LOCATION:Catalina’s Bar & Grill\, Select
END:VEVENT
BEGIN:VEVENT
DTSTART;TZID=Asia/Kolkata:20131028T000000
DTEND;TZID=Asia/Kolkata:20131028T000000
DTSTAMP:20260422T081804
CREATED:20250630T120315Z
LAST-MODIFIED:20250630T120315Z
UID:10002381-1382918400-1382918400@www.discoverhollywood.com
SUMMARY:Babatunde LEA Quintet Feat: Ernie Watts\, Gary Brown\, Patrice Rushen and Dwight Trible
DESCRIPTION:DesignHTMLWords: 0   Characters: 0
URL:https://www.discoverhollywood.com/event/babatunde-lea-quintet-feat-ernie-watts-gary-brown-patrice-rushen-and-dwight-trible/
LOCATION:Catalina’s Bar & Grill\, Select
END:VEVENT
BEGIN:VEVENT
DTSTART;TZID=Asia/Kolkata:20130517T000000
DTEND;TZID=Asia/Kolkata:20130517T000000
DTSTAMP:20260422T081804
CREATED:20250630T120448Z
LAST-MODIFIED:20250630T120448Z
UID:10002463-1368748800-1368748800@www.discoverhollywood.com
SUMMARY:Barb Jungr
DESCRIPTION:DesignHTMLWords: 0   Characters: 0
URL:https://www.discoverhollywood.com/event/barb-jungr/
LOCATION:Catalina’s Bar & Grill\, Select
END:VEVENT
BEGIN:VEVENT
DTSTART;TZID=Asia/Kolkata:20130425T000000
DTEND;TZID=Asia/Kolkata:20130425T000000
DTSTAMP:20260422T081804
CREATED:20250630T120459Z
LAST-MODIFIED:20250630T120459Z
UID:10002474-1366848000-1366848000@www.discoverhollywood.com
SUMMARY:Barbara Morrison & the BMPAC All Stars Band
DESCRIPTION:DesignHTMLWords: 0   Characters: 0
URL:https://www.discoverhollywood.com/event/barbara-morrison-the-bmpac-all-stars-band/
LOCATION:Catalina’s Bar & Grill\, Select
END:VEVENT
BEGIN:VEVENT
DTSTART;TZID=Asia/Kolkata:20130423T000000
DTEND;TZID=Asia/Kolkata:20130423T000000
DTSTAMP:20260422T081804
CREATED:20250630T120503Z
LAST-MODIFIED:20250630T120503Z
UID:10002475-1366675200-1366675200@www.discoverhollywood.com
SUMMARY:Barbara Morrison Quartet
DESCRIPTION:DesignHTMLWords: 0   Characters: 0
URL:https://www.discoverhollywood.com/event/barbara-morrison-quartet/
LOCATION:Catalina’s Bar & Grill\, Select
END:VEVENT
BEGIN:VEVENT
DTSTART;TZID=Asia/Kolkata:20130415T000000
DTEND;TZID=Asia/Kolkata:20130415T000000
DTSTAMP:20260422T081804
CREATED:20250630T120504Z
LAST-MODIFIED:20250630T120504Z
UID:10002479-1365984000-1365984000@www.discoverhollywood.com
SUMMARY:Barbara Morrison\, featuring BMPAC All Star Big Band
DESCRIPTION:DesignHTMLWords: 0   Characters: 0
URL:https://www.discoverhollywood.com/event/barbara-morrison-featuring-bmpac-all-star-big-band/
LOCATION:Catalina’s Bar & Grill\, Select
END:VEVENT
BEGIN:VEVENT
DTSTART;TZID=Asia/Kolkata:20130411T000000
DTEND;TZID=Asia/Kolkata:20130411T000000
DTSTAMP:20260422T081804
CREATED:20250630T120505Z
LAST-MODIFIED:20250630T120505Z
UID:10002481-1365638400-1365638400@www.discoverhollywood.com
SUMMARY:Barbara Van Orden
DESCRIPTION:DesignHTMLWords: 0   Characters: 0
URL:https://www.discoverhollywood.com/event/barbara-van-orden/
LOCATION:Catalina’s Bar & Grill\, Select
END:VEVENT
BEGIN:VEVENT
DTSTART;TZID=Asia/Kolkata:20120210T000000
DTEND;TZID=Asia/Kolkata:20120210T000000
DTSTAMP:20260422T081804
CREATED:20250630T122746Z
LAST-MODIFIED:20250630T122746Z
UID:10002694-1328832000-1328832000@www.discoverhollywood.com
SUMMARY:Ben Vereen
DESCRIPTION:DesignHTMLWords: 0   Characters: 0
URL:https://www.discoverhollywood.com/event/ben-vereen/
LOCATION:Catalina’s Bar & Grill\, Select
END:VEVENT
BEGIN:VEVENT
DTSTART;TZID=Asia/Kolkata:20111114T000000
DTEND;TZID=Asia/Kolkata:20111114T000000
DTSTAMP:20260422T081804
CREATED:20250630T122912Z
LAST-MODIFIED:20250630T122912Z
UID:10002738-1321228800-1321228800@www.discoverhollywood.com
SUMMARY:Bethany Van Hofwegen
DESCRIPTION:DesignHTMLWords: 0   Characters: 0
URL:https://www.discoverhollywood.com/event/bethany-van-hofwegen/
LOCATION:Catalina’s Bar & Grill\, Select
END:VEVENT
BEGIN:VEVENT
DTSTART;TZID=Asia/Kolkata:20111102T000000
DTEND;TZID=Asia/Kolkata:20111102T000000
DTSTAMP:20260422T081804
CREATED:20250630T122927Z
LAST-MODIFIED:20250630T122927Z
UID:10002744-1320192000-1320192000@www.discoverhollywood.com
SUMMARY:Betty Bryant
DESCRIPTION:DesignHTMLWords: 0   Characters: 0
URL:https://www.discoverhollywood.com/event/betty-bryant/
LOCATION:Catalina’s Bar & Grill\, Select
END:VEVENT
BEGIN:VEVENT
DTSTART;TZID=Asia/Kolkata:20111005T000000
DTEND;TZID=Asia/Kolkata:20111005T000000
DTSTAMP:20260422T081804
CREATED:20250630T122944Z
LAST-MODIFIED:20250630T122944Z
UID:10002758-1317772800-1317772800@www.discoverhollywood.com
SUMMARY:Beverley Hogan
DESCRIPTION:DesignHTMLWords: 0   Characters: 0
URL:https://www.discoverhollywood.com/event/beverley-hogan/
LOCATION:Catalina’s Bar & Grill\, Select
END:VEVENT
END:VCALENDAR