BEGIN:VCALENDAR
VERSION:2.0
PRODID:-//Discover Hollywood Magazine - ECPv6.15.20//NONSGML v1.0//EN
CALSCALE:GREGORIAN
METHOD:PUBLISH
X-WR-CALNAME:Discover Hollywood Magazine
X-ORIGINAL-URL:https://www.discoverhollywood.com
X-WR-CALDESC:Events for Discover Hollywood Magazine
REFRESH-INTERVAL;VALUE=DURATION:PT1H
X-Robots-Tag:noindex
X-PUBLISHED-TTL:PT1H
BEGIN:VTIMEZONE
TZID:Asia/Kolkata
BEGIN:STANDARD
TZOFFSETFROM:+0530
TZOFFSETTO:+0530
TZNAME:IST
DTSTART:19790101T000000
END:STANDARD
END:VTIMEZONE
BEGIN:VEVENT
DTSTART;TZID=Asia/Kolkata:19880417T000000
DTEND;TZID=Asia/Kolkata:19880417T000000
DTSTAMP:20260424T030624
CREATED:20250710T094822Z
LAST-MODIFIED:20250710T094822Z
UID:10009079-577238400-577238400@www.discoverhollywood.com
SUMMARY:Melba Moore : Forever Moore
DESCRIPTION:%3cspan%3e%3cb%3eMelba Moore%3c/b%3e%3c/span%3e\n%3cspan%3eis a four-time Grammy Award nominee and the winner of the 1970 Tony Award for Best Performance by a Featured Actress in a Musical for her performance as Lutiebelle in %3ci%3ePurlie%3c/i%3e.%3c/span%3eDesignHTMLWords: 33   Characters: 184
URL:https://www.discoverhollywood.com/event/melba-moore-forever-moore/
LOCATION:Catalina’s Bar & Grill\, Select
END:VEVENT
BEGIN:VEVENT
DTSTART;TZID=Asia/Kolkata:19880411T000000
DTEND;TZID=Asia/Kolkata:19880411T000000
DTSTAMP:20260424T030625
CREATED:20250710T094833Z
LAST-MODIFIED:20250710T094833Z
UID:10009085-576720000-576720000@www.discoverhollywood.com
SUMMARY:Melissa Manchester
DESCRIPTION:DesignHTMLWords: 0   Characters: 0
URL:https://www.discoverhollywood.com/event/melissa-manchester/
LOCATION:Catalina’s Bar & Grill\, Select
END:VEVENT
BEGIN:VEVENT
DTSTART;TZID=Asia/Kolkata:19880331T000000
DTEND;TZID=Asia/Kolkata:19880331T000000
DTSTAMP:20260424T030625
CREATED:20250710T094942Z
LAST-MODIFIED:20250710T094942Z
UID:10009096-575769600-575769600@www.discoverhollywood.com
SUMMARY:Memorial Tribute to Jake Hanna
DESCRIPTION:DesignHTMLWords: 0   Characters: 0
URL:https://www.discoverhollywood.com/event/memorial-tribute-to-jake-hanna/
LOCATION:Catalina’s Bar & Grill\, Select
END:VEVENT
BEGIN:VEVENT
DTSTART;TZID=Asia/Kolkata:19871216T000000
DTEND;TZID=Asia/Kolkata:19871216T000000
DTSTAMP:20260424T030625
CREATED:20250710T095627Z
LAST-MODIFIED:20250710T095628Z
UID:10009202-566611200-566611200@www.discoverhollywood.com
SUMMARY:Michael Tinholme
DESCRIPTION:DesignHTMLWords: 0   Characters: 0
URL:https://www.discoverhollywood.com/event/michael-tinholme/
LOCATION:Catalina’s Bar & Grill\, Select
END:VEVENT
BEGIN:VEVENT
DTSTART;TZID=Asia/Kolkata:19871112T000000
DTEND;TZID=Asia/Kolkata:19871112T000000
DTSTAMP:20260424T030625
CREATED:20250710T095716Z
LAST-MODIFIED:20250710T095716Z
UID:10009236-563673600-563673600@www.discoverhollywood.com
SUMMARY:Mike Evans Big Band
DESCRIPTION:DesignHTMLWords: 0   Characters: 0
URL:https://www.discoverhollywood.com/event/mike-evans-big-band/
LOCATION:Catalina’s Bar & Grill\, Select
END:VEVENT
BEGIN:VEVENT
DTSTART;TZID=Asia/Kolkata:19871109T000000
DTEND;TZID=Asia/Kolkata:19871109T000000
DTSTAMP:20260424T030625
CREATED:20250710T095717Z
LAST-MODIFIED:20250710T095717Z
UID:10009239-563414400-563414400@www.discoverhollywood.com
SUMMARY:Mike Lang
DESCRIPTION:DesignHTMLWords: 0   Characters: 0
URL:https://www.discoverhollywood.com/event/mike-lang/
LOCATION:Catalina’s Bar & Grill\, Select
END:VEVENT
BEGIN:VEVENT
DTSTART;TZID=Asia/Kolkata:19871108T000000
DTEND;TZID=Asia/Kolkata:19871108T000000
DTSTAMP:20260424T030625
CREATED:20250710T095717Z
LAST-MODIFIED:20250710T095717Z
UID:10009240-563328000-563328000@www.discoverhollywood.com
SUMMARY:Mike Lang Trio
DESCRIPTION:DesignHTMLWords: 0   Characters: 0
URL:https://www.discoverhollywood.com/event/mike-lang-trio/
LOCATION:Catalina’s Bar & Grill\, Select
END:VEVENT
BEGIN:VEVENT
DTSTART;TZID=Asia/Kolkata:19871102T000000
DTEND;TZID=Asia/Kolkata:19871102T000000
DTSTAMP:20260424T030625
CREATED:20250710T095733Z
LAST-MODIFIED:20250710T095733Z
UID:10009246-562809600-562809600@www.discoverhollywood.com
SUMMARY:Mike Stern
DESCRIPTION:%3ca href%3d%22http%3a//catalinajazzclub.com/calendar.htm%22%3ehttp%3a//catalinajazzclub.com/calendar.htm%3c/a%3eDesignHTMLWords: 1   Characters: 37
URL:https://www.discoverhollywood.com/event/mike-stern/
LOCATION:Catalina’s Bar & Grill\, Select
END:VEVENT
BEGIN:VEVENT
DTSTART;TZID=Asia/Kolkata:19871011T000000
DTEND;TZID=Asia/Kolkata:19871011T000000
DTSTAMP:20260424T030625
CREATED:20250710T095819Z
LAST-MODIFIED:20250710T095819Z
UID:10009268-560908800-560908800@www.discoverhollywood.com
SUMMARY:Miles Evans
DESCRIPTION:DesignHTMLWords: 0   Characters: 0
URL:https://www.discoverhollywood.com/event/miles-evans/
LOCATION:Catalina’s Bar & Grill\, Select
END:VEVENT
BEGIN:VEVENT
DTSTART;TZID=Asia/Kolkata:19871009T000000
DTEND;TZID=Asia/Kolkata:19871009T000000
DTSTAMP:20260424T030625
CREATED:20250710T095819Z
LAST-MODIFIED:20250710T095819Z
UID:10009270-560736000-560736000@www.discoverhollywood.com
SUMMARY:Miles Evans Band feat: Miles Evans\, Darryl JOnes\, Mitch Forman\, Doug Webb and Bernie Dresel
DESCRIPTION:DesignHTMLWords: 0   Characters: 0
URL:https://www.discoverhollywood.com/event/miles-evans-band-feat-miles-evans-darryl-jones-mitch-forman-doug-webb-and-bernie-dresel/
LOCATION:Catalina’s Bar & Grill\, Select
END:VEVENT
BEGIN:VEVENT
DTSTART;TZID=Asia/Kolkata:19871008T000000
DTEND;TZID=Asia/Kolkata:19871008T000000
DTSTAMP:20260424T030625
CREATED:20250710T095819Z
LAST-MODIFIED:20250710T095819Z
UID:10009271-560649600-560649600@www.discoverhollywood.com
SUMMARY:Miles Evans Orchestra
DESCRIPTION:DesignHTMLWords: 0   Characters: 0
URL:https://www.discoverhollywood.com/event/miles-evans-orchestra/
LOCATION:Catalina’s Bar & Grill\, Select
END:VEVENT
BEGIN:VEVENT
DTSTART;TZID=Asia/Kolkata:19870601T000000
DTEND;TZID=Asia/Kolkata:19870601T000000
DTSTAMP:20260424T030625
CREATED:20250710T101516Z
LAST-MODIFIED:20250710T101516Z
UID:10009400-549504000-549504000@www.discoverhollywood.com
SUMMARY:Monica Mancini
DESCRIPTION:DesignHTMLWords: 0   Characters: 0
URL:https://www.discoverhollywood.com/event/monica-mancini/
LOCATION:Catalina’s Bar & Grill\, Select
END:VEVENT
BEGIN:VEVENT
DTSTART;TZID=Asia/Kolkata:19860918T000000
DTEND;TZID=Asia/Kolkata:19860918T000000
DTSTAMP:20260424T030625
CREATED:20250710T115452Z
LAST-MODIFIED:20250710T115452Z
UID:10009656-527385600-527385600@www.discoverhollywood.com
SUMMARY:Nancy Osborne
DESCRIPTION:DesignHTMLWords: 0   Characters: 0
URL:https://www.discoverhollywood.com/event/nancy-osborne/
LOCATION:Catalina’s Bar & Grill\, Select
END:VEVENT
BEGIN:VEVENT
DTSTART;TZID=Asia/Kolkata:19860913T000000
DTEND;TZID=Asia/Kolkata:19860913T000000
DTSTAMP:20260424T030625
CREATED:20250710T115512Z
LAST-MODIFIED:20250710T115512Z
UID:10009661-526953600-526953600@www.discoverhollywood.com
SUMMARY:Nat Adderley\, Jr. and Longineu Parsons
DESCRIPTION:DesignHTMLWords: 0   Characters: 0
URL:https://www.discoverhollywood.com/event/nat-adderley-jr-and-longineu-parsons/
LOCATION:Catalina’s Bar & Grill\, Select
END:VEVENT
BEGIN:VEVENT
DTSTART;TZID=Asia/Kolkata:19860301T000000
DTEND;TZID=Asia/Kolkata:19860301T000000
DTSTAMP:20260424T030625
CREATED:20250710T120905Z
LAST-MODIFIED:20250710T120905Z
UID:10009857-510019200-510019200@www.discoverhollywood.com
SUMMARY:Nick Mundy
DESCRIPTION:DesignHTMLWords: 0   Characters: 0
URL:https://www.discoverhollywood.com/event/nick-mundy/
LOCATION:Catalina’s Bar & Grill\, Select
END:VEVENT
BEGIN:VEVENT
DTSTART;TZID=Asia/Kolkata:19851021T000000
DTEND;TZID=Asia/Kolkata:19851021T000000
DTSTAMP:20260424T030625
CREATED:20250710T121714Z
LAST-MODIFIED:20250716T063501Z
UID:10009988-498700800-498700800@www.discoverhollywood.com
SUMMARY:Nuhjume
DESCRIPTION:%3cbr%3eDesignHTMLWords: 0   Characters: 0
URL:https://www.discoverhollywood.com/event/nuhjume/
LOCATION:Catalina’s Bar & Grill\, Select
END:VEVENT
BEGIN:VEVENT
DTSTART;TZID=Asia/Kolkata:19850222T000000
DTEND;TZID=Asia/Kolkata:19850222T000000
DTSTAMP:20260424T030625
CREATED:20250710T123418Z
LAST-MODIFIED:20250710T123418Z
UID:10010229-477878400-477878400@www.discoverhollywood.com
SUMMARY:Ottmar Liebert & Luna Negra
DESCRIPTION:DesignHTMLWords: 0   Characters: 0
URL:https://www.discoverhollywood.com/event/ottmar-liebert-luna-negra/
LOCATION:Catalina’s Bar & Grill\, Select
END:VEVENT
BEGIN:VEVENT
DTSTART;TZID=Asia/Kolkata:19830728T000000
DTEND;TZID=Asia/Kolkata:19830728T000000
DTSTAMP:20260424T030625
CREATED:20250714T092704Z
LAST-MODIFIED:20250714T092704Z
UID:10010374-428198400-428198400@www.discoverhollywood.com
SUMMARY:Pianist Anthony Lucca
DESCRIPTION:DesignHTMLWords: 0   Characters: 0
URL:https://www.discoverhollywood.com/event/pianist-anthony-lucca/
LOCATION:Catalina’s Bar & Grill\, Select
END:VEVENT
BEGIN:VEVENT
DTSTART;TZID=Asia/Kolkata:19821001T000000
DTEND;TZID=Asia/Kolkata:19821001T000000
DTSTAMP:20260424T030625
CREATED:20250714T093709Z
LAST-MODIFIED:20250714T093709Z
UID:10010674-402278400-402278400@www.discoverhollywood.com
SUMMARY:Quiet Nights: An Evening of Romance
DESCRIPTION:DesignHTMLWords: 0   Characters: 0
URL:https://www.discoverhollywood.com/event/quiet-nights-an-evening-of-romance/
LOCATION:Catalina’s Bar & Grill\, Select
END:VEVENT
BEGIN:VEVENT
DTSTART;TZID=Asia/Kolkata:19820910T000000
DTEND;TZID=Asia/Kolkata:19820910T000000
DTSTAMP:20260424T030625
CREATED:20250714T093800Z
LAST-MODIFIED:20250714T093800Z
UID:10010695-400464000-400464000@www.discoverhollywood.com
SUMMARY:Rachael McFarlane CD Release
DESCRIPTION:DesignHTMLWords: 0   Characters: 0
URL:https://www.discoverhollywood.com/event/rachael-mcfarlane-cd-release/
LOCATION:Catalina’s Bar & Grill\, Select
END:VEVENT
BEGIN:VEVENT
DTSTART;TZID=Asia/Kolkata:19820903T000000
DTEND;TZID=Asia/Kolkata:19820903T000000
DTSTAMP:20260424T030625
CREATED:20250714T093819Z
LAST-MODIFIED:20250714T093819Z
UID:10010702-399859200-399859200@www.discoverhollywood.com
SUMMARY:Rachelle Ferrell
DESCRIPTION:Rachelle Ferrell is unquestionably one of the most dynamic talents in contemporary pop music. Very few vocal artists in the industry have Ferrell’s potent combination of range%2c phrasing%2c and musicianship. Ferrell first emerged in the states with her R%26amp%3bB debut Rachelle Ferrell %281992%29%2c a solid collection of self-penned originals that featured a striking duet with Will Downing %28‘Nothing Has Ever Felt Like This’%29.\n%3cbr%3eDesignHTMLWords: 63   Characters: 401
URL:https://www.discoverhollywood.com/event/rachelle-ferrell/
LOCATION:Catalina’s Bar & Grill\, Select
END:VEVENT
BEGIN:VEVENT
DTSTART;TZID=Asia/Kolkata:19820627T000000
DTEND;TZID=Asia/Kolkata:19820627T000000
DTSTAMP:20260424T030625
CREATED:20250714T094128Z
LAST-MODIFIED:20250714T094128Z
UID:10010770-393984000-393984000@www.discoverhollywood.com
SUMMARY:Ravi Coltrane Quartet
DESCRIPTION:DesignHTMLWords: 0   Characters: 0
URL:https://www.discoverhollywood.com/event/ravi-coltrane-quartet-2/
LOCATION:Catalina’s Bar & Grill\, Select
END:VEVENT
BEGIN:VEVENT
DTSTART;TZID=Asia/Kolkata:19820228T000000
DTEND;TZID=Asia/Kolkata:19820228T000000
DTSTAMP:20260424T030625
CREATED:20250714T094617Z
LAST-MODIFIED:20250714T094617Z
UID:10010889-383702400-383702400@www.discoverhollywood.com
SUMMARY:Renee Marie
DESCRIPTION:DesignHTMLWords: 0   Characters: 0
URL:https://www.discoverhollywood.com/event/renee-marie/
LOCATION:Catalina’s Bar & Grill\, Select
END:VEVENT
BEGIN:VEVENT
DTSTART;TZID=Asia/Kolkata:19811211T000000
DTEND;TZID=Asia/Kolkata:19811211T000000
DTSTAMP:20260424T030625
CREATED:20250714T100112Z
LAST-MODIFIED:20250714T100112Z
UID:10010968-376876800-376876800@www.discoverhollywood.com
SUMMARY:Richard Shelton: Sinatra and Me
DESCRIPTION:%3cp%3eMy show%2c %27Sinatra and Me%27 looks at the incredible synchronicity between our lives%2c and was a sell-out at the International Edinburgh Arts Festival – and extended by a week due to popular demand%21 I also produced and performed a show with Sinatra%27s band mates in %27A Very Good Year%27 in San Diego.%3c/p%3eDesignHTMLWords: 51   Characters: 282
URL:https://www.discoverhollywood.com/event/richard-shelton-sinatra-and-me/
LOCATION:Catalina’s Bar & Grill\, Select
END:VEVENT
BEGIN:VEVENT
DTSTART;TZID=Asia/Kolkata:19811027T000000
DTEND;TZID=Asia/Kolkata:19811027T000000
DTSTAMP:20260424T030625
CREATED:20250714T100412Z
LAST-MODIFIED:20250714T100412Z
UID:10011013-372988800-372988800@www.discoverhollywood.com
SUMMARY:Rita Moreno
DESCRIPTION:DesignHTMLWords: 0   Characters: 0
URL:https://www.discoverhollywood.com/event/rita-moreno/
LOCATION:Catalina’s Bar & Grill\, Select
END:VEVENT
BEGIN:VEVENT
DTSTART;TZID=Asia/Kolkata:19810922T000000
DTEND;TZID=Asia/Kolkata:19810922T000000
DTSTAMP:20260424T030625
CREATED:20250714T100855Z
LAST-MODIFIED:20250714T100855Z
UID:10011048-369964800-369964800@www.discoverhollywood.com
SUMMARY:Robert Ford / Roger Kellaway band
DESCRIPTION:Featuring%3a Anne Kerry Ford%21DesignHTMLWords: 4   Characters: 25
URL:https://www.discoverhollywood.com/event/robert-ford-roger-kellaway-band/
LOCATION:Catalina’s Bar & Grill\, Select
END:VEVENT
BEGIN:VEVENT
DTSTART;TZID=Asia/Kolkata:19810218T000000
DTEND;TZID=Asia/Kolkata:19810218T000000
DTSTAMP:20260424T030625
CREATED:20250714T102807Z
LAST-MODIFIED:20250714T102807Z
UID:10011064-351302400-351302400@www.discoverhollywood.com
SUMMARY:Roberta Gambarini
DESCRIPTION:DesignHTMLWords: 0   Characters: 0
URL:https://www.discoverhollywood.com/event/roberta-gambarini/
LOCATION:Catalina’s Bar & Grill\, Select
END:VEVENT
BEGIN:VEVENT
DTSTART;TZID=Asia/Kolkata:19801105T000000
DTEND;TZID=Asia/Kolkata:19801105T000000
DTSTAMP:20260424T030625
CREATED:20250714T103303Z
LAST-MODIFIED:20250714T103303Z
UID:10011169-342230400-342230400@www.discoverhollywood.com
SUMMARY:Ron Jones and the Influence Jazz Orchestra
DESCRIPTION:DesignHTMLWords: 0   Characters: 0
URL:https://www.discoverhollywood.com/event/ron-jones-and-the-influence-jazz-orchestra/
LOCATION:Catalina’s Bar & Grill\, Select
END:VEVENT
BEGIN:VEVENT
DTSTART;TZID=Asia/Kolkata:19801031T000000
DTEND;TZID=Asia/Kolkata:19801031T000000
DTSTAMP:20260424T030625
CREATED:20250714T103304Z
LAST-MODIFIED:20250714T103304Z
UID:10011174-341798400-341798400@www.discoverhollywood.com
SUMMARY:Rondi Charleston
DESCRIPTION:DesignHTMLWords: 0   Characters: 0
URL:https://www.discoverhollywood.com/event/rondi-charleston/
LOCATION:Catalina’s Bar & Grill\, Select
END:VEVENT
BEGIN:VEVENT
DTSTART;TZID=Asia/Kolkata:19800307T000000
DTEND;TZID=Asia/Kolkata:19800307T000000
DTSTAMP:20260424T030625
CREATED:20250714T113242Z
LAST-MODIFIED:20250714T113242Z
UID:10011412-321235200-321235200@www.discoverhollywood.com
SUMMARY:Roslyn Kind
DESCRIPTION:DesignHTMLWords: 0   Characters: 0
URL:https://www.discoverhollywood.com/event/roslyn-kind/
LOCATION:Catalina’s Bar & Grill\, Select
END:VEVENT
END:VCALENDAR