BEGIN:VCALENDAR
VERSION:2.0
PRODID:-//Discover Hollywood Magazine - ECPv6.15.20//NONSGML v1.0//EN
CALSCALE:GREGORIAN
METHOD:PUBLISH
X-WR-CALNAME:Discover Hollywood Magazine
X-ORIGINAL-URL:https://www.discoverhollywood.com
X-WR-CALDESC:Events for Discover Hollywood Magazine
REFRESH-INTERVAL;VALUE=DURATION:PT1H
X-Robots-Tag:noindex
X-PUBLISHED-TTL:PT1H

BEGIN:VEVENT
DTSTART;TZID=Asia/Kolkata:19781228T000000
DTEND;TZID=Asia/Kolkata:19781228T000000
DTSTAMP:20260424T080509
CREATED:20250714T122146Z
LAST-MODIFIED:20250714T122146Z
UID:10012025-283651200-283651200@www.discoverhollywood.com
SUMMARY:Simone
DESCRIPTION:DesignHTMLWords: 0   Characters: 0
URL:https://www.discoverhollywood.com/event/simone/
LOCATION:Catalina’s Bar & Grill\, Select
END:VEVENT
BEGIN:VEVENT
DTSTART;TZID=Asia/Kolkata:19780417T000000
DTEND;TZID=Asia/Kolkata:19780417T000000
DTSTAMP:20260424T080509
CREATED:20250715T080747Z
LAST-MODIFIED:20250715T080747Z
UID:10012281-261619200-261619200@www.discoverhollywood.com
SUMMARY:Songs For Isabella
DESCRIPTION:DesignHTMLWords: 0   Characters: 0
URL:https://www.discoverhollywood.com/event/songs-for-isabella/
LOCATION:Catalina’s Bar & Grill\, Select
END:VEVENT
BEGIN:VEVENT
DTSTART;TZID=Asia/Kolkata:19780409T000000
DTEND;TZID=Asia/Kolkata:19780409T000000
DTSTAMP:20260424T080509
CREATED:20250715T081149Z
LAST-MODIFIED:20250715T081149Z
UID:10012289-260928000-260928000@www.discoverhollywood.com
SUMMARY:Sons of Etta\, Tribute to Etta James
DESCRIPTION:Featuring%3a Jimmy Z%2c Thelma Jones and Donto JamesDesignHTMLWords: 8   Characters: 46
URL:https://www.discoverhollywood.com/event/sons-of-etta-tribute-to-etta-james/
LOCATION:Catalina’s Bar & Grill\, Select
END:VEVENT
BEGIN:VEVENT
DTSTART;TZID=Asia/Kolkata:19780404T000000
DTEND;TZID=Asia/Kolkata:19780404T000000
DTSTAMP:20260424T080509
CREATED:20250715T081351Z
LAST-MODIFIED:20250715T081351Z
UID:10012294-260496000-260496000@www.discoverhollywood.com
SUMMARY:Sophie Milman
DESCRIPTION:DesignHTMLWords: 0   Characters: 0
URL:https://www.discoverhollywood.com/event/sophie-milman/
LOCATION:Catalina’s Bar & Grill\, Select
END:VEVENT
BEGIN:VEVENT
DTSTART;TZID=Asia/Kolkata:19771127T000000
DTEND;TZID=Asia/Kolkata:19771127T000000
DTSTAMP:20260424T080509
CREATED:20250715T090415Z
LAST-MODIFIED:20250715T090415Z
UID:10012422-249436800-249436800@www.discoverhollywood.com
SUMMARY:Stanley Clarke
DESCRIPTION:DesignHTMLWords: 0   Characters: 0
URL:https://www.discoverhollywood.com/event/stanley-clarke/
LOCATION:Catalina’s Bar & Grill\, Select
END:VEVENT
BEGIN:VEVENT
DTSTART;TZID=Asia/Kolkata:19771126T000000
DTEND;TZID=Asia/Kolkata:19771126T000000
DTSTAMP:20260424T080509
CREATED:20250715T090415Z
LAST-MODIFIED:20250715T090415Z
UID:10012423-249350400-249350400@www.discoverhollywood.com
SUMMARY:Stanley Clarke
DESCRIPTION:DesignHTMLWords: 0   Characters: 0
URL:https://www.discoverhollywood.com/event/stanley-clarke-2/
LOCATION:Catalina’s Bar & Grill\, Select
END:VEVENT
BEGIN:VEVENT
DTSTART;TZID=Asia/Kolkata:19771122T000000
DTEND;TZID=Asia/Kolkata:19771122T000000
DTSTAMP:20260424T080509
CREATED:20250715T090552Z
LAST-MODIFIED:20250715T090553Z
UID:10012427-249004800-249004800@www.discoverhollywood.com
SUMMARY:Stanly Clark
DESCRIPTION:DesignHTMLWords: 0   Characters: 0
URL:https://www.discoverhollywood.com/event/stanly-clark/
LOCATION:Catalina’s Bar & Grill\, Select
END:VEVENT
BEGIN:VEVENT
DTSTART;TZID=Asia/Kolkata:19770818T000000
DTEND;TZID=Asia/Kolkata:19770818T000000
DTSTAMP:20260424T080509
CREATED:20250715T090813Z
LAST-MODIFIED:20250715T090813Z
UID:10012523-240710400-240710400@www.discoverhollywood.com
SUMMARY:Steve Smith\, George Brooks\, Prasanna - Raga Bop Trio!
DESCRIPTION:DesignHTMLWords: 0   Characters: 0
URL:https://www.discoverhollywood.com/event/steve-smith-george-brooks-prasanna-raga-bop-trio/
LOCATION:Catalina’s Bar & Grill\, Select
END:VEVENT
BEGIN:VEVENT
DTSTART;TZID=Asia/Kolkata:19770602T000000
DTEND;TZID=Asia/Kolkata:19770602T000000
DTSTAMP:20260424T080509
CREATED:20250715T092522Z
LAST-MODIFIED:20250715T092522Z
UID:10012600-234057600-234057600@www.discoverhollywood.com
SUMMARY:Streetcorner Renaissance
DESCRIPTION:DesignHTMLWords: 0   Characters: 0
URL:https://www.discoverhollywood.com/event/streetcorner-renaissance/
LOCATION:Catalina’s Bar & Grill\, Select
END:VEVENT
BEGIN:VEVENT
DTSTART;TZID=Asia/Kolkata:19770526T000000
DTEND;TZID=Asia/Kolkata:19770526T000000
DTSTAMP:20260424T080509
CREATED:20250715T092532Z
LAST-MODIFIED:20250715T092532Z
UID:10012607-233452800-233452800@www.discoverhollywood.com
SUMMARY:Struntz and Farah
DESCRIPTION:DesignHTMLWords: 0   Characters: 0
URL:https://www.discoverhollywood.com/event/struntz-and-farah/
LOCATION:Catalina’s Bar & Grill\, Select
END:VEVENT
BEGIN:VEVENT
DTSTART;TZID=Asia/Kolkata:19761101T000000
DTEND;TZID=Asia/Kolkata:19761101T000000
DTSTAMP:20260424T080509
CREATED:20250715T093657Z
LAST-MODIFIED:20250715T093657Z
UID:10012813-215654400-215654400@www.discoverhollywood.com
SUMMARY:Sylvia Brooks
DESCRIPTION:DesignHTMLWords: 0   Characters: 0
URL:https://www.discoverhollywood.com/event/sylvia-brooks/
LOCATION:Catalina’s Bar & Grill\, Select
END:VEVENT
BEGIN:VEVENT
DTSTART;TZID=Asia/Kolkata:19760913T000000
DTEND;TZID=Asia/Kolkata:19760913T000000
DTSTAMP:20260424T080509
CREATED:20250715T105044Z
LAST-MODIFIED:20250715T105044Z
UID:10012862-211420800-211420800@www.discoverhollywood.com
SUMMARY:Tamela D'Amico
DESCRIPTION:DesignHTMLWords: 0   Characters: 0
URL:https://www.discoverhollywood.com/event/tamela-damico/
LOCATION:Catalina’s Bar & Grill\, Select
END:VEVENT
BEGIN:VEVENT
DTSTART;TZID=Asia/Kolkata:19760912T000000
DTEND;TZID=Asia/Kolkata:19760912T000000
DTSTAMP:20260424T080509
CREATED:20250715T105044Z
LAST-MODIFIED:20250715T105044Z
UID:10012863-211334400-211334400@www.discoverhollywood.com
SUMMARY:Tamela D'Amico with The Pat Longo Hollywood Big Band
DESCRIPTION:DesignHTMLWords: 0   Characters: 0
URL:https://www.discoverhollywood.com/event/tamela-damico-with-the-pat-longo-hollywood-big-band/
LOCATION:Catalina’s Bar & Grill\, Select
END:VEVENT
BEGIN:VEVENT
DTSTART;TZID=Asia/Kolkata:19760910T000000
DTEND;TZID=Asia/Kolkata:19760910T000000
DTSTAMP:20260424T080509
CREATED:20250715T105046Z
LAST-MODIFIED:20250715T105047Z
UID:10012865-211161600-211161600@www.discoverhollywood.com
SUMMARY:Tamir Hendelman
DESCRIPTION:DesignHTMLWords: 0   Characters: 0
URL:https://www.discoverhollywood.com/event/tamir-hendelman/
LOCATION:Catalina’s Bar & Grill\, Select
END:VEVENT
BEGIN:VEVENT
DTSTART;TZID=Asia/Kolkata:19760707T000000
DTEND;TZID=Asia/Kolkata:19760707T000000
DTSTAMP:20260424T080509
CREATED:20250715T105244Z
LAST-MODIFIED:20250715T105244Z
UID:10012930-205545600-205545600@www.discoverhollywood.com
SUMMARY:Teira Church
DESCRIPTION:DesignHTMLWords: 0   Characters: 0
URL:https://www.discoverhollywood.com/event/teira-church/
LOCATION:Catalina’s Bar & Grill\, Select
END:VEVENT
BEGIN:VEVENT
DTSTART;TZID=Asia/Kolkata:19760614T000000
DTEND;TZID=Asia/Kolkata:19760614T000000
DTSTAMP:20260424T080509
CREATED:20250715T105647Z
LAST-MODIFIED:20250715T105647Z
UID:10012953-203558400-203558400@www.discoverhollywood.com
SUMMARY:Terence Blanchard Quintet
DESCRIPTION:DesignHTMLWords: 0   Characters: 0
URL:https://www.discoverhollywood.com/event/terence-blanchard-quintet/
LOCATION:Catalina’s Bar & Grill\, Select
END:VEVENT
BEGIN:VEVENT
DTSTART;TZID=Asia/Kolkata:19760613T000000
DTEND;TZID=Asia/Kolkata:19760613T000000
DTSTAMP:20260424T080509
CREATED:20250715T105805Z
LAST-MODIFIED:20250715T105805Z
UID:10012954-203472000-203472000@www.discoverhollywood.com
SUMMARY:Terence Blanchard Quintet
DESCRIPTION:DesignHTMLWords: 0   Characters: 0
URL:https://www.discoverhollywood.com/event/terence-blanchard-quintet-2/
LOCATION:Catalina’s Bar & Grill\, Select
END:VEVENT
BEGIN:VEVENT
DTSTART;TZID=Asia/Kolkata:19741119T000000
DTEND;TZID=Asia/Kolkata:19741119T000000
DTSTAMP:20260424T080509
CREATED:20250715T120421Z
LAST-MODIFIED:20250715T120421Z
UID:10013341-154051200-154051200@www.discoverhollywood.com
SUMMARY:The Frank Fontaine Quartet
DESCRIPTION:Featuring%3a John Beasley%2c Ric Fierabracci and Raul PinedaDesignHTMLWords: 8   Characters: 54
URL:https://www.discoverhollywood.com/event/the-frank-fontaine-quartet/
LOCATION:Catalina’s Bar & Grill\, Select
END:VEVENT
BEGIN:VEVENT
DTSTART;TZID=Asia/Kolkata:19740709T000000
DTEND;TZID=Asia/Kolkata:19740709T000000
DTSTAMP:20260424T080509
CREATED:20250715T121821Z
LAST-MODIFIED:20250715T121821Z
UID:10013474-142560000-142560000@www.discoverhollywood.com
SUMMARY:The Higher Keys A' cappella
DESCRIPTION:DesignHTMLWords: 0   Characters: 0
URL:https://www.discoverhollywood.com/event/the-higher-keys-a-cappella/
LOCATION:Catalina’s Bar & Grill\, Select
END:VEVENT
BEGIN:VEVENT
DTSTART;TZID=Asia/Kolkata:19731015T000000
DTEND;TZID=Asia/Kolkata:19731015T000000
DTSTAMP:20260424T080509
CREATED:20250715T125038Z
LAST-MODIFIED:20250715T125038Z
UID:10013741-119491200-119491200@www.discoverhollywood.com
SUMMARY:The Miles Evans Band
DESCRIPTION:%3cspan color%3d%22%23ffcc66%22%3eThis will be our third appearance at Catalina Jazz Club and we want to thank all of you that have attended our previous shows.%26nbsp%3b We have added a new dimension to our look and sound%3b the lovely Tina Guo will be joining us on electric cello%2c Andrew Synowiec on guitar%2c and Bob Sheppard back with us on sax. In keeping with our progressive jazz fusion format%2c we have added new tunes to our playlist%2c including arrangements of %3cspan%3eJimi Hendrix%2c The Rolling Stones and Crosby%2c Stills andDesignHTMLWords: 86   Characters: 469
URL:https://www.discoverhollywood.com/event/the-miles-evans-band/
LOCATION:Catalina’s Bar & Grill\, Select
END:VEVENT
BEGIN:VEVENT
DTSTART;TZID=Asia/Kolkata:19730713T000000
DTEND;TZID=Asia/Kolkata:19730713T000000
DTSTAMP:20260424T080509
CREATED:20250715T125308Z
LAST-MODIFIED:20250715T125308Z
UID:10013835-111369600-111369600@www.discoverhollywood.com
SUMMARY:The Note Factory Collective
DESCRIPTION:DesignHTMLWords: 0   Characters: 0
URL:https://www.discoverhollywood.com/event/the-note-factory-collective/
LOCATION:Catalina’s Bar & Grill\, Select
END:VEVENT
BEGIN:VEVENT
DTSTART;TZID=Asia/Kolkata:19730626T000000
DTEND;TZID=Asia/Kolkata:19730626T000000
DTSTAMP:20260424T080509
CREATED:20250715T125353Z
LAST-MODIFIED:20250715T125353Z
UID:10013852-109900800-109900800@www.discoverhollywood.com
SUMMARY:The Orchestre Surrea'l
DESCRIPTION:DesignHTMLWords: 0   Characters: 0
URL:https://www.discoverhollywood.com/event/the-orchestre-surreal/
LOCATION:Catalina’s Bar & Grill\, Select
END:VEVENT
BEGIN:VEVENT
DTSTART;TZID=Asia/Kolkata:19720226T000000
DTEND;TZID=Asia/Kolkata:19720226T000000
DTSTAMP:20260424T080509
CREATED:20250716T060823Z
LAST-MODIFIED:20250716T060823Z
UID:10014338-67910400-67910400@www.discoverhollywood.com
SUMMARY:The York Quartet with Chris Bennett
DESCRIPTION:%3cbr%3eDesignHTMLWords: 0   Characters: 0
URL:https://www.discoverhollywood.com/event/the-york-quartet-with-chris-bennett/
LOCATION:Catalina’s Bar & Grill\, Select
END:VEVENT
BEGIN:VEVENT
DTSTART;TZID=Asia/Kolkata:19720224T000000
DTEND;TZID=Asia/Kolkata:19720224T000000
DTSTAMP:20260424T080509
CREATED:20250716T060838Z
LAST-MODIFIED:20250716T060838Z
UID:10014340-67737600-67737600@www.discoverhollywood.com
SUMMARY:The Young Artist Jazz Series presents: Javier Nero
DESCRIPTION:DesignHTMLWords: 0   Characters: 0
URL:https://www.discoverhollywood.com/event/the-young-artist-jazz-series-presents-javier-nero/
LOCATION:Catalina’s Bar & Grill\, Select
END:VEVENT
BEGIN:VEVENT
DTSTART;TZID=Asia/Kolkata:19711110T000000
DTEND;TZID=Asia/Kolkata:19711110T000000
DTSTAMP:20260424T080509
CREATED:20250716T061629Z
LAST-MODIFIED:20250716T061629Z
UID:10014446-58579200-58579200@www.discoverhollywood.com
SUMMARY:Thurman Green Scholarship Jazz Festival
DESCRIPTION:DesignHTMLWords: 0   Characters: 0
URL:https://www.discoverhollywood.com/event/thurman-green-scholarship-jazz-festival/
LOCATION:Catalina’s Bar & Grill\, Select
END:VEVENT
BEGIN:VEVENT
DTSTART;TZID=Asia/Kolkata:19711103T000000
DTEND;TZID=Asia/Kolkata:19711103T000000
DTSTAMP:20260424T080509
CREATED:20250716T061641Z
LAST-MODIFIED:20250716T061641Z
UID:10014453-57974400-57974400@www.discoverhollywood.com
SUMMARY:Tia Fuller
DESCRIPTION:DesignHTMLWords: 0   Characters: 0
URL:https://www.discoverhollywood.com/event/tia-fuller/
LOCATION:Catalina’s Bar & Grill\, Select
END:VEVENT
BEGIN:VEVENT
DTSTART;TZID=Asia/Kolkata:19711028T000000
DTEND;TZID=Asia/Kolkata:19711028T000000
DTSTAMP:20260424T080509
CREATED:20250716T061710Z
LAST-MODIFIED:20250716T061710Z
UID:10014459-57456000-57456000@www.discoverhollywood.com
SUMMARY:TidalWave Summer Explosion
DESCRIPTION:DesignHTMLWords: 0   Characters: 0
URL:https://www.discoverhollywood.com/event/tidalwave-summer-explosion/
LOCATION:Catalina’s Bar & Grill\, Select
END:VEVENT
BEGIN:VEVENT
DTSTART;TZID=Asia/Kolkata:19710726T000000
DTEND;TZID=Asia/Kolkata:19710726T000000
DTSTAMP:20260424T080509
CREATED:20250716T065652Z
LAST-MODIFIED:20250716T065652Z
UID:10014533-49334400-49334400@www.discoverhollywood.com
SUMMARY:Todd Murray
DESCRIPTION:DesignHTMLWords: 0   Characters: 0
URL:https://www.discoverhollywood.com/event/todd-murray/
LOCATION:Catalina’s Bar & Grill\, Select
END:VEVENT
BEGIN:VEVENT
DTSTART;TZID=Asia/Kolkata:19710608T000000
DTEND;TZID=Asia/Kolkata:19710608T000000
DTSTAMP:20260424T080509
CREATED:20250716T065943Z
LAST-MODIFIED:20250716T065943Z
UID:10014581-45187200-45187200@www.discoverhollywood.com
SUMMARY:Tony Russell\, singer/actor/entertainer
DESCRIPTION:DesignHTMLWords: 0   Characters: 0
URL:https://www.discoverhollywood.com/event/tony-russell-singer-actor-entertainer/
LOCATION:Catalina’s Bar & Grill\, Select
END:VEVENT
BEGIN:VEVENT
DTSTART;TZID=Asia/Kolkata:19710303T000000
DTEND;TZID=Asia/Kolkata:19710303T000000
DTSTAMP:20260424T080509
CREATED:20250716T070709Z
LAST-MODIFIED:20250716T070709Z
UID:10014678-36806400-36806400@www.discoverhollywood.com
SUMMARY:Travis Roger
DESCRIPTION:DesignHTMLWords: 0   Characters: 0
URL:https://www.discoverhollywood.com/event/travis-roger/
LOCATION:Catalina’s Bar & Grill\, Select
END:VEVENT
END:VCALENDAR