BEGIN:VCALENDAR
VERSION:2.0
PRODID:-//Discover Hollywood Magazine - ECPv6.15.20//NONSGML v1.0//EN
CALSCALE:GREGORIAN
METHOD:PUBLISH
X-ORIGINAL-URL:https://www.discoverhollywood.com
X-WR-CALDESC:Events for Discover Hollywood Magazine
REFRESH-INTERVAL;VALUE=DURATION:PT1H
X-Robots-Tag:noindex
X-PUBLISHED-TTL:PT1H
BEGIN:VTIMEZONE
TZID:Asia/Kolkata
BEGIN:STANDARD
TZOFFSETFROM:+0530
TZOFFSETTO:+0530
TZNAME:IST
DTSTART:19690101T000000
END:STANDARD
END:VTIMEZONE
BEGIN:VEVENT
DTSTART;TZID=Asia/Kolkata:19711110T000000
DTEND;TZID=Asia/Kolkata:19711110T000000
DTSTAMP:20260424T112156
CREATED:20250716T061629Z
LAST-MODIFIED:20250716T061629Z
UID:10014446-58579200-58579200@www.discoverhollywood.com
SUMMARY:Thurman Green Scholarship Jazz Festival
DESCRIPTION:DesignHTMLWords: 0   Characters: 0
URL:https://www.discoverhollywood.com/event/thurman-green-scholarship-jazz-festival/
LOCATION:Catalina’s Bar & Grill\, Select
END:VEVENT
BEGIN:VEVENT
DTSTART;TZID=Asia/Kolkata:19711103T000000
DTEND;TZID=Asia/Kolkata:19711103T000000
DTSTAMP:20260424T112156
CREATED:20250716T061641Z
LAST-MODIFIED:20250716T061641Z
UID:10014453-57974400-57974400@www.discoverhollywood.com
SUMMARY:Tia Fuller
DESCRIPTION:DesignHTMLWords: 0   Characters: 0
URL:https://www.discoverhollywood.com/event/tia-fuller/
LOCATION:Catalina’s Bar & Grill\, Select
END:VEVENT
BEGIN:VEVENT
DTSTART;TZID=Asia/Kolkata:19711028T000000
DTEND;TZID=Asia/Kolkata:19711028T000000
DTSTAMP:20260424T112156
CREATED:20250716T061710Z
LAST-MODIFIED:20250716T061710Z
UID:10014459-57456000-57456000@www.discoverhollywood.com
SUMMARY:TidalWave Summer Explosion
DESCRIPTION:DesignHTMLWords: 0   Characters: 0
URL:https://www.discoverhollywood.com/event/tidalwave-summer-explosion/
LOCATION:Catalina’s Bar & Grill\, Select
END:VEVENT
BEGIN:VEVENT
DTSTART;TZID=Asia/Kolkata:19710726T000000
DTEND;TZID=Asia/Kolkata:19710726T000000
DTSTAMP:20260424T112156
CREATED:20250716T065652Z
LAST-MODIFIED:20250716T065652Z
UID:10014533-49334400-49334400@www.discoverhollywood.com
SUMMARY:Todd Murray
DESCRIPTION:DesignHTMLWords: 0   Characters: 0
URL:https://www.discoverhollywood.com/event/todd-murray/
LOCATION:Catalina’s Bar & Grill\, Select
END:VEVENT
BEGIN:VEVENT
DTSTART;TZID=Asia/Kolkata:19710608T000000
DTEND;TZID=Asia/Kolkata:19710608T000000
DTSTAMP:20260424T112156
CREATED:20250716T065943Z
LAST-MODIFIED:20250716T065943Z
UID:10014581-45187200-45187200@www.discoverhollywood.com
SUMMARY:Tony Russell\, singer/actor/entertainer
DESCRIPTION:DesignHTMLWords: 0   Characters: 0
URL:https://www.discoverhollywood.com/event/tony-russell-singer-actor-entertainer/
LOCATION:Catalina’s Bar & Grill\, Select
END:VEVENT
BEGIN:VEVENT
DTSTART;TZID=Asia/Kolkata:19710303T000000
DTEND;TZID=Asia/Kolkata:19710303T000000
DTSTAMP:20260424T112156
CREATED:20250716T070709Z
LAST-MODIFIED:20250716T070709Z
UID:10014678-36806400-36806400@www.discoverhollywood.com
SUMMARY:Travis Roger
DESCRIPTION:DesignHTMLWords: 0   Characters: 0
URL:https://www.discoverhollywood.com/event/travis-roger/
LOCATION:Catalina’s Bar & Grill\, Select
END:VEVENT
BEGIN:VEVENT
DTSTART;TZID=Asia/Kolkata:19710302T000000
DTEND;TZID=Asia/Kolkata:19710302T000000
DTSTAMP:20260424T112156
CREATED:20250716T070716Z
LAST-MODIFIED:20250716T070716Z
UID:10014679-36720000-36720000@www.discoverhollywood.com
SUMMARY:Travis Rogers
DESCRIPTION:DesignHTMLWords: 0   Characters: 0
URL:https://www.discoverhollywood.com/event/travis-rogers/
LOCATION:Catalina’s Bar & Grill\, Select
END:VEVENT
BEGIN:VEVENT
DTSTART;TZID=Asia/Kolkata:20260424T112156
DTEND;TZID=Asia/Kolkata:20260424T112156
DTSTAMP:20260424T112156
CREATED:20250716T090046Z
LAST-MODIFIED:20250716T090046Z
UID:10015519-0-0@www.discoverhollywood.com
SUMMARY:Yvette Cason
DESCRIPTION:DesignHTMLWords: 0   Characters: 0
URL:https://www.discoverhollywood.com/event/yvette-cason/
LOCATION:Catalina’s Bar & Grill\, Select
END:VEVENT
BEGIN:VEVENT
DTSTART;TZID=Asia/Kolkata:20260424T112156
DTEND;TZID=Asia/Kolkata:20260424T112156
DTSTAMP:20260424T112156
CREATED:20250716T083744Z
LAST-MODIFIED:20250716T083744Z
UID:10015385-0-0@www.discoverhollywood.com
SUMMARY:Willie Jones III CD Release Party
DESCRIPTION:DesignHTMLWords: 0   Characters: 0
URL:https://www.discoverhollywood.com/event/willie-jones-iii-cd-release-party/
LOCATION:Catalina’s Bar & Grill\, Select
END:VEVENT
BEGIN:VEVENT
DTSTART;TZID=Asia/Kolkata:20260424T112156
DTEND;TZID=Asia/Kolkata:20260424T112156
DTSTAMP:20260424T112156
CREATED:20250716T082420Z
LAST-MODIFIED:20250716T082420Z
UID:10015192-0-0@www.discoverhollywood.com
SUMMARY:Wayne Linsey "A Playa's Gotta Play"
DESCRIPTION:DesignHTMLWords: 0   Characters: 0
URL:https://www.discoverhollywood.com/event/wayne-linsey-a-playas-gotta-play/
LOCATION:Catalina’s Bar & Grill\, Select
END:VEVENT
BEGIN:VEVENT
DTSTART;TZID=Asia/Kolkata:20260424T112156
DTEND;TZID=Asia/Kolkata:20260424T112156
DTSTAMP:20260424T112156
CREATED:20250716T082420Z
LAST-MODIFIED:20250716T082420Z
UID:10015193-0-0@www.discoverhollywood.com
SUMMARY:Wayne Linsey & "A Playa's Gotta Play"
DESCRIPTION:DesignHTMLWords: 0   Characters: 0
URL:https://www.discoverhollywood.com/event/wayne-linsey-a-playas-gotta-play-2/
LOCATION:Catalina’s Bar & Grill\, Select
END:VEVENT
BEGIN:VEVENT
DTSTART;TZID=Asia/Kolkata:20260424T112156
DTEND;TZID=Asia/Kolkata:20260424T112156
DTSTAMP:20260424T112156
CREATED:20250716T082410Z
LAST-MODIFIED:20250716T082410Z
UID:10015191-0-0@www.discoverhollywood.com
SUMMARY:Wayne Lindsey
DESCRIPTION:DesignHTMLWords: 0   Characters: 0
URL:https://www.discoverhollywood.com/event/wayne-lindsey/
LOCATION:Catalina’s Bar & Grill\, Select
END:VEVENT
BEGIN:VEVENT
DTSTART;TZID=Asia/Kolkata:20260424T112156
DTEND;TZID=Asia/Kolkata:20260424T112156
DTSTAMP:20260424T112156
CREATED:20250716T082331Z
LAST-MODIFIED:20250716T082331Z
UID:10015164-0-0@www.discoverhollywood.com
SUMMARY:Washington Preparatory High School
DESCRIPTION:DesignHTMLWords: 0   Characters: 0
URL:https://www.discoverhollywood.com/event/washington-preparatory-high-school/
LOCATION:Catalina’s Bar & Grill\, Select
END:VEVENT
BEGIN:VEVENT
DTSTART;TZID=Asia/Kolkata:20260424T112156
DTEND;TZID=Asia/Kolkata:20260424T112156
DTSTAMP:20260424T112156
CREATED:20250716T081751Z
LAST-MODIFIED:20250716T081751Z
UID:10015017-0-0@www.discoverhollywood.com
SUMMARY:Victor Wooten Band
DESCRIPTION:Victor Wooten redefines the word %22musician%22. Regarded as one of the most influential bassists since Jaco Pastorius%2c Wooten is known for his solo recordings and tours%2c and as a member of the GRAMMY-winning supergroup BELA FLECK %26amp%3b THE FLECKTONES.DesignHTMLWords: 38   Characters: 236
URL:https://www.discoverhollywood.com/event/victor-wooten-band/
LOCATION:Catalina’s Bar & Grill\, Select
END:VEVENT
BEGIN:VEVENT
DTSTART;TZID=Asia/Kolkata:20260424T112156
DTEND;TZID=Asia/Kolkata:20260424T112156
DTSTAMP:20260424T112156
CREATED:20250716T081745Z
LAST-MODIFIED:20250716T081745Z
UID:10015016-0-0@www.discoverhollywood.com
SUMMARY:Victor Wooten
DESCRIPTION:DesignHTMLWords: 0   Characters: 0
URL:https://www.discoverhollywood.com/event/victor-wooten/
LOCATION:Catalina’s Bar & Grill\, Select
END:VEVENT
BEGIN:VEVENT
DTSTART;TZID=Asia/Kolkata:20260424T112156
DTEND;TZID=Asia/Kolkata:20260424T112156
DTSTAMP:20260424T112156
CREATED:20250716T081502Z
LAST-MODIFIED:20250716T081502Z
UID:10014912-0-0@www.discoverhollywood.com
SUMMARY:Upright Cabaret's Review
DESCRIPTION:DesignHTMLWords: 0   Characters: 0
URL:https://www.discoverhollywood.com/event/upright-cabarets-review/
LOCATION:Catalina’s Bar & Grill\, Select
END:VEVENT
BEGIN:VEVENT
DTSTART;TZID=Asia/Kolkata:20260424T112156
DTEND;TZID=Asia/Kolkata:20260424T112156
DTSTAMP:20260424T112156
CREATED:20250716T081501Z
LAST-MODIFIED:20250716T081501Z
UID:10014911-0-0@www.discoverhollywood.com
SUMMARY:Upright Cabaret's Holiday Show
DESCRIPTION:DesignHTMLWords: 0   Characters: 0
URL:https://www.discoverhollywood.com/event/upright-cabarets-holiday-show/
LOCATION:Catalina’s Bar & Grill\, Select
END:VEVENT
BEGIN:VEVENT
DTSTART;TZID=Asia/Kolkata:20260424T112156
DTEND;TZID=Asia/Kolkata:20260424T112156
DTSTAMP:20260424T112156
CREATED:20250716T081452Z
LAST-MODIFIED:20250716T081452Z
UID:10014908-0-0@www.discoverhollywood.com
SUMMARY:Upright Cabaret's 5th annual Holiday Extravaganza
DESCRIPTION:DesignHTMLWords: 0   Characters: 0
URL:https://www.discoverhollywood.com/event/upright-cabarets-5th-annual-holiday-extravaganza/
LOCATION:Catalina’s Bar & Grill\, Select
END:VEVENT
BEGIN:VEVENT
DTSTART;TZID=Asia/Kolkata:20260424T112156
DTEND;TZID=Asia/Kolkata:20260424T112156
DTSTAMP:20260424T112156
CREATED:20250716T081452Z
LAST-MODIFIED:20250716T081452Z
UID:10014910-0-0@www.discoverhollywood.com
SUMMARY:Upright Cabaret's American Icon Series
DESCRIPTION:DesignHTMLWords: 0   Characters: 0
URL:https://www.discoverhollywood.com/event/upright-cabarets-american-icon-series/
LOCATION:Catalina’s Bar & Grill\, Select
END:VEVENT
BEGIN:VEVENT
DTSTART;TZID=Asia/Kolkata:20260424T112156
DTEND;TZID=Asia/Kolkata:20260424T112156
DTSTAMP:20260424T112156
CREATED:20250716T081431Z
LAST-MODIFIED:20250716T081431Z
UID:10014895-0-0@www.discoverhollywood.com
SUMMARY:UNT One o'clock Lab Band
DESCRIPTION:DesignHTMLWords: 0   Characters: 0
URL:https://www.discoverhollywood.com/event/unt-one-oclock-lab-band/
LOCATION:Catalina’s Bar & Grill\, Select
END:VEVENT
BEGIN:VEVENT
DTSTART;TZID=Asia/Kolkata:20260424T112156
DTEND;TZID=Asia/Kolkata:20260424T112156
DTSTAMP:20260424T112156
CREATED:20250714T114214Z
LAST-MODIFIED:20250714T114214Z
UID:10011597-0-0@www.discoverhollywood.com
SUMMARY:San Gabriel 7 featuring Bill Watrous
DESCRIPTION:DesignHTMLWords: 0   Characters: 0
URL:https://www.discoverhollywood.com/event/san-gabriel-7-featuring-bill-watrous/
LOCATION:Catalina’s Bar & Grill\, Select
END:VEVENT
BEGIN:VEVENT
DTSTART;TZID=Asia/Kolkata:20260424T112156
DTEND;TZID=Asia/Kolkata:20260424T112156
DTSTAMP:20260424T112156
CREATED:20250714T114202Z
LAST-MODIFIED:20250714T114202Z
UID:10011588-0-0@www.discoverhollywood.com
SUMMARY:SaMoHi Jazz Band
DESCRIPTION:%3cbr%3eDesignHTMLWords: 0   Characters: 0
URL:https://www.discoverhollywood.com/event/samohi-jazz-band/
LOCATION:Catalina’s Bar & Grill\, Select
END:VEVENT
BEGIN:VEVENT
DTSTART;TZID=Asia/Kolkata:20260424T112156
DTEND;TZID=Asia/Kolkata:20260424T112156
DTSTAMP:20260424T112156
CREATED:20250714T114152Z
LAST-MODIFIED:20250714T114152Z
UID:10011586-0-0@www.discoverhollywood.com
SUMMARY:Sammy Figueroa & His Latin Jazz Explosion
DESCRIPTION:DesignHTMLWords: 0   Characters: 0
URL:https://www.discoverhollywood.com/event/sammy-figueroa-his-latin-jazz-explosion/
LOCATION:Catalina’s Bar & Grill\, Select
END:VEVENT
BEGIN:VEVENT
DTSTART;TZID=Asia/Kolkata:20260424T112156
DTEND;TZID=Asia/Kolkata:20260424T112156
DTSTAMP:20260424T112156
CREATED:20250709T085517Z
LAST-MODIFIED:20250709T085517Z
UID:10008351-0-0@www.discoverhollywood.com
SUMMARY:Lee Ritenour Band Featuring: Mike Stern
DESCRIPTION:DesignHTMLWords: 0   Characters: 0
URL:https://www.discoverhollywood.com/event/lee-ritenour-band-featuring-mike-stern/
LOCATION:Catalina’s Bar & Grill\, Select
END:VEVENT
BEGIN:VEVENT
DTSTART;TZID=Asia/Kolkata:20260424T112156
DTEND;TZID=Asia/Kolkata:20260424T112156
DTSTAMP:20260424T112156
CREATED:20250709T085030Z
LAST-MODIFIED:20250709T085030Z
UID:10008326-0-0@www.discoverhollywood.com
SUMMARY:Lea Salonga
DESCRIPTION:DesignHTMLWords: 0   Characters: 0
URL:https://www.discoverhollywood.com/event/lea-salonga/
LOCATION:Catalina’s Bar & Grill\, Select
END:VEVENT
BEGIN:VEVENT
DTSTART;TZID=Asia/Kolkata:20260424T112156
DTEND;TZID=Asia/Kolkata:20260424T112156
DTSTAMP:20260424T112156
CREATED:20250709T084912Z
LAST-MODIFIED:20250709T084912Z
UID:10008307-0-0@www.discoverhollywood.com
SUMMARY:Lauren White and the Quinn Johnson Trio with special guest Kleber Jorge
DESCRIPTION:DesignHTMLWords: 0   Characters: 0
URL:https://www.discoverhollywood.com/event/lauren-white-and-the-quinn-johnson-trio-with-special-guest-kleber-jorge/
LOCATION:Catalina’s Bar & Grill\, Select
END:VEVENT
BEGIN:VEVENT
DTSTART;TZID=Asia/Kolkata:20260424T112156
DTEND;TZID=Asia/Kolkata:20260424T112156
DTSTAMP:20260424T112156
CREATED:20250709T084627Z
LAST-MODIFIED:20250709T084627Z
UID:10008275-0-0@www.discoverhollywood.com
SUMMARY:Latin SOL
DESCRIPTION:DesignHTMLWords: 0   Characters: 0
URL:https://www.discoverhollywood.com/event/latin-sol/
LOCATION:Catalina’s Bar & Grill\, Select
END:VEVENT
BEGIN:VEVENT
DTSTART;TZID=Asia/Kolkata:20260424T112156
DTEND;TZID=Asia/Kolkata:20260424T112156
DTSTAMP:20260424T112156
CREATED:20250709T084206Z
LAST-MODIFIED:20250709T084206Z
UID:10008226-0-0@www.discoverhollywood.com
SUMMARY:Lannie Garrett "Let The Good Times Roll"
DESCRIPTION:DesignHTMLWords: 0   Characters: 0
URL:https://www.discoverhollywood.com/event/lannie-garrett-let-the-good-times-roll/
LOCATION:Catalina’s Bar & Grill\, Select
END:VEVENT
BEGIN:VEVENT
DTSTART;TZID=Asia/Kolkata:20260424T112156
DTEND;TZID=Asia/Kolkata:20260424T112156
DTSTAMP:20260424T112156
CREATED:20250709T083457Z
LAST-MODIFIED:20250709T083457Z
UID:10008194-0-0@www.discoverhollywood.com
SUMMARY:Lainie Kazan
DESCRIPTION:DesignHTMLWords: 0   Characters: 0
URL:https://www.discoverhollywood.com/event/lainie-kazan/
LOCATION:Catalina’s Bar & Grill\, Select
END:VEVENT
BEGIN:VEVENT
DTSTART;TZID=Asia/Kolkata:20260424T112156
DTEND;TZID=Asia/Kolkata:20260424T112156
DTSTAMP:20260424T112156
CREATED:20250709T083111Z
LAST-MODIFIED:20250709T083111Z
UID:10008181-0-0@www.discoverhollywood.com
SUMMARY:Lady Coco & Rhythm In Black
DESCRIPTION:DesignHTMLWords: 0   Characters: 0
URL:https://www.discoverhollywood.com/event/lady-coco-rhythm-in-black/
LOCATION:Catalina’s Bar & Grill\, Select
END:VEVENT
END:VCALENDAR