BEGIN:VCALENDAR
VERSION:2.0
PRODID:-//Discover Hollywood Magazine - ECPv6.15.20//NONSGML v1.0//EN
CALSCALE:GREGORIAN
METHOD:PUBLISH
X-WR-CALNAME:Discover Hollywood Magazine
X-ORIGINAL-URL:https://www.discoverhollywood.com
X-WR-CALDESC:Events for Discover Hollywood Magazine
REFRESH-INTERVAL;VALUE=DURATION:PT1H
X-Robots-Tag:noindex
X-PUBLISHED-TTL:PT1H
BEGIN:VTIMEZONE
TZID:Asia/Kolkata
BEGIN:STANDARD
TZOFFSETFROM:+0530
TZOFFSETTO:+0530
TZNAME:IST
DTSTART:19950101T000000
END:STANDARD
END:VTIMEZONE
BEGIN:VEVENT
DTSTART;TZID=Asia/Kolkata:20020626T000000
DTEND;TZID=Asia/Kolkata:20020626T000000
DTSTAMP:20260423T031633
CREATED:20250701T120252Z
LAST-MODIFIED:20250701T120252Z
UID:10004353-1025049600-1025049600@www.discoverhollywood.com
SUMMARY:David Campbell
DESCRIPTION:DesignHTMLWords: 0   Characters: 0
URL:https://www.discoverhollywood.com/event/david-campbell/
LOCATION:Catalina’s Bar & Grill\, Select
END:VEVENT
BEGIN:VEVENT
DTSTART;TZID=Asia/Kolkata:20020604T000000
DTEND;TZID=Asia/Kolkata:20020604T000000
DTSTAMP:20260423T031633
CREATED:20250701T120317Z
LAST-MODIFIED:20250701T120317Z
UID:10004364-1023148800-1023148800@www.discoverhollywood.com
SUMMARY:David Garfield
DESCRIPTION:DesignHTMLWords: 0   Characters: 0
URL:https://www.discoverhollywood.com/event/david-garfield/
LOCATION:Catalina’s Bar & Grill\, Select
END:VEVENT
BEGIN:VEVENT
DTSTART;TZID=Asia/Kolkata:20020501T000000
DTEND;TZID=Asia/Kolkata:20020501T000000
DTSTAMP:20260423T031633
CREATED:20250701T120351Z
LAST-MODIFIED:20250701T120351Z
UID:10004381-1020211200-1020211200@www.discoverhollywood.com
SUMMARY:David Sanborn Trio feat; Joey DeFrancesco
DESCRIPTION:DesignHTMLWords: 0   Characters: 0
URL:https://www.discoverhollywood.com/event/david-sanborn-trio-feat-joey-defrancesco/
LOCATION:Catalina’s Bar & Grill\, Select
END:VEVENT
BEGIN:VEVENT
DTSTART;TZID=Asia/Kolkata:20011230T000000
DTEND;TZID=Asia/Kolkata:20011230T000000
DTSTAMP:20260423T031633
CREATED:20250701T120604Z
LAST-MODIFIED:20250701T120605Z
UID:10004442-1009670400-1009670400@www.discoverhollywood.com
SUMMARY:Deana Martin
DESCRIPTION:DesignHTMLWords: 0   Characters: 0
URL:https://www.discoverhollywood.com/event/deana-martin/
LOCATION:Catalina’s Bar & Grill\, Select
END:VEVENT
BEGIN:VEVENT
DTSTART;TZID=Asia/Kolkata:20011228T000000
DTEND;TZID=Asia/Kolkata:20011228T000000
DTSTAMP:20260423T031633
CREATED:20250701T120605Z
LAST-MODIFIED:20250701T120605Z
UID:10004443-1009497600-1009497600@www.discoverhollywood.com
SUMMARY:Deana Martin
DESCRIPTION:DesignHTMLWords: 0   Characters: 0
URL:https://www.discoverhollywood.com/event/deana-martin-2/
LOCATION:Catalina’s Bar & Grill\, Select
END:VEVENT
BEGIN:VEVENT
DTSTART;TZID=Asia/Kolkata:20011226T000000
DTEND;TZID=Asia/Kolkata:20011226T000000
DTSTAMP:20260423T031633
CREATED:20250701T120605Z
LAST-MODIFIED:20250701T120606Z
UID:10004444-1009324800-1009324800@www.discoverhollywood.com
SUMMARY:Deanna Martin
DESCRIPTION:DesignHTMLWords: 0   Characters: 0
URL:https://www.discoverhollywood.com/event/deanna-martin/
LOCATION:Catalina’s Bar & Grill\, Select
END:VEVENT
BEGIN:VEVENT
DTSTART;TZID=Asia/Kolkata:20010816T000000
DTEND;TZID=Asia/Kolkata:20010816T000000
DTSTAMP:20260423T031633
CREATED:20250701T120759Z
LAST-MODIFIED:20250701T120759Z
UID:10004510-997920000-997920000@www.discoverhollywood.com
SUMMARY:Della Reese
DESCRIPTION:DesignHTMLWords: 0   Characters: 0
URL:https://www.discoverhollywood.com/event/della-reese/
LOCATION:Catalina’s Bar & Grill\, Select
END:VEVENT
BEGIN:VEVENT
DTSTART;TZID=Asia/Kolkata:20010814T000000
DTEND;TZID=Asia/Kolkata:20010814T000000
DTSTAMP:20260423T031633
CREATED:20250701T120806Z
LAST-MODIFIED:20250701T120807Z
UID:10004511-997747200-997747200@www.discoverhollywood.com
SUMMARY:Della Reese: Im Still Here Celebrating My 80th Birthday!
DESCRIPTION:DesignHTMLWords: 0   Characters: 0
URL:https://www.discoverhollywood.com/event/della-reese-im-still-here-celebrating-my-80th-birthday/
LOCATION:Catalina’s Bar & Grill\, Select
END:VEVENT
BEGIN:VEVENT
DTSTART;TZID=Asia/Kolkata:20010627T000000
DTEND;TZID=Asia/Kolkata:20010627T000000
DTSTAMP:20260423T031633
CREATED:20250701T120826Z
LAST-MODIFIED:20250701T120826Z
UID:10004535-993600000-993600000@www.discoverhollywood.com
SUMMARY:Dennis Nelson All Stars
DESCRIPTION:DesignHTMLWords: 0   Characters: 0
URL:https://www.discoverhollywood.com/event/dennis-nelson-all-stars/
LOCATION:Catalina’s Bar & Grill\, Select
END:VEVENT
BEGIN:VEVENT
DTSTART;TZID=Asia/Kolkata:20000401T000000
DTEND;TZID=Asia/Kolkata:20000401T000000
DTSTAMP:20260423T031633
CREATED:20250701T125733Z
LAST-MODIFIED:20250701T125733Z
UID:10004751-954547200-954547200@www.discoverhollywood.com
SUMMARY:Donee Middleton
DESCRIPTION:DesignHTMLWords: 0   Characters: 0
URL:https://www.discoverhollywood.com/event/donee-middleton/
LOCATION:Catalina’s Bar & Grill\, Select
END:VEVENT
BEGIN:VEVENT
DTSTART;TZID=Asia/Kolkata:19990412T000000
DTEND;TZID=Asia/Kolkata:19990412T000000
DTSTAMP:20260423T031633
CREATED:20250701T132642Z
LAST-MODIFIED:20250702T044211Z
UID:10004956-923875200-923875200@www.discoverhollywood.com
SUMMARY:Earl Klugh
DESCRIPTION:DesignHTMLWords: 0   Characters: 0
URL:https://www.discoverhollywood.com/event/earl-klugh/
LOCATION:Catalina’s Bar & Grill\, Select
END:VEVENT
BEGIN:VEVENT
DTSTART;TZID=Asia/Kolkata:19990221T000000
DTEND;TZID=Asia/Kolkata:19990221T000000
DTSTAMP:20260423T031633
CREATED:20250701T133809Z
LAST-MODIFIED:20250702T044440Z
UID:10005006-919555200-919555200@www.discoverhollywood.com
SUMMARY:Ed Vodika Organ Quintet
DESCRIPTION:DesignHTMLWords: 0   Characters: 0
URL:https://www.discoverhollywood.com/event/ed-vodika-organ-quintet/
LOCATION:Catalina’s Bar & Grill\, Select
END:VEVENT
BEGIN:VEVENT
DTSTART;TZID=Asia/Kolkata:19981216T000000
DTEND;TZID=Asia/Kolkata:19981216T000000
DTSTAMP:20260423T031633
CREATED:20250701T135645Z
LAST-MODIFIED:20250702T044756Z
UID:10005073-913766400-913766400@www.discoverhollywood.com
SUMMARY:Eldar
DESCRIPTION:DesignHTMLWords: 0   Characters: 0
URL:https://www.discoverhollywood.com/event/eldar/
LOCATION:Catalina’s Bar & Grill\, Select
END:VEVENT
BEGIN:VEVENT
DTSTART;TZID=Asia/Kolkata:19980401T000000
DTEND;TZID=Asia/Kolkata:19980401T000000
DTSTAMP:20260423T031633
CREATED:20250702T054757Z
LAST-MODIFIED:20250702T054757Z
UID:10005332-891388800-891388800@www.discoverhollywood.com
SUMMARY:Fabian Chavez
DESCRIPTION:DesignHTMLWords: 0   Characters: 0
URL:https://www.discoverhollywood.com/event/fabian-chavez/
LOCATION:Catalina’s Bar & Grill\, Select
END:VEVENT
BEGIN:VEVENT
DTSTART;TZID=Asia/Kolkata:19980211T000000
DTEND;TZID=Asia/Kolkata:19980211T000000
DTSTAMP:20260423T031633
CREATED:20250702T055643Z
LAST-MODIFIED:20250702T055643Z
UID:10005381-887155200-887155200@www.discoverhollywood.com
SUMMARY:Far Longer Than Forever to Benefit Northwestern University's Michelle Nicastro-Stark Memorial Fund
DESCRIPTION:DesignHTMLWords: 0   Characters: 0
URL:https://www.discoverhollywood.com/event/far-longer-than-forever-to-benefit-northwestern-universitys-michelle-nicastro-stark-memorial-fund/
LOCATION:Catalina’s Bar & Grill\, Select
END:VEVENT
BEGIN:VEVENT
DTSTART;TZID=Asia/Kolkata:19970624T000000
DTEND;TZID=Asia/Kolkata:19970624T000000
DTSTAMP:20260423T031633
CREATED:20250703T061925Z
LAST-MODIFIED:20250703T061925Z
UID:10005609-867110400-867110400@www.discoverhollywood.com
SUMMARY:For the Ladies Featuring Darius McCrary\, Jay King\, Papalee & Anthont "AK" King
DESCRIPTION:DesignHTMLWords: 0   Characters: 0
URL:https://www.discoverhollywood.com/event/for-the-ladies-featuring-darius-mccrary-jay-king-papalee-anthont-ak-king/
LOCATION:Catalina’s Bar & Grill\, Select
END:VEVENT
BEGIN:VEVENT
DTSTART;TZID=Asia/Kolkata:19970407T000000
DTEND;TZID=Asia/Kolkata:19970407T000000
DTSTAMP:20260423T031633
CREATED:20250703T062200Z
LAST-MODIFIED:20250703T062200Z
UID:10005687-860371200-860371200@www.discoverhollywood.com
SUMMARY:Frank Quintero
DESCRIPTION:DesignHTMLWords: 0   Characters: 0
URL:https://www.discoverhollywood.com/event/frank-quintero/
LOCATION:Catalina’s Bar & Grill\, Select
END:VEVENT
BEGIN:VEVENT
DTSTART;TZID=Asia/Kolkata:19970404T000000
DTEND;TZID=Asia/Kolkata:19970404T000000
DTSTAMP:20260423T031633
CREATED:20250703T062200Z
LAST-MODIFIED:20250703T062200Z
UID:10005690-860112000-860112000@www.discoverhollywood.com
SUMMARY:Frank Sinatra Jr.
DESCRIPTION:DesignHTMLWords: 0   Characters: 0
URL:https://www.discoverhollywood.com/event/frank-sinatra-jr/
LOCATION:Catalina’s Bar & Grill\, Select
END:VEVENT
BEGIN:VEVENT
DTSTART;TZID=Asia/Kolkata:19970307T000000
DTEND;TZID=Asia/Kolkata:19970307T000000
DTSTAMP:20260423T031633
CREATED:20250703T062338Z
LAST-MODIFIED:20250703T062338Z
UID:10005718-857692800-857692800@www.discoverhollywood.com
SUMMARY:Freda Payne sings Ella and Lena
DESCRIPTION:DesignHTMLWords: 0   Characters: 0
URL:https://www.discoverhollywood.com/event/freda-payne-sings-ella-and-lena/
LOCATION:Catalina’s Bar & Grill\, Select
END:VEVENT
BEGIN:VEVENT
DTSTART;TZID=Asia/Kolkata:19970306T000000
DTEND;TZID=Asia/Kolkata:19970306T000000
DTSTAMP:20260423T031633
CREATED:20250703T062338Z
LAST-MODIFIED:20250703T062338Z
UID:10005719-857606400-857606400@www.discoverhollywood.com
SUMMARY:Freda PAYNE sings Ella and Lena
DESCRIPTION:DesignHTMLWords: 0   Characters: 0
URL:https://www.discoverhollywood.com/event/freda-payne-sings-ella-and-lena-2/
LOCATION:Catalina’s Bar & Grill\, Select
END:VEVENT
BEGIN:VEVENT
DTSTART;TZID=Asia/Kolkata:19961024T000000
DTEND;TZID=Asia/Kolkata:19961024T000000
DTSTAMP:20260423T031633
CREATED:20250703T064836Z
LAST-MODIFIED:20250703T064836Z
UID:10005852-846115200-846115200@www.discoverhollywood.com
SUMMARY:Gabriel Ambrosius
DESCRIPTION:DesignHTMLWords: 0   Characters: 0
URL:https://www.discoverhollywood.com/event/gabriel-ambrosius/
LOCATION:Catalina’s Bar & Grill\, Select
END:VEVENT
BEGIN:VEVENT
DTSTART;TZID=Asia/Kolkata:19961018T000000
DTEND;TZID=Asia/Kolkata:19961018T000000
DTSTAMP:20260423T031633
CREATED:20250703T064846Z
LAST-MODIFIED:20250703T064846Z
UID:10005858-845596800-845596800@www.discoverhollywood.com
SUMMARY:Gabriel Johnson CD Release
DESCRIPTION:DesignHTMLWords: 0   Characters: 0
URL:https://www.discoverhollywood.com/event/gabriel-johnson-cd-release/
LOCATION:Catalina’s Bar & Grill\, Select
END:VEVENT
BEGIN:VEVENT
DTSTART;TZID=Asia/Kolkata:19960813T000000
DTEND;TZID=Asia/Kolkata:19960813T000000
DTSTAMP:20260423T031633
CREATED:20250703T065343Z
LAST-MODIFIED:20250703T065343Z
UID:10005924-839894400-839894400@www.discoverhollywood.com
SUMMARY:Gary LeMel
DESCRIPTION:DesignHTMLWords: 0   Characters: 0
URL:https://www.discoverhollywood.com/event/gary-lemel/
LOCATION:Catalina’s Bar & Grill\, Select
END:VEVENT
BEGIN:VEVENT
DTSTART;TZID=Asia/Kolkata:19960629T000000
DTEND;TZID=Asia/Kolkata:19960629T000000
DTSTAMP:20260423T031633
CREATED:20250703T065527Z
LAST-MODIFIED:20250703T065527Z
UID:10005969-836006400-836006400@www.discoverhollywood.com
SUMMARY:George Kahn Quintet
DESCRIPTION:DesignHTMLWords: 0   Characters: 0
URL:https://www.discoverhollywood.com/event/george-kahn-quintet/
LOCATION:Catalina’s Bar & Grill\, Select
END:VEVENT
BEGIN:VEVENT
DTSTART;TZID=Asia/Kolkata:19960628T000000
DTEND;TZID=Asia/Kolkata:19960628T000000
DTSTAMP:20260423T031633
CREATED:20250703T065528Z
LAST-MODIFIED:20250703T065528Z
UID:10005970-835920000-835920000@www.discoverhollywood.com
SUMMARY:George Khan's Jazz & Blues Revue
DESCRIPTION:DesignHTMLWords: 0   Characters: 0
URL:https://www.discoverhollywood.com/event/george-khans-jazz-blues-revue/
LOCATION:Catalina’s Bar & Grill\, Select
END:VEVENT
BEGIN:VEVENT
DTSTART;TZID=Asia/Kolkata:19960620T000000
DTEND;TZID=Asia/Kolkata:19960620T000000
DTSTAMP:20260423T031633
CREATED:20250703T065547Z
LAST-MODIFIED:20250703T065547Z
UID:10005978-835228800-835228800@www.discoverhollywood.com
SUMMARY:Gerald Clayton Trio
DESCRIPTION:DesignHTMLWords: 0   Characters: 0
URL:https://www.discoverhollywood.com/event/gerald-clayton-trio/
LOCATION:Catalina’s Bar & Grill\, Select
END:VEVENT
BEGIN:VEVENT
DTSTART;TZID=Asia/Kolkata:19960428T000000
DTEND;TZID=Asia/Kolkata:19960428T000000
DTSTAMP:20260423T031633
CREATED:20250703T065624Z
LAST-MODIFIED:20250703T065624Z
UID:10006031-830649600-830649600@www.discoverhollywood.com
SUMMARY:Giavanna
DESCRIPTION:DesignHTMLWords: 0   Characters: 0
URL:https://www.discoverhollywood.com/event/giavanna/
LOCATION:Catalina’s Bar & Grill\, Select
END:VEVENT
BEGIN:VEVENT
DTSTART;TZID=Asia/Kolkata:19960412T000000
DTEND;TZID=Asia/Kolkata:19960412T000000
DTSTAMP:20260423T031633
CREATED:20250703T065641Z
LAST-MODIFIED:20250703T065641Z
UID:10006047-829267200-829267200@www.discoverhollywood.com
SUMMARY:Gina Eckstine
DESCRIPTION:DesignHTMLWords: 0   Characters: 0
URL:https://www.discoverhollywood.com/event/gina-eckstine/
LOCATION:Catalina’s Bar & Grill\, Select
END:VEVENT
BEGIN:VEVENT
DTSTART;TZID=Asia/Kolkata:19960409T000000
DTEND;TZID=Asia/Kolkata:19960409T000000
DTSTAMP:20260423T031633
CREATED:20250703T065642Z
LAST-MODIFIED:20250703T065642Z
UID:10006050-829008000-829008000@www.discoverhollywood.com
SUMMARY:Ginger & Scott
DESCRIPTION:DesignHTMLWords: 0   Characters: 0
URL:https://www.discoverhollywood.com/event/ginger-scott/
LOCATION:Catalina’s Bar & Grill\, Select
END:VEVENT
BEGIN:VEVENT
DTSTART;TZID=Asia/Kolkata:19960401T000000
DTEND;TZID=Asia/Kolkata:19960401T000000
DTSTAMP:20260423T031633
CREATED:20250703T065654Z
LAST-MODIFIED:20250703T065654Z
UID:10006058-828316800-828316800@www.discoverhollywood.com
SUMMARY:Girald Wilson Orchestra
DESCRIPTION:DesignHTMLWords: 0   Characters: 0
URL:https://www.discoverhollywood.com/event/girald-wilson-orchestra/
LOCATION:Catalina’s Bar & Grill\, Select
END:VEVENT
END:VCALENDAR