BEGIN:VCALENDAR
VERSION:2.0
PRODID:-//Discover Hollywood Magazine - ECPv6.15.20//NONSGML v1.0//EN
CALSCALE:GREGORIAN
METHOD:PUBLISH
X-ORIGINAL-URL:https://www.discoverhollywood.com
X-WR-CALDESC:Events for Discover Hollywood Magazine
REFRESH-INTERVAL;VALUE=DURATION:PT1H
X-Robots-Tag:noindex
X-PUBLISHED-TTL:PT1H
BEGIN:VTIMEZONE
TZID:Asia/Kolkata
BEGIN:STANDARD
TZOFFSETFROM:+0530
TZOFFSETTO:+0530
TZNAME:IST
DTSTART:19900101T000000
END:STANDARD
END:VTIMEZONE
BEGIN:VEVENT
DTSTART;TZID=Asia/Kolkata:19930521T000000
DTEND;TZID=Asia/Kolkata:19930521T000000
DTSTAMP:20260423T111339
CREATED:20250703T110211Z
LAST-MODIFIED:20250703T110211Z
UID:10006819-737942400-737942400@www.discoverhollywood.com
SUMMARY:India Adams & Annette Warren
DESCRIPTION:%3cbr%3eDesignHTMLWords: 0   Characters: 0
URL:https://www.discoverhollywood.com/event/india-adams-annette-warren/
LOCATION:Catalina’s Bar & Grill\, Select
END:VEVENT
BEGIN:VEVENT
DTSTART;TZID=Asia/Kolkata:19930228T000000
DTEND;TZID=Asia/Kolkata:19930228T000000
DTSTAMP:20260423T111339
CREATED:20250703T111001Z
LAST-MODIFIED:20250703T111001Z
UID:10006901-730857600-730857600@www.discoverhollywood.com
SUMMARY:Iris Williams
DESCRIPTION:%3cbr%3eDesignHTMLWords: 0   Characters: 0
URL:https://www.discoverhollywood.com/event/iris-williams/
LOCATION:Catalina’s Bar & Grill\, Select
END:VEVENT
BEGIN:VEVENT
DTSTART;TZID=Asia/Kolkata:19930212T000000
DTEND;TZID=Asia/Kolkata:19930212T000000
DTSTAMP:20260423T111339
CREATED:20250703T111115Z
LAST-MODIFIED:20250703T111115Z
UID:10006917-729475200-729475200@www.discoverhollywood.com
SUMMARY:Isabel Rose
DESCRIPTION:DesignHTMLWords: 0   Characters: 0
URL:https://www.discoverhollywood.com/event/isabel-rose/
LOCATION:Catalina’s Bar & Grill\, Select
END:VEVENT
BEGIN:VEVENT
DTSTART;TZID=Asia/Kolkata:19930106T000000
DTEND;TZID=Asia/Kolkata:19930106T000000
DTSTAMP:20260423T111339
CREATED:20250703T111234Z
LAST-MODIFIED:20250703T111234Z
UID:10006954-726278400-726278400@www.discoverhollywood.com
SUMMARY:Izzy Chait CD Release Party
DESCRIPTION:Fundraiser for The Society of SingersDesignHTMLWords: 6   Characters: 37
URL:https://www.discoverhollywood.com/event/izzy-chait-cd-release-party/
LOCATION:Catalina’s Bar & Grill\, Select
END:VEVENT
BEGIN:VEVENT
DTSTART;TZID=Asia/Kolkata:19921117T000000
DTEND;TZID=Asia/Kolkata:19921117T000000
DTSTAMP:20260423T111339
CREATED:20250703T111506Z
LAST-MODIFIED:20250703T111506Z
UID:10007004-721958400-721958400@www.discoverhollywood.com
SUMMARY:Jack Sheldon Orchestra
DESCRIPTION:%3cbr%3eDesignHTMLWords: 0   Characters: 0
URL:https://www.discoverhollywood.com/event/jack-sheldon-orchestra/
LOCATION:Catalina’s Bar & Grill\, Select
END:VEVENT
BEGIN:VEVENT
DTSTART;TZID=Asia/Kolkata:19921015T000000
DTEND;TZID=Asia/Kolkata:19921015T000000
DTSTAMP:20260423T111339
CREATED:20250703T111541Z
LAST-MODIFIED:20250703T111541Z
UID:10007037-719107200-719107200@www.discoverhollywood.com
SUMMARY:Jacqui Naylor
DESCRIPTION:DesignHTMLWords: 0   Characters: 0
URL:https://www.discoverhollywood.com/event/jacqui-naylor/
LOCATION:Catalina’s Bar & Grill\, Select
END:VEVENT
BEGIN:VEVENT
DTSTART;TZID=Asia/Kolkata:19921013T000000
DTEND;TZID=Asia/Kolkata:19921013T000000
DTSTAMP:20260423T111339
CREATED:20250703T111550Z
LAST-MODIFIED:20250703T111550Z
UID:10007039-718934400-718934400@www.discoverhollywood.com
SUMMARY:Jade Hendrix
DESCRIPTION:DesignHTMLWords: 0   Characters: 0
URL:https://www.discoverhollywood.com/event/jade-hendrix/
LOCATION:Catalina’s Bar & Grill\, Select
END:VEVENT
BEGIN:VEVENT
DTSTART;TZID=Asia/Kolkata:19920821T000000
DTEND;TZID=Asia/Kolkata:19920821T000000
DTSTAMP:20260423T111339
CREATED:20250703T111646Z
LAST-MODIFIED:20250703T111646Z
UID:10007092-714355200-714355200@www.discoverhollywood.com
SUMMARY:James Carter and the Organ Trio
DESCRIPTION:DesignHTMLWords: 0   Characters: 0
URL:https://www.discoverhollywood.com/event/james-carter-and-the-organ-trio/
LOCATION:Catalina’s Bar & Grill\, Select
END:VEVENT
BEGIN:VEVENT
DTSTART;TZID=Asia/Kolkata:19920725T000000
DTEND;TZID=Asia/Kolkata:19920725T000000
DTSTAMP:20260423T111339
CREATED:20250703T111713Z
LAST-MODIFIED:20250703T111713Z
UID:10007119-712022400-712022400@www.discoverhollywood.com
SUMMARY:Jane Harvey
DESCRIPTION:DesignHTMLWords: 0   Characters: 0
URL:https://www.discoverhollywood.com/event/jane-harvey/
LOCATION:Catalina’s Bar & Grill\, Select
END:VEVENT
BEGIN:VEVENT
DTSTART;TZID=Asia/Kolkata:19920724T000000
DTEND;TZID=Asia/Kolkata:19920724T000000
DTSTAMP:20260423T111339
CREATED:20250703T111713Z
LAST-MODIFIED:20250703T111713Z
UID:10007120-711936000-711936000@www.discoverhollywood.com
SUMMARY:Jane Harvey
DESCRIPTION:DesignHTMLWords: 0   Characters: 0
URL:https://www.discoverhollywood.com/event/jane-harvey-2/
LOCATION:Catalina’s Bar & Grill\, Select
END:VEVENT
BEGIN:VEVENT
DTSTART;TZID=Asia/Kolkata:19920718T000000
DTEND;TZID=Asia/Kolkata:19920718T000000
DTSTAMP:20260423T111339
CREATED:20250703T111725Z
LAST-MODIFIED:20250703T111725Z
UID:10007126-711417600-711417600@www.discoverhollywood.com
SUMMARY:Jane Monheit Duo
DESCRIPTION:%3cbr%3eDesignHTMLWords: 0   Characters: 0
URL:https://www.discoverhollywood.com/event/jane-monheit-duo/
LOCATION:Catalina’s Bar & Grill\, Select
END:VEVENT
BEGIN:VEVENT
DTSTART;TZID=Asia/Kolkata:19920709T000000
DTEND;TZID=Asia/Kolkata:19920709T000000
DTSTAMP:20260423T111339
CREATED:20250703T111747Z
LAST-MODIFIED:20250703T111747Z
UID:10007135-710640000-710640000@www.discoverhollywood.com
SUMMARY:Janicey Brar
DESCRIPTION:DesignHTMLWords: 0   Characters: 0
URL:https://www.discoverhollywood.com/event/janicey-brar/
LOCATION:Catalina’s Bar & Grill\, Select
END:VEVENT
BEGIN:VEVENT
DTSTART;TZID=Asia/Kolkata:19920530T000000
DTEND;TZID=Asia/Kolkata:19920530T000000
DTSTAMP:20260423T111339
CREATED:20250703T113909Z
LAST-MODIFIED:20250703T113909Z
UID:10007175-707184000-707184000@www.discoverhollywood.com
SUMMARY:Jason Marsalis Quartet
DESCRIPTION:DesignHTMLWords: 0   Characters: 0
URL:https://www.discoverhollywood.com/event/jason-marsalis-quartet/
LOCATION:Catalina’s Bar & Grill\, Select
END:VEVENT
BEGIN:VEVENT
DTSTART;TZID=Asia/Kolkata:19920504T000000
DTEND;TZID=Asia/Kolkata:19920504T000000
DTSTAMP:20260423T111339
CREATED:20250703T114101Z
LAST-MODIFIED:20250703T114101Z
UID:10007201-704937600-704937600@www.discoverhollywood.com
SUMMARY:Jazz Funnyman: Tony Russell
DESCRIPTION:DesignHTMLWords: 0   Characters: 0
URL:https://www.discoverhollywood.com/event/jazz-funnyman-tony-russell/
LOCATION:Catalina’s Bar & Grill\, Select
END:VEVENT
BEGIN:VEVENT
DTSTART;TZID=Asia/Kolkata:19920223T000000
DTEND;TZID=Asia/Kolkata:19920223T000000
DTSTAMP:20260423T111339
CREATED:20250703T115416Z
LAST-MODIFIED:20250703T115416Z
UID:10007272-698803200-698803200@www.discoverhollywood.com
SUMMARY:Jennifer Warren: The song of Dame Shirley Bassey
DESCRIPTION:DesignHTMLWords: 0   Characters: 0
URL:https://www.discoverhollywood.com/event/jennifer-warren-the-song-of-dame-shirley-bassey/
LOCATION:Catalina’s Bar & Grill\, Select
END:VEVENT
BEGIN:VEVENT
DTSTART;TZID=Asia/Kolkata:19911217T000000
DTEND;TZID=Asia/Kolkata:19911217T000000
DTSTAMP:20260423T111339
CREATED:20250703T120125Z
LAST-MODIFIED:20250703T120125Z
UID:10007340-692928000-692928000@www.discoverhollywood.com
SUMMARY:Jil Aigrot
DESCRIPTION:DesignHTMLWords: 0   Characters: 0
URL:https://www.discoverhollywood.com/event/jil-aigrot/
LOCATION:Catalina’s Bar & Grill\, Select
END:VEVENT
BEGIN:VEVENT
DTSTART;TZID=Asia/Kolkata:19911216T000000
DTEND;TZID=Asia/Kolkata:19911216T000000
DTSTAMP:20260423T111339
CREATED:20250703T120125Z
LAST-MODIFIED:20250703T120125Z
UID:10007341-692841600-692841600@www.discoverhollywood.com
SUMMARY:Jil Aigrot with Gino Samyn & Cyril Gabet
DESCRIPTION:DesignHTMLWords: 0   Characters: 0
URL:https://www.discoverhollywood.com/event/jil-aigrot-with-gino-samyn-cyril-gabet/
LOCATION:Catalina’s Bar & Grill\, Select
END:VEVENT
BEGIN:VEVENT
DTSTART;TZID=Asia/Kolkata:19911204T000000
DTEND;TZID=Asia/Kolkata:19911204T000000
DTSTAMP:20260423T111339
CREATED:20250703T120335Z
LAST-MODIFIED:20250703T120335Z
UID:10007353-691804800-691804800@www.discoverhollywood.com
SUMMARY:Jim Van Slyke
DESCRIPTION:DesignHTMLWords: 0   Characters: 0
URL:https://www.discoverhollywood.com/event/jim-van-slyke/
LOCATION:Catalina’s Bar & Grill\, Select
END:VEVENT
BEGIN:VEVENT
DTSTART;TZID=Asia/Kolkata:19911112T000000
DTEND;TZID=Asia/Kolkata:19911112T000000
DTSTAMP:20260423T111339
CREATED:20250703T120503Z
LAST-MODIFIED:20250703T120503Z
UID:10007375-689904000-689904000@www.discoverhollywood.com
SUMMARY:Joan Rivers Live!
DESCRIPTION:DesignHTMLWords: 0   Characters: 0
URL:https://www.discoverhollywood.com/event/joan-rivers-live/
LOCATION:Catalina’s Bar & Grill\, Select
END:VEVENT
BEGIN:VEVENT
DTSTART;TZID=Asia/Kolkata:19911106T000000
DTEND;TZID=Asia/Kolkata:19911106T000000
DTSTAMP:20260423T111339
CREATED:20250703T120521Z
LAST-MODIFIED:20250703T120521Z
UID:10007381-689385600-689385600@www.discoverhollywood.com
SUMMARY:Joanne Tatham Holiday Album Launch Party
DESCRIPTION:DesignHTMLWords: 0   Characters: 0
URL:https://www.discoverhollywood.com/event/joanne-tatham-holiday-album-launch-party/
LOCATION:Catalina’s Bar & Grill\, Select
END:VEVENT
BEGIN:VEVENT
DTSTART;TZID=Asia/Kolkata:19911012T000000
DTEND;TZID=Asia/Kolkata:19911012T000000
DTSTAMP:20260423T111339
CREATED:20250703T120619Z
LAST-MODIFIED:20250703T120619Z
UID:10007406-687225600-687225600@www.discoverhollywood.com
SUMMARY:Joey De Francesco
DESCRIPTION:DesignHTMLWords: 0   Characters: 0
URL:https://www.discoverhollywood.com/event/joey-de-francesco/
LOCATION:Catalina’s Bar & Grill\, Select
END:VEVENT
BEGIN:VEVENT
DTSTART;TZID=Asia/Kolkata:19911006T000000
DTEND;TZID=Asia/Kolkata:19911006T000000
DTSTAMP:20260423T111339
CREATED:20250703T120636Z
LAST-MODIFIED:20250703T120636Z
UID:10007412-686707200-686707200@www.discoverhollywood.com
SUMMARY:Johannes Linstead
DESCRIPTION:DesignHTMLWords: 0   Characters: 0
URL:https://www.discoverhollywood.com/event/johannes-linstead/
LOCATION:Catalina’s Bar & Grill\, Select
END:VEVENT
BEGIN:VEVENT
DTSTART;TZID=Asia/Kolkata:19910928T000000
DTEND;TZID=Asia/Kolkata:19910928T000000
DTSTAMP:20260423T111339
CREATED:20250703T120648Z
LAST-MODIFIED:20250703T120648Z
UID:10007420-686016000-686016000@www.discoverhollywood.com
SUMMARY:John Beasley Band
DESCRIPTION:DesignHTMLWords: 0   Characters: 0
URL:https://www.discoverhollywood.com/event/john-beasley-band/
LOCATION:Catalina’s Bar & Grill\, Select
END:VEVENT
BEGIN:VEVENT
DTSTART;TZID=Asia/Kolkata:19910916T000000
DTEND;TZID=Asia/Kolkata:19910916T000000
DTSTAMP:20260423T111339
CREATED:20250703T120700Z
LAST-MODIFIED:20250703T120700Z
UID:10007432-684979200-684979200@www.discoverhollywood.com
SUMMARY:John Daversa Small Group
DESCRIPTION:Featuring%3a CSUN Jazz Ascension%2c with Jacob Scesney%2c Fabrian Chavez and Josh Nelson.DesignHTMLWords: 12   Characters: 79
URL:https://www.discoverhollywood.com/event/john-daversa-small-group/
LOCATION:Catalina’s Bar & Grill\, Select
END:VEVENT
BEGIN:VEVENT
DTSTART;TZID=Asia/Kolkata:19910827T000000
DTEND;TZID=Asia/Kolkata:19910827T000000
DTSTAMP:20260423T111339
CREATED:20250703T120739Z
LAST-MODIFIED:20250703T120739Z
UID:10007452-683251200-683251200@www.discoverhollywood.com
SUMMARY:John Novello
DESCRIPTION:DesignHTMLWords: 0   Characters: 0
URL:https://www.discoverhollywood.com/event/john-novello/
LOCATION:Catalina’s Bar & Grill\, Select
END:VEVENT
BEGIN:VEVENT
DTSTART;TZID=Asia/Kolkata:19910824T000000
DTEND;TZID=Asia/Kolkata:19910824T000000
DTSTAMP:20260423T111339
CREATED:20250703T120748Z
LAST-MODIFIED:20250703T120748Z
UID:10007455-682992000-682992000@www.discoverhollywood.com
SUMMARY:John Patitucci Trio
DESCRIPTION:DesignHTMLWords: 0   Characters: 0
URL:https://www.discoverhollywood.com/event/john-patitucci-trio/
LOCATION:Catalina’s Bar & Grill\, Select
END:VEVENT
BEGIN:VEVENT
DTSTART;TZID=Asia/Kolkata:19910819T000000
DTEND;TZID=Asia/Kolkata:19910819T000000
DTSTAMP:20260423T111339
CREATED:20250703T120917Z
LAST-MODIFIED:20250703T120917Z
UID:10007460-682560000-682560000@www.discoverhollywood.com
SUMMARY:John Pizzarelli Quartet
DESCRIPTION:DesignHTMLWords: 0   Characters: 0
URL:https://www.discoverhollywood.com/event/john-pizzarelli-quartet/
LOCATION:Catalina’s Bar & Grill\, Select
END:VEVENT
BEGIN:VEVENT
DTSTART;TZID=Asia/Kolkata:19910817T000000
DTEND;TZID=Asia/Kolkata:19910817T000000
DTSTAMP:20260423T111339
CREATED:20250703T120918Z
LAST-MODIFIED:20250703T120918Z
UID:10007462-682387200-682387200@www.discoverhollywood.com
SUMMARY:John Pizzarelli Trio featuring Jessica Molaskey
DESCRIPTION:DesignHTMLWords: 0   Characters: 0
URL:https://www.discoverhollywood.com/event/john-pizzarelli-trio-featuring-jessica-molaskey/
LOCATION:Catalina’s Bar & Grill\, Select
END:VEVENT
BEGIN:VEVENT
DTSTART;TZID=Asia/Kolkata:19910814T000000
DTEND;TZID=Asia/Kolkata:19910814T000000
DTSTAMP:20260423T111339
CREATED:20250703T120919Z
LAST-MODIFIED:20250703T120920Z
UID:10007465-682128000-682128000@www.discoverhollywood.com
SUMMARY:John Proulx CD Release Party
DESCRIPTION:DesignHTMLWords: 0   Characters: 0
URL:https://www.discoverhollywood.com/event/john-proulx-cd-release-party/
LOCATION:Catalina’s Bar & Grill\, Select
END:VEVENT
BEGIN:VEVENT
DTSTART;TZID=Asia/Kolkata:19910813T000000
DTEND;TZID=Asia/Kolkata:19910813T000000
DTSTAMP:20260423T111339
CREATED:20250703T120919Z
LAST-MODIFIED:20250703T120920Z
UID:10007466-682041600-682041600@www.discoverhollywood.com
SUMMARY:John Proulx Quartet
DESCRIPTION:DesignHTMLWords: 0   Characters: 0
URL:https://www.discoverhollywood.com/event/john-proulx-quartet/
LOCATION:Catalina’s Bar & Grill\, Select
END:VEVENT
END:VCALENDAR