BEGIN:VCALENDAR
VERSION:2.0
PRODID:-//Discover Hollywood Magazine - ECPv6.15.20//NONSGML v1.0//EN
CALSCALE:GREGORIAN
METHOD:PUBLISH
X-WR-CALNAME:Discover Hollywood Magazine
X-ORIGINAL-URL:https://www.discoverhollywood.com
X-WR-CALDESC:Events for Discover Hollywood Magazine
REFRESH-INTERVAL;VALUE=DURATION:PT1H
X-Robots-Tag:noindex
X-PUBLISHED-TTL:PT1H
BEGIN:VTIMEZONE
TZID:Asia/Kolkata
BEGIN:STANDARD
TZOFFSETFROM:+0530
TZOFFSETTO:+0530
TZNAME:IST
DTSTART:19690101T000000
END:STANDARD
END:VTIMEZONE
BEGIN:VEVENT
DTSTART;TZID=Asia/Kolkata:19950819T000000
DTEND;TZID=Asia/Kolkata:19950819T000000
DTSTAMP:20260425T073157
CREATED:20250703T084416Z
LAST-MODIFIED:20250703T084416Z
UID:10006284-808790400-808790400@www.discoverhollywood.com
SUMMARY:Greg Proops: The Smartest Book in the World
DESCRIPTION:Greg Proops will confer his wondrous presence upon our humble establishment%2c launching the paperback edition of his wildly informative%2c hilarious book%2c%26nbsp%3b%3cem%3eThe Smartest Book in the World%3a A Lexicon of Literacy%2c a Rancorous Reportage%2c a Concise Curriculum of Cool%26nbsp%3b%3c/em%3e. Don%27t miss the host of the stratospherically popular podcast%26nbsp%3b\n%3cem%3eThe Smartest Man in the World%3c/em%3e%26nbsp%3b%26nbsp%3bwhen he launches his luxuriant supply of comic missiles from Chevalier%27s shores in a%26nbsp%3b\n%3cstrong%3etalk%2c q%26amp%3ba%2cDesignHTMLWords: 70   Characters: 438
URL:https://www.discoverhollywood.com/event/greg-proops-the-smartest-book-in-the-world/
LOCATION:Chevalier’s Books\, 126 N. Larchmont Blvd.\, Hollywood\, California
END:VEVENT
BEGIN:VEVENT
DTSTART;TZID=Asia/Kolkata:19940403T000000
DTEND;TZID=Asia/Kolkata:19940403T000000
DTSTAMP:20260425T073157
CREATED:20250703T095845Z
LAST-MODIFIED:20250703T095845Z
UID:10006502-765331200-765331200@www.discoverhollywood.com
SUMMARY:Holter on Dylan Night of Music
DESCRIPTION:%3cspan style%3d%22margin%3a0px%3b color%3argb%2832%2c 32%2c 32%29%3b font-family%3aHelvetica%2csans-serif%3b font-size%3a12pt%3b%22%3eChevalier’s will celebrate this glorious oral – and aural – origin of literature with a solo set of Dylan songs performed by our very own music-ographer and roots musician extraordinaire %3ca style%3d%22-ms-text-size-adjust%3a100%25%3b-webkit-text-size-adjust%3a100%25%22 href%3d%22http%3a//chevaliersbooks.us8.list-manage.com/track/click%3fu%3de777a664d331c4750b11b1161%26amp%3bid%3d337a9fe682%26amp%3be%3d2053d25450%22 target%3d%22_blank%22%3e%3cspan%3eDarryl HolteDesignHTMLWords: 32   Characters: 198
URL:https://www.discoverhollywood.com/event/holter-on-dylan-night-of-music/
LOCATION:Chevalier’s Books\, 126 N. Larchmont Blvd.\, Hollywood\, California
END:VEVENT
BEGIN:VEVENT
DTSTART;TZID=Asia/Kolkata:19940324T000000
DTEND;TZID=Asia/Kolkata:19940324T000000
DTSTAMP:20260425T073157
CREATED:20250703T100007Z
LAST-MODIFIED:20250703T100007Z
UID:10006512-764467200-764467200@www.discoverhollywood.com
SUMMARY:home About Events Visit Us Los Angeles in the 1970s with Editor David Kukoff
DESCRIPTION:%3cdiv class%3d%22menu-item menu-item-type-custom menu-item-object-custom menu-item-home menu-item-1577%22 id%3d%22menu-item-1577%22%3e\n	%3ci%3eLos Angeles in the 1970s%3c/i%3e with Editor David Kukoff in Conversation with Writers Joe Donnelly%2c Matthew Specktor and Susan%26nbsp%3bHayden.\n%3c/div%3eDesignHTMLWords: 20   Characters: 125
URL:https://www.discoverhollywood.com/event/home-about-events-visit-us-los-angeles-in-the-1970s-with-editor-david-kukoff/
LOCATION:Chevalier’s Books\, 126 N. Larchmont Blvd.\, Hollywood\, California
END:VEVENT
BEGIN:VEVENT
DTSTART;TZID=Asia/Kolkata:19930512T000000
DTEND;TZID=Asia/Kolkata:19930512T000000
DTSTAMP:20260425T073157
CREATED:20250703T110223Z
LAST-MODIFIED:20250703T110223Z
UID:10006828-737164800-737164800@www.discoverhollywood.com
SUMMARY:Industrial Poetry\, a generative writing workshop
DESCRIPTION:%3cspan style%3d%22margin%3a0px%3b color%3argb%2832%2c 32%2c 32%29%3b font-family%3aHelvetica%2csans-serif%3b font-size%3a12pt%3b%22%3e\n	Popular Los Angeles poet%2c%3cstrong%3e%3cspan style%3d%22margin%3a0px%3b font-family%3aHelvetica%2csans-serif%3b%22%3e%26nbsp%3bBrendan Constantine%3c/span%3e%3c/strong%3e%2c returns for a second time after the success of his first%26nbsp%3b\n	%3cstrong%3e%3ci%3e%3cspan style%3d%22margin%3a0px%3b font-family%3aHelvetica%2csans-serif%3b%22%3eIndustrial Poetry%3c/span%3e%3c/i%3e%3c/strong%3e%2c%26nbsp%3b\n	%3cstrong%3e%3cspan style%3d%22margin%3a0px%3b font-family%3aHelvetica%2csans-serif%3b%22%3ea generative writing woDesignHTMLWords: 23   Characters: 145
URL:https://www.discoverhollywood.com/event/industrial-poetry-a-generative-writing-workshop/
LOCATION:Chevalier’s Books\, 126 N. Larchmont Blvd.\, Hollywood\, California
END:VEVENT
BEGIN:VEVENT
DTSTART;TZID=Asia/Kolkata:19920207T000000
DTEND;TZID=Asia/Kolkata:19920207T000000
DTSTAMP:20260425T073157
CREATED:20250703T115455Z
LAST-MODIFIED:20250703T115455Z
UID:10007288-697420800-697420800@www.discoverhollywood.com
SUMMARY:Jericho Brown
DESCRIPTION:Selected by the highly-acclaimed poet Jericho Brown for the 15th annual %3ca href%3d%22http%3a//chevaliersbooks.us8.list-manage.com/track/click%3fu%3de777a664d331c4750b11b1161%26amp%3bid%3d2a92b47cfe%26amp%3be%3d2053d25450%22%3eA. Poulin%2c Jr. Poetry Prize%3c/a%3e%2c\n%3ca href%3d%22http%3a//chevaliersbooks.us8.list-manage.com/track/click%3fu%3de777a664d331c4750b11b1161%26amp%3bid%3dde4932b3c9%26amp%3be%3d2053d25450%22 target%3d%22_blank%22%3eChen Chen%3c/a%3e%27s %26nbsp%3bdazzling debut collection\n%3cem%3e%3ca href%3d%22http%3a//chevaliersbooks.us8.list-manage.com/track/click%3fu%3de777a664d331cDesignHTMLWords: 21   Characters: 133
URL:https://www.discoverhollywood.com/event/jericho-brown/
LOCATION:Chevalier’s Books\, 126 N. Larchmont Blvd.\, Hollywood\, California
END:VEVENT
BEGIN:VEVENT
DTSTART;TZID=Asia/Kolkata:19911211T000000
DTEND;TZID=Asia/Kolkata:19911211T000000
DTSTAMP:20260425T073157
CREATED:20250703T120135Z
LAST-MODIFIED:20250703T120135Z
UID:10007346-692409600-692409600@www.discoverhollywood.com
SUMMARY:JIll Soloway discusses and signs "She Wants It"
DESCRIPTION:%3cspan%3e\n	In this poignant memoir of personal transformation%2c the mastermind behind the hit TV series %3cem%3eTransparent%3c/em%3e Jill Soloway takes us on a patriarchy-toppling emotional and professional journey\n	%3cbr%3e\n%3c%21–%5bif %21supportLineBreakNewLine%5d–%3e \n	%3cbr%3e\n%3c%21–%5bendif%5d–%3e%3c/span%3eDesignHTMLWords: 26   Characters: 183
URL:https://www.discoverhollywood.com/event/jill-soloway-discusses-and-signs-she-wants-it/
LOCATION:Chevalier’s Books\, 126 N. Larchmont Blvd.\, Hollywood\, California
END:VEVENT
BEGIN:VEVENT
DTSTART;TZID=Asia/Kolkata:19901129T000000
DTEND;TZID=Asia/Kolkata:19901129T000000
DTSTAMP:20260425T073157
CREATED:20250703T122246Z
LAST-MODIFIED:20250703T122246Z
UID:10007723-659836800-659836800@www.discoverhollywood.com
SUMMARY:Kareem Abdul-Jabbar
DESCRIPTION:The legendary Kareem Abdul-Jabbar will read%2c discuss and sign his recently published memoir%2c %3ci%3eCoach Wooden and Me%3a 50 Years of Friendship On and Off the Court%3c/i%3e. He has become a renowned activist%2c sparking much needed conversation about race and religion.DesignHTMLWords: 40   Characters: 245
URL:https://www.discoverhollywood.com/event/kareem-abdul-jabbar/
LOCATION:Chevalier’s Books\, 126 N. Larchmont Blvd.\, Hollywood\, California
END:VEVENT
BEGIN:VEVENT
DTSTART;TZID=Asia/Kolkata:19901003T000000
DTEND;TZID=Asia/Kolkata:19901003T000000
DTSTAMP:20260425T073157
CREATED:20250709T054719Z
LAST-MODIFIED:20250709T054719Z
UID:10007780-654912000-654912000@www.discoverhollywood.com
SUMMARY:Kayla Cagan: Piper Perish
DESCRIPTION:Playwright-writer%3ca href%3d%22http%3a//chevaliersbooks.us8.list-manage2.com/track/click%3fu%3de777a664d331c4750b11b1161%26amp%3bid%3df154474441%26amp%3be%3d2053d25450%22 target%3d%22_blank%22%3eKayla Cagan%3c/a%3e has received enthusiastic kudos for her humorous debut YA novel that paints a true-to-life portrait of a teen artist bursting to make a break.The experiences of%26nbsp%3b\n%3cem%3e%3ca href%3d%22http%3a//chevaliersbooks.us8.list-manage.com/track/click%3fu%3de777a664d331c4750b11b1161%26amp%3bid%3d00395c5ac2%26amp%3be%3d2053d25450%22 target%3d%22_blank%22%3ePiper Perish%3c/a%3e%2c%26DesignHTMLWords: 30   Characters: 199
URL:https://www.discoverhollywood.com/event/kayla-cagan-piper-perish/
LOCATION:Chevalier’s Books\, 126 N. Larchmont Blvd.\, Hollywood\, California
END:VEVENT
BEGIN:VEVENT
DTSTART;TZID=Asia/Kolkata:19900914T000000
DTEND;TZID=Asia/Kolkata:19900914T000000
DTSTAMP:20260425T073157
CREATED:20250709T054849Z
LAST-MODIFIED:20250709T054849Z
UID:10007799-653270400-653270400@www.discoverhollywood.com
SUMMARY:Keep The Candle Burning in December with All Lit up
DESCRIPTION:Keep The Candle Burning in December with %3ci%3eAll Lit up%3c/i%3e %3a Aimee Bender%2c Martin Pousson%2c Amy Uyematsu and Simon Petty%2c Reading %26amp%3b%26nbsp%3bPerforming.DesignHTMLWords: 21   Characters: 129
URL:https://www.discoverhollywood.com/event/keep-the-candle-burning-in-december-with-all-lit-up/
LOCATION:Chevalier’s Books\, 126 N. Larchmont Blvd.\, Hollywood\, California
END:VEVENT
BEGIN:VEVENT
DTSTART;TZID=Asia/Kolkata:19880916T000000
DTEND;TZID=Asia/Kolkata:19880916T000000
DTSTAMP:20260425T073157
CREATED:20250709T124315Z
LAST-MODIFIED:20250709T124315Z
UID:10008927-590371200-590371200@www.discoverhollywood.com
SUMMARY:Mary McCoy: Camp So-And-So
DESCRIPTION:YA novelist Mary McCoy%26nbsp%3blaunches%3ca href%3d%22http%3a//chevaliersbooks.us8.list-manage.com/track/click%3fu%3de777a664d331c4750b11b1161%26amp%3bid%3dad6685339f%26amp%3be%3d2053d25450%22 target%3d%22_blank%22%3e%26nbsp%3b%3cem%3eCamp So-And-So%3c/em%3e%3c/a%3e\n%3cem%3e%2c%26nbsp%3b%3c/em%3ea wild and funny%26nbsp%3bnovel that will not fail to delight%2c especially if you like summer camp served with a little camp%2c and a s\n%3cem%3eoupçon%3c/em%3e%26nbsp%3bof Shakespeare. She is joined by Lambda literary fellow Audrey Coulthurst author of the recently published%26nbsp%3b\n%3cem%3e%3ca href%3d%22httDesignHTMLWords: 49   Characters: 280
URL:https://www.discoverhollywood.com/event/mary-mccoy-camp-so-and-so/
LOCATION:Chevalier’s Books\, 126 N. Larchmont Blvd.\, Hollywood\, California
END:VEVENT
BEGIN:VEVENT
DTSTART;TZID=Asia/Kolkata:19871223T000000
DTEND;TZID=Asia/Kolkata:19871223T000000
DTSTAMP:20260425T073157
CREATED:20250710T095612Z
LAST-MODIFIED:20250710T095612Z
UID:10009195-567216000-567216000@www.discoverhollywood.com
SUMMARY:Michael Nava
DESCRIPTION:Thirty years ago%2c writer %3ca href%3d%22http%3a//chevaliersbooks.us8.list-manage2.com/track/click%3fu%3de777a664d331c4750b11b1161%26amp%3bid%3d35630e43ca%26amp%3be%3d2053d25450%22 target%3d%22_blank%22%3eMichael Nava%3c/a%3e set out to write a mystery that would pay homage to classic crime fiction but also upend the genre. The character he created%2c Henry Rios%2c a gay%2c Chicano criminal defense lawyer became the central figure in a celebrated seven novel series.DesignHTMLWords: 47   Characters: 270
URL:https://www.discoverhollywood.com/event/michael-nava/
LOCATION:Chevalier’s Books\, 126 N. Larchmont Blvd.\, Hollywood\, California
END:VEVENT
BEGIN:VEVENT
DTSTART;TZID=Asia/Kolkata:19871215T000000
DTEND;TZID=Asia/Kolkata:19871215T000000
DTSTAMP:20260425T073157
CREATED:20250710T095627Z
LAST-MODIFIED:20250710T095628Z
UID:10009203-566524800-566524800@www.discoverhollywood.com
SUMMARY:Michael Tolkin: NK3
DESCRIPTION:With%26nbsp%3b%3cem%3eThe Player%3c/em%3e%26nbsp%3band\n%3cem%3e%26nbsp%3bThe Return of the Player%3c/em%3e%2c the brilliant writer/director and author\n%3ca href%3d%22http%3a//chevaliersbooks.us8.list-manage.com/track/click%3fu%3de777a664d331c4750b11b1161%26amp%3bid%3d8eebc5042f%26amp%3be%3d2053d25450%22 target%3d%22_blank%22%3eMichael Tolkin%3c/a%3e established himself as the master novelist of modern Hollywood. His new novel%2c\n%3ca href%3d%22http%3a//chevaliersbooks.us8.list-manage1.com/track/click%3fu%3de777a664d331c4750b11b1161%26amp%3bid%3d833d7b1c26%26amp%3be%3d2053d25450%22 target%3d%22_blank%22%3e%26DesignHTMLWords: 28   Characters: 178
URL:https://www.discoverhollywood.com/event/michael-tolkin-nk3/
LOCATION:Chevalier’s Books\, 126 N. Larchmont Blvd.\, Hollywood\, California
END:VEVENT
BEGIN:VEVENT
DTSTART;TZID=Asia/Kolkata:19871129T000000
DTEND;TZID=Asia/Kolkata:19871129T000000
DTSTAMP:20260425T073157
CREATED:20250710T095655Z
LAST-MODIFIED:20250710T095655Z
UID:10009219-565142400-565142400@www.discoverhollywood.com
SUMMARY:Middle-Grade Council
DESCRIPTION:Sign up %26amp%3b order your book by January 2nd to reserve your place. To get%26nbsp%3b%3cem%3eA Monster Calls%3c/em%3e by January 2nd%2c call %26nbsp%3b323-465-1334DesignHTMLWords: 22   Characters: 116
URL:https://www.discoverhollywood.com/event/middle-grade-council/
LOCATION:Chevalier’s Books\, 126 N. Larchmont Blvd.\, Hollywood\, California
END:VEVENT
BEGIN:VEVENT
DTSTART;TZID=Asia/Kolkata:19830428T000000
DTEND;TZID=Asia/Kolkata:19830428T000000
DTSTAMP:20260425T073157
CREATED:20250714T093028Z
LAST-MODIFIED:20250714T093028Z
UID:10010465-420336000-420336000@www.discoverhollywood.com
SUMMARY:Poetry of Conscience: A Workshop
DESCRIPTION:%3cbr%3eDesignHTMLWords: 0   Characters: 0
URL:https://www.discoverhollywood.com/event/poetry-of-conscience-a-workshop/
LOCATION:Chevalier’s Books\, 126 N. Larchmont Blvd.\, Hollywood\, California
END:VEVENT
BEGIN:VEVENT
DTSTART;TZID=Asia/Kolkata:19820313T000000
DTEND;TZID=Asia/Kolkata:19820313T000000
DTSTAMP:20260425T073157
CREATED:20250714T094554Z
LAST-MODIFIED:20250714T094554Z
UID:10010876-384825600-384825600@www.discoverhollywood.com
SUMMARY:Rejuvenate in January
DESCRIPTION:Start 2017 with a crackle and Pop culture. Enjoy fun and funny authors plus two new book clubs for the younger crowd. Find out how to be un-Born-Again in a madhouse memoir with the inimitable Maggie Rowe%2c enter the ever-inventive worlds of top animators%2c%26nbsp%3brestore your wonderment with%26nbsp%3bmusic and word from our%26nbsp%3bliterary%26nbsp%3bfireworks%2c take a jaunt with the %22very English%22 long view%2c and get the skinny on failed revolutions and failure itself from two very different perspectives.DesignHTMLWords: 79   Characters: 461
URL:https://www.discoverhollywood.com/event/rejuvenate-in-january/
LOCATION:Chevalier’s Books\, 126 N. Larchmont Blvd.\, Hollywood\, California
END:VEVENT
BEGIN:VEVENT
DTSTART;TZID=Asia/Kolkata:19780826T000000
DTEND;TZID=Asia/Kolkata:19780826T000000
DTSTAMP:20260425T073157
CREATED:20250714T124451Z
LAST-MODIFIED:20250714T124451Z
UID:10012149-272937600-272937600@www.discoverhollywood.com
SUMMARY:Small Business Saturday
DESCRIPTION:%3cp%3e%3cb%3e%3cspan%3eA day to escape the malls%2c say bye bye to big box stores%2c liberate your eyes from the screen and take a stroll in your local shopping district to do some pleasurable%2c person-to-person holiday shopping.%3c/span%3e%3c/b%3e%3c/p%3eDesignHTMLWords: 35   Characters: 195
URL:https://www.discoverhollywood.com/event/small-business-saturday/
LOCATION:Chevalier’s Books\, 126 N. Larchmont Blvd.\, Hollywood\, California
END:VEVENT
BEGIN:VEVENT
DTSTART;TZID=Asia/Kolkata:19750803T000000
DTEND;TZID=Asia/Kolkata:19750803T000000
DTSTAMP:20260425T073157
CREATED:20250715T115520Z
LAST-MODIFIED:20250715T115520Z
UID:10013269-176256000-176256000@www.discoverhollywood.com
SUMMARY:The Careless Embrace of the Boneshaker
DESCRIPTION:%3cspan style%3d%22margin%3a0px%3b color%3argb%2832%2c 32%2c 32%29%3b font-family%3aHelvetica%2csans-serif%3b font-size%3a12pt%3b%22%3eNYC’s prodigious small press%2c “great weather for MEDIA%2c” kicks off the publication of%26nbsp%3b%3cem%3e%3cspan style%3d%22margin%3a0px%3b font-family%3aHelvetica%2csans-serif%3b%22%3eThe Careless Embrace of the Boneshaker.%3c/span%3e%3c/em%3e%3c/span%3eDesignHTMLWords: 19   Characters: 122
URL:https://www.discoverhollywood.com/event/the-careless-embrace-of-the-boneshaker/
LOCATION:Chevalier’s Books\, 126 N. Larchmont Blvd.\, Hollywood\, California
END:VEVENT
BEGIN:VEVENT
DTSTART;TZID=Asia/Kolkata:19741002T000000
DTEND;TZID=Asia/Kolkata:19741002T000000
DTSTAMP:20260425T073157
CREATED:20250715T120728Z
LAST-MODIFIED:20250715T120728Z
UID:10013389-149904000-149904000@www.discoverhollywood.com
SUMMARY:The Gift of Gift !
DESCRIPTION:%3cspan style%3d%22margin%3a0px%3b color%3argb%2832%2c 32%2c 32%29%3b font-family%3aHelvetica%2csans-serif%3b font-size%3a12pt%3b%22%3eThe title character was inspired by a real-life girl named Gift%2c who was WCI’s first heart patient in Uganda.%26nbsp%3bProceeds from the book will be shared with WCI. Meet Sanjay and take this golden opportunity to teach young children about the beauty of generosity.%3c/span%3eDesignHTMLWords: 44   Characters: 253
URL:https://www.discoverhollywood.com/event/the-gift-of-gift/
LOCATION:Chevalier’s Books\, 126 N. Larchmont Blvd.\, Hollywood\, California
END:VEVENT
BEGIN:VEVENT
DTSTART;TZID=Asia/Kolkata:19740708T000000
DTEND;TZID=Asia/Kolkata:19740708T000000
DTSTAMP:20260425T073157
CREATED:20250715T121821Z
LAST-MODIFIED:20250715T121821Z
UID:10013475-142473600-142473600@www.discoverhollywood.com
SUMMARY:The Highway Kind !
DESCRIPTION:%3cdiv%3e\n	%3cspan style%3d%22margin%3a0px%3b color%3argb%2832%2c 32%2c 32%29%3b font-family%3aHelvetica%2csans-serif%3b font-size%3a12pt%3b%22%3eIt%27s a collection which includes new%2c%26nbsp%3boriginal stories from some of the country’s best selling and critically acclaimed crime writers%2c several of whom will thrill us with their presence at this high octane panel discussion and signing.%3c/span%3e\n	%3cspan style%3d%22margin%3a0px%3b color%3argb%2832%2c 32%2c 32%29%3b font-family%3aHelvetica%2csans-serif%3b font-size%3a12pt%3b%22%3e\n		%3cbr%3e\n		%3cbr%3e\n	%3c/span%3e\n%3c/div%3e\n%3cspan style%3d%22margin%3aDesignHTMLWords: 37   Characters: 231
URL:https://www.discoverhollywood.com/event/the-highway-kind/
LOCATION:Chevalier’s Books\, 126 N. Larchmont Blvd.\, Hollywood\, California
END:VEVENT
BEGIN:VEVENT
DTSTART;TZID=Asia/Kolkata:19731205T000000
DTEND;TZID=Asia/Kolkata:19731205T000000
DTSTAMP:20260425T073157
CREATED:20250715T124905Z
LAST-MODIFIED:20250715T124905Z
UID:10013690-123897600-123897600@www.discoverhollywood.com
SUMMARY:The Madwoman Upstairs
DESCRIPTION:Chevalier%27s welcomes novelist Catherine Lowell for a discussion of her book %3cem%3eThe Madwoman Upstairs%3c/em%3e. This fast-paced%2c%26nbsp%3bsmart debut novel%26nbsp%3bis a mystery%2c romance%2c and dark comedy about the last descendant of the%26nbsp%3bBrontë family.%26nbsp%3bA must read for anyone who has been fascinated by the writings and lives of the%26nbsp%3bBrontë sisters%21DesignHTMLWords: 52   Characters: 308
URL:https://www.discoverhollywood.com/event/the-madwoman-upstairs/
LOCATION:Chevalier’s Books\, 126 N. Larchmont Blvd.\, Hollywood\, California
END:VEVENT
BEGIN:VEVENT
DTSTART;TZID=Asia/Kolkata:19711228T000000
DTEND;TZID=Asia/Kolkata:19711228T000000
DTSTAMP:20260425T073157
CREATED:20250716T061213Z
LAST-MODIFIED:20250716T061213Z
UID:10014398-62726400-62726400@www.discoverhollywood.com
SUMMARY:This Week
DESCRIPTION:02/07%3a A Narrow Bridge with J.J Gesher\n%3cbr%3e\n02/09%3a All Lit Up\n%3cbr%3e\n02/12%3a Bowls of Plenty%3a Recipes for Healthy and Delicious Whole-Grain Meals.\n%3cbr%3eDesignHTMLWords: 22   Characters: 126
URL:https://www.discoverhollywood.com/event/this-week/
LOCATION:Chevalier’s Books\, 126 N. Larchmont Blvd.\, Hollywood\, California
END:VEVENT
BEGIN:VEVENT
DTSTART;TZID=Asia/Kolkata:20260425T073157
DTEND;TZID=Asia/Kolkata:20260425T073157
DTSTAMP:20260425T073157
CREATED:20250716T084714Z
LAST-MODIFIED:20250716T084714Z
UID:10015506-0-0@www.discoverhollywood.com
SUMMARY:YA Squad-Meet
DESCRIPTION:Sign up %26amp%3b order your book by January 2nd to reserve your place. To get%26nbsp%3b%3cem%3eMore Than This%26nbsp%3b%3c/em%3eby January 2nd%2c call%26nbsp%3b323-465-1334DesignHTMLWords: 22   Characters: 114
URL:https://www.discoverhollywood.com/event/ya-squad-meet/
LOCATION:Chevalier’s Books\, 126 N. Larchmont Blvd.\, Hollywood\, California
END:VEVENT
BEGIN:VEVENT
DTSTART;TZID=Asia/Kolkata:20260425T073157
DTEND;TZID=Asia/Kolkata:20260425T073157
DTSTAMP:20260425T073157
CREATED:20250716T084311Z
LAST-MODIFIED:20250716T091516Z
UID:10015475-0-0@www.discoverhollywood.com
SUMMARY:WriteGirl
DESCRIPTION:On May 14%3csup%3eth %3c/sup%3ewe welcome the young women of WriteGirl%2c the%26nbsp%3bmentorship program for young female%26nbsp%3bwriters.%26nbsp%3bThey will be hosting their%26nbsp%3bannual public event%26nbsp%3bat%26nbsp%3bChevalier%27s to celebrate%26nbsp%3bwith readings of both poetry and prose. Join us for an inspiring%26nbsp%3bhourDesignHTMLWords: 42   Characters: 242
URL:https://www.discoverhollywood.com/event/writegirl/
LOCATION:Chevalier’s Books\, 126 N. Larchmont Blvd.\, Hollywood\, California
END:VEVENT
BEGIN:VEVENT
DTSTART;TZID=Asia/Kolkata:20260425T073157
DTEND;TZID=Asia/Kolkata:20260425T073157
DTSTAMP:20260425T073157
CREATED:20250716T083519Z
LAST-MODIFIED:20250716T083519Z
UID:10015337-0-0@www.discoverhollywood.com
SUMMARY:Whoop It Up! It’s Proops!
DESCRIPTION:We can%27t believe our good fortune but here it is%3a the ridiculously erudite and riotously funny Greg Proops will confer his wondrous presence upon our humble establishment%2c launching the paperback edition of his wildly informative%2c hilarious book%2c%3cb%3e%26nbsp%3b%3c/b%3eDesignHTMLWords: 37   Characters: 241
URL:https://www.discoverhollywood.com/event/whoop-it-up-its-proops/
LOCATION:Chevalier’s Books\, 126 N. Larchmont Blvd.\, Hollywood\, California
END:VEVENT
BEGIN:VEVENT
DTSTART;TZID=Asia/Kolkata:20260425T073157
DTEND;TZID=Asia/Kolkata:20260425T073157
DTSTAMP:20260425T073157
CREATED:20250716T082523Z
LAST-MODIFIED:20250716T082523Z
UID:10015241-0-0@www.discoverhollywood.com
SUMMARY:Wendy Lawless: Heart of Glass
DESCRIPTION:%3cbr%3e\n%3ch1%3e\n	%3cem%3eNew York Times %3c/em%3eBestselling Author%26nbsp%3bWendy Lawless Discusses and Signs%26nbsp%3b\n	%3cem%3eHeart of Glass%3a A Memoir%3c/em%3e\n%3c/h1%3eIn this edgy and romantic follow-up to her%26nbsp%3b\n%3cem%3eNew York%26nbsp%3bTimes%26nbsp%3b%3c/em%3ebestselling%26nbsp%3bdebut%26nbsp%3bmemoir%2c%26nbsp%3b\n%3cem%3eChanel Bonfire%3c/em%3e%2c%26nbsp%3bWendy%26nbsp%3bLawless chronicles her misguided twenties-a darkly funny story of a girl without a roadmap for life who flees her disastrous past to find herself in the gritty heart of 1980s New York City.DesignHTMLWords: 65   Characters: 385
URL:https://www.discoverhollywood.com/event/wendy-lawless-heart-of-glass/
LOCATION:Chevalier’s Books\, 126 N. Larchmont Blvd.\, Hollywood\, California
END:VEVENT
BEGIN:VEVENT
DTSTART;TZID=Asia/Kolkata:20260425T073157
DTEND;TZID=Asia/Kolkata:20260425T073157
DTSTAMP:20260425T073157
CREATED:20250716T081636Z
LAST-MODIFIED:20250716T081636Z
UID:10014984-0-0@www.discoverhollywood.com
SUMMARY:Velbekomme! Trine Hahnemann
DESCRIPTION:Velbekomme%21 Trine Hahnemann Returns Discussing and Signing Her Delectable New Cookbook %3ci%3eScandinavian Comfort Food%3c/i%3e %2bTaste%26nbsp%3bSamples%21DesignHTMLWords: 16   Characters: 126
URL:https://www.discoverhollywood.com/event/velbekomme-trine-hahnemann/
LOCATION:Chevalier’s Books\, 126 N. Larchmont Blvd.\, Hollywood\, California
END:VEVENT
BEGIN:VEVENT
DTSTART;TZID=Asia/Kolkata:20260425T073157
DTEND;TZID=Asia/Kolkata:20260425T073157
DTSTAMP:20260425T073157
CREATED:20250716T081438Z
LAST-MODIFIED:20250716T081438Z
UID:10014900-0-0@www.discoverhollywood.com
SUMMARY:Unwarranted: Policing Without Permission
DESCRIPTION:In%26nbsp%3b%3cem%3e%3ca href%3d%22http%3a//chevaliersbooks.us8.list-manage2.com/track/click%3fu%3de777a664d331c4750b11b1161%26amp%3bid%3d17cb5617a4%26amp%3be%3d2053d25450%22 target%3d%22_blank%22%3eUnwarranted%3a Policing Without Permission%3c/a%3e%2c%3c/em%3e%26nbsp%3bauthor%2c prominent law professor and %22Policing Project%22 director\n%3ca href%3d%22http%3a//chevaliersbooks.us8.list-manage.com/track/click%3fu%3de777a664d331c4750b11b1161%26amp%3bid%3d186a866f25%26amp%3be%3d2053d25450%22 target%3d%22_blank%22%3eBarry Friedman%3c/a%3e delivers a galvanizing and systemic overview on contemporary policing tDesignHTMLWords: 25   Characters: 190
URL:https://www.discoverhollywood.com/event/unwarranted-policing-without-permission/
LOCATION:Chevalier’s Books\, 126 N. Larchmont Blvd.\, Hollywood\, California
END:VEVENT
END:VCALENDAR