BEGIN:VCALENDAR
VERSION:2.0
PRODID:-//Discover Hollywood Magazine - ECPv6.15.20//NONSGML v1.0//EN
CALSCALE:GREGORIAN
METHOD:PUBLISH
X-WR-CALNAME:Discover Hollywood Magazine
X-ORIGINAL-URL:https://www.discoverhollywood.com
X-WR-CALDESC:Events for Discover Hollywood Magazine
REFRESH-INTERVAL;VALUE=DURATION:PT1H
X-Robots-Tag:noindex
X-PUBLISHED-TTL:PT1H
BEGIN:VTIMEZONE
TZID:Asia/Kolkata
BEGIN:STANDARD
TZOFFSETFROM:+0530
TZOFFSETTO:+0530
TZNAME:IST
DTSTART:19690101T000000
END:STANDARD
END:VTIMEZONE
BEGIN:VEVENT
DTSTART;TZID=Asia/Kolkata:19950624T000000
DTEND;TZID=Asia/Kolkata:19950624T000000
DTSTAMP:20260424T194549
CREATED:20250703T084519Z
LAST-MODIFIED:20250703T084519Z
UID:10006340-803952000-803952000@www.discoverhollywood.com
SUMMARY:Group Shot
DESCRIPTION:DesignHTMLWords: 0   Characters: 0
URL:https://www.discoverhollywood.com/event/group-shot/
LOCATION:Couturier Gallery\, 166 N. La Brea Ave.\, Hollywood\, California
END:VEVENT
BEGIN:VEVENT
DTSTART;TZID=Asia/Kolkata:19931001T000000
DTEND;TZID=Asia/Kolkata:19931001T000000
DTSTAMP:20260424T194549
CREATED:20250703T105759Z
LAST-MODIFIED:20250703T105759Z
UID:10006686-749433600-749433600@www.discoverhollywood.com
SUMMARY:I’ve Run Away From The Circus
DESCRIPTION:%3cp%3ePainter and illustrator DeLoss McGraw %28b. 1945%29 60 gouache paintings including many double-sided works%2cas well as four bronze and painted wood sculptures celebrating the circus of life inspired by the writing of Bertolt Brecht%2c Robert Creeley%2c William Faulkner%2c Christopher Isherwood among others. Oct 25 – Nov 29%2c with an Artist%27s Opening Reception%2c Saturday%2c October 25%2c 6-8pm.%3c/p%3eDesignHTMLWords: 55   Characters: 362
URL:https://www.discoverhollywood.com/event/ive-run-away-from-the-circus/
LOCATION:Couturier Gallery\, 166 N. La Brea Ave.\, Hollywood\, California
END:VEVENT
BEGIN:VEVENT
DTSTART;TZID=Asia/Kolkata:19910529T000000
DTEND;TZID=Asia/Kolkata:19910529T000000
DTSTAMP:20260424T194549
CREATED:20250703T121338Z
LAST-MODIFIED:20250703T121338Z
UID:10007542-675475200-675475200@www.discoverhollywood.com
SUMMARY:Jorge Marín - Body Language: bronze
DESCRIPTION:%3cdiv align%3d%22center%22%3e\n	%3cimg class%3d%22%22 alt%3d%22%22 src%3d%22images/Jorge-Marín.jpg%22 height%3d%22210%22 width%3d%22294%22%3e\n%3c/div%3eDesignHTMLWords: 0   Characters: 0
URL:https://www.discoverhollywood.com/event/jorge-marin-body-language-bronze/
LOCATION:Couturier Gallery\, 166 N. La Brea Ave.\, Hollywood\, California
END:VEVENT
BEGIN:VEVENT
DTSTART;TZID=Asia/Kolkata:19910528T000000
DTEND;TZID=Asia/Kolkata:19910528T000000
DTSTAMP:20260424T194549
CREATED:20250703T121359Z
LAST-MODIFIED:20250703T121359Z
UID:10007543-675388800-675388800@www.discoverhollywood.com
SUMMARY:Jorge Marín - Body Language: bronzes
DESCRIPTION:%3cdiv align%3d%22center%22%3e\n	%3cimg class%3d%22%22 alt%3d%22%22 src%3d%22images/Jorge-Marín.jpg%22 height%3d%22210%22 width%3d%22294%22%3e\n%3c/div%3eDesignHTMLWords: 0   Characters: 0
URL:https://www.discoverhollywood.com/event/jorge-marin-body-language-bronzes/
LOCATION:Couturier Gallery\, 166 N. La Brea Ave.\, Hollywood\, California
END:VEVENT
BEGIN:VEVENT
DTSTART;TZID=Asia/Kolkata:19910523T000000
DTEND;TZID=Asia/Kolkata:19910523T000000
DTSTAMP:20260424T194549
CREATED:20250703T121409Z
LAST-MODIFIED:20250703T121409Z
UID:10007548-674956800-674956800@www.discoverhollywood.com
SUMMARY:Jose Manuel Fors
DESCRIPTION:%3cdiv align%3d%22center%22%3e\n	%3cimg class%3d%22%22 alt%3d%22%22 src%3d%22images/2-13-Couturier-paraguas-2015-negatives.invite2605.jpg%22 height%3d%22250%22 width%3d%22375%22%3e\n%3c/div%3eDesignHTMLWords: 0   Characters: 0
URL:https://www.discoverhollywood.com/event/jose-manuel-fors/
LOCATION:Couturier Gallery\, 166 N. La Brea Ave.\, Hollywood\, California
END:VEVENT
BEGIN:VEVENT
DTSTART;TZID=Asia/Kolkata:19910522T000000
DTEND;TZID=Asia/Kolkata:19910522T000000
DTSTAMP:20260424T194549
CREATED:20250703T121409Z
LAST-MODIFIED:20250703T121409Z
UID:10007549-674870400-674870400@www.discoverhollywood.com
SUMMARY:Jose Manuel Fors
DESCRIPTION:%3cimg class%3d%22%22 alt%3d%22%22 src%3d%22images/2-13-Couturier-paraguas-2015-negatives.invite2605.jpg%22 height%3d%22250%22 width%3d%22375%22%3eDesignHTMLWords: 0   Characters: 0
URL:https://www.discoverhollywood.com/event/jose-manuel-fors-2/
LOCATION:Couturier Gallery\, 166 N. La Brea Ave.\, Hollywood\, California
END:VEVENT
BEGIN:VEVENT
DTSTART;TZID=Asia/Kolkata:19900808T000000
DTEND;TZID=Asia/Kolkata:19900808T000000
DTSTAMP:20260424T194549
CREATED:20250709T055413Z
LAST-MODIFIED:20250709T055413Z
UID:10007836-650073600-650073600@www.discoverhollywood.com
SUMMARY:Kenneth Locker: L.A. Noir
DESCRIPTION:August 5 – August 19%2c 2017DesignHTMLWords: 5   Characters: 24
URL:https://www.discoverhollywood.com/event/kenneth-locker-l-a-noir/
LOCATION:Couturier Gallery\, 166 N. La Brea Ave.\, Hollywood\, California
END:VEVENT
BEGIN:VEVENT
DTSTART;TZID=Asia/Kolkata:19830210T000000
DTEND;TZID=Asia/Kolkata:19830210T000000
DTSTAMP:20260424T194549
CREATED:20250714T093210Z
LAST-MODIFIED:20250714T093210Z
UID:10010542-413683200-413683200@www.discoverhollywood.com
SUMMARY:Present Art XV
DESCRIPTION:%3cp%3eCouturier Gallery is pleased to present its longstanding holiday exhibition%2c %3cb%3ePresent Art XV%3c/b%3e%2c a group exhibition of twenty-five artists offering%3c/p%3e\n%3cp%3ea range of affordable works in a variety of techniques and mediums ideal for gift-giving and/or collecting.%26nbsp%3b %3c/p%3eDesignHTMLWords: 37   Characters: 247
URL:https://www.discoverhollywood.com/event/present-art-xv/
LOCATION:Couturier Gallery\, 166 N. La Brea Ave.\, Hollywood\, California
END:VEVENT
BEGIN:VEVENT
DTSTART;TZID=Asia/Kolkata:19830209T000000
DTEND;TZID=Asia/Kolkata:19830209T000000
DTSTAMP:20260424T194549
CREATED:20250714T093210Z
LAST-MODIFIED:20250714T093210Z
UID:10010543-413596800-413596800@www.discoverhollywood.com
SUMMARY:Present Art XV
DESCRIPTION:%3cp%3eCouturier Gallery is pleased to present its longstanding holiday exhibition%2c %3cb%3ePresent Art XV%3c/b%3e%2c a group exhibition of twenty-five artists offering%3c/p%3e\n%3cp%3ea range of affordable works in a variety of techniques and mediums ideal for gift-giving and/or collecting.%26nbsp%3b %3c/p%3eDesignHTMLWords: 37   Characters: 247
URL:https://www.discoverhollywood.com/event/present-art-xv-2/
LOCATION:Couturier Gallery\, 166 N. La Brea Ave.\, Hollywood\, California
END:VEVENT
BEGIN:VEVENT
DTSTART;TZID=Asia/Kolkata:19820213T000000
DTEND;TZID=Asia/Kolkata:19820213T000000
DTSTAMP:20260424T194549
CREATED:20250714T094632Z
LAST-MODIFIED:20250714T094632Z
UID:10010904-382406400-382406400@www.discoverhollywood.com
SUMMARY:Resonance
DESCRIPTION:%3cp%3eCouturier Gallery is pleased to present %3cb%3e%3ci%3eResonance%3c/i%3e%3c/b%3e%2c a duo exhibition featuring gestural sumi calligraphic works by\n	%3cb%3eAlison Keogh%3c/b%3e and enigmatic binary collages by\n	%3cb%3eMaritta Tapanainen%3c/b%3e.%26nbsp%3b\n	%3cb%3e%3ci%3eResonance%3c/i%3e%3c/b%3e %28the synchronous vibration of a neighboring object%29 combines the varying disciplines of these two artists which share a visual harmony in their free-form approach to achieving an immediacy.\n%3c/p%3eDesignHTMLWords: 54   Characters: 374
URL:https://www.discoverhollywood.com/event/resonance/
LOCATION:Couturier Gallery\, 166 N. La Brea Ave.\, Hollywood\, California
END:VEVENT
BEGIN:VEVENT
DTSTART;TZID=Asia/Kolkata:19820212T000000
DTEND;TZID=Asia/Kolkata:19820212T000000
DTSTAMP:20260424T194549
CREATED:20250714T094632Z
LAST-MODIFIED:20250714T094632Z
UID:10010905-382320000-382320000@www.discoverhollywood.com
SUMMARY:Resonance
DESCRIPTION:%3cp%3eCouturier Gallery is pleased to present %3cb%3e%3ci%3eResonance%3c/i%3e%3c/b%3e%2c a duo exhibition featuring gestural sumi calligraphic works by\n	%3cb%3eAlison Keogh%3c/b%3e and enigmatic binary collages by\n	%3cb%3eMaritta Tapanainen%3c/b%3e.%26nbsp%3b\n	%3cb%3e%3ci%3eResonance%3c/i%3e%3c/b%3e %28the synchronous vibration of a neighboring object%29 combines the varying disciplines of these two artists which share a visual harmony in their free-form approach to achieving an immediacy\n%3c/p%3eDesignHTMLWords: 54   Characters: 374
URL:https://www.discoverhollywood.com/event/resonance-2/
LOCATION:Couturier Gallery\, 166 N. La Brea Ave.\, Hollywood\, California
END:VEVENT
BEGIN:VEVENT
DTSTART;TZID=Asia/Kolkata:19801213T000000
DTEND;TZID=Asia/Kolkata:19801213T000000
DTSTAMP:20260424T194549
CREATED:20250714T103211Z
LAST-MODIFIED:20250714T103211Z
UID:10011131-345513600-345513600@www.discoverhollywood.com
SUMMARY:Roger Lerner: Form in Light
DESCRIPTION:%3cimg class%3d%22%22 alt%3d%22%22 src%3d%22images/Roger-Lerner-Architectural-Photography-at-the-Couturier-Galley-thru-Aug-249091.jpg%22 height%3d%22600%22 width%3d%22450%22%3eDesignHTMLWords: 0   Characters: 0
URL:https://www.discoverhollywood.com/event/roger-lerner-form-in-light/
LOCATION:Couturier Gallery\, 166 N. La Brea Ave.\, Hollywood\, California
END:VEVENT
BEGIN:VEVENT
DTSTART;TZID=Asia/Kolkata:19801212T000000
DTEND;TZID=Asia/Kolkata:19801212T000000
DTSTAMP:20260424T194549
CREATED:20250714T103213Z
LAST-MODIFIED:20250714T103213Z
UID:10011132-345427200-345427200@www.discoverhollywood.com
SUMMARY:Roger Lerner: Form in Light
DESCRIPTION:%3cimg class%3d%22%22 alt%3d%22%22 src%3d%22images/Roger-Lerner-Architectural-Photography-at-the-Couturier-Galley-thru-Aug-249091.jpg%22 height%3d%22600%22 width%3d%22450%22%3eDesignHTMLWords: 0   Characters: 0
URL:https://www.discoverhollywood.com/event/roger-lerner-form-in-light-2/
LOCATION:Couturier Gallery\, 166 N. La Brea Ave.\, Hollywood\, California
END:VEVENT
BEGIN:VEVENT
DTSTART;TZID=Asia/Kolkata:19800318T000000
DTEND;TZID=Asia/Kolkata:19800318T000000
DTSTAMP:20260424T194549
CREATED:20250714T113038Z
LAST-MODIFIED:20250714T113038Z
UID:10011401-322185600-322185600@www.discoverhollywood.com
SUMMARY:Rose Cabat : 100 Years
DESCRIPTION:%3cbr%3eDesignHTMLWords: 0   Characters: 0
URL:https://www.discoverhollywood.com/event/rose-cabat-100-years/
LOCATION:Couturier Gallery\, 166 N. La Brea Ave.\, Hollywood\, California
END:VEVENT
BEGIN:VEVENT
DTSTART;TZID=Asia/Kolkata:19770329T000000
DTEND;TZID=Asia/Kolkata:19770329T000000
DTSTAMP:20260424T194549
CREATED:20250715T092732Z
LAST-MODIFIED:20250715T092732Z
UID:10012665-228441600-228441600@www.discoverhollywood.com
SUMMARY:Summer of Content
DESCRIPTION:DesignHTMLWords: 0   Characters: 0
URL:https://www.discoverhollywood.com/event/summer-of-content/
LOCATION:Couturier Gallery\, 166 N. La Brea Ave.\, Hollywood\, California
END:VEVENT
BEGIN:VEVENT
DTSTART;TZID=Asia/Kolkata:20260424T194549
DTEND;TZID=Asia/Kolkata:20260424T194549
DTSTAMP:20260424T194549
CREATED:20250709T082708Z
LAST-MODIFIED:20250709T082708Z
UID:10008167-0-0@www.discoverhollywood.com
SUMMARY:LA's MURAL RENAISSANCE
DESCRIPTION:%3cp align%3d%22left%22%3eJoin us for the panel discussion%2c LA%27s Mural Renaissance%2c%26nbsp%3bmoderated by%26nbsp%3bIsabel%26nbsp%3bRojas-Williams of The Mural Conservancy%26nbsp%3bof%26nbsp%3bLos Angeles with a%26nbsp%3bpanel%26nbsp%3bof renowned%26nbsp%3bL.A. muralists. %3c/p%3e\n%3cdiv align%3d%22left%22%3e\n	%3cstrong%3ePlease %3ca href%3d%22mailto%3acg@couturiergallery.com%22 target%3d%22_blank%22 shape%3d%22rect%22%3eRSVP%3c/a%3e as space is limited for this event.%3c/strong%3e\n	%3cstrong%3e323-933-5557%26nbsp%3b%3c/strong%3e\n	%3cstrong%3e%3c/strong%3e\n%3c/div%3eDesignHTMLWords: 37   Characters: 225
URL:https://www.discoverhollywood.com/event/las-mural-renaissance/
LOCATION:Couturier Gallery\, 166 N. La Brea Ave.\, Hollywood\, California
END:VEVENT
BEGIN:VEVENT
DTSTART;TZID=Asia/Kolkata:20260424T194549
DTEND;TZID=Asia/Kolkata:20260424T194549
DTSTAMP:20260424T194549
CREATED:20250709T080952Z
LAST-MODIFIED:20250709T080952Z
UID:10008079-0-0@www.discoverhollywood.com
SUMMARY:L.A. Muralists: In Their Studios II
DESCRIPTION:%3cp%3eChristina Angelina%3c/p%3e\n%3cp%3eDavid Botello%3c/p%3e\n%3cp%3ePablo Cristi%3c/p%3e\n%3cp%3eWayne Healy%3c/p%3e\n%3cp%3eJudithe Hernandez%3c/p%3e\n%3cp%3eAlex %22Defer%22 Kizu%3c/p%3e\n%3cp%3eAugustine Kofie%3c/p%3e\n%3cp%3eLydia Emily%3c/p%3e\n%3cp%3eKent Twitchell%3c/p%3e\n%3cp%3eJohn Valadez%3c/p%3e\n%3cp%3eRichard Wyatt%3c/p%3e\n%3cbr%3e\n%3cbr%3eDesignHTMLWords: 23   Characters: 171
URL:https://www.discoverhollywood.com/event/l-a-muralists-in-their-studios-ii-2/
LOCATION:Couturier Gallery\, 166 N. La Brea Ave.\, Hollywood\, California
END:VEVENT
BEGIN:VEVENT
DTSTART;TZID=Asia/Kolkata:20260424T194549
DTEND;TZID=Asia/Kolkata:20260424T194549
DTSTAMP:20260424T194549
CREATED:20250709T080951Z
LAST-MODIFIED:20250709T080951Z
UID:10008078-0-0@www.discoverhollywood.com
SUMMARY:L.A. Muralists: In Their Studios II
DESCRIPTION:%3cp%3eChristina Angelina%3c/p%3e\n%3cp%3eDavid Botello%3c/p%3e\n%3cp%3ePablo Cristi%3c/p%3e\n%3cp%3eWayne Healy%3c/p%3e\n%3cp%3eJudithe Hernandez%3c/p%3e\n%3cp%3eAlex %22Defer%22 Kizu%3c/p%3e\n%3cp%3eAugustine Kofie%3c/p%3e\n%3cp%3eLydia Emily%3c/p%3e\n%3cp%3eKent Twitchell%3c/p%3eDesignHTMLWords: 19   Characters: 142
URL:https://www.discoverhollywood.com/event/l-a-muralists-in-their-studios-ii/
LOCATION:Couturier Gallery\, 166 N. La Brea Ave.\, Hollywood\, California
END:VEVENT
END:VCALENDAR