BEGIN:VCALENDAR
VERSION:2.0
PRODID:-//Discover Hollywood Magazine - ECPv6.15.20//NONSGML v1.0//EN
CALSCALE:GREGORIAN
METHOD:PUBLISH
X-ORIGINAL-URL:https://www.discoverhollywood.com
X-WR-CALDESC:Events for Discover Hollywood Magazine
REFRESH-INTERVAL;VALUE=DURATION:PT1H
X-Robots-Tag:noindex
X-PUBLISHED-TTL:PT1H
BEGIN:VTIMEZONE
TZID:Asia/Kolkata
BEGIN:STANDARD
TZOFFSETFROM:+0530
TZOFFSETTO:+0530
TZNAME:IST
DTSTART:19750101T000000
END:STANDARD
END:VTIMEZONE
BEGIN:VEVENT
DTSTART;TZID=Asia/Kolkata:20180313T000000
DTEND;TZID=Asia/Kolkata:20180313T000000
DTSTAMP:20260425T054359
CREATED:20250630T103850Z
LAST-MODIFIED:20250630T103850Z
UID:10001726-1520899200-1520899200@www.discoverhollywood.com
SUMMARY:All About Walken: The Impersonators of Christopher Walken
DESCRIPTION:DesignHTMLWords: 0   Characters: 0
URL:https://www.discoverhollywood.com/event/all-about-walken-the-impersonators-of-christopher-walken-2/
LOCATION:Dragonfly\, 6510 Santa Monica Blvd.\, Hollywood\, California
END:VEVENT
BEGIN:VEVENT
DTSTART;TZID=Asia/Kolkata:20121122T000000
DTEND;TZID=Asia/Kolkata:20121122T000000
DTSTAMP:20260425T054359
CREATED:20250630T120603Z
LAST-MODIFIED:20250630T120603Z
UID:10002551-1353542400-1353542400@www.discoverhollywood.com
SUMMARY:Battle of the Bands
DESCRIPTION:%3ca target%3d%22_blank%22 href%3d%22http%3a//www.thedragonfly.com/calendar/%22%3ehttp%3a//www.thedragonfly.com/calendar/%3c/a%3eDesignHTMLWords: 1   Characters: 34
URL:https://www.discoverhollywood.com/event/battle-of-the-bands/
LOCATION:Dragonfly\, 6510 Santa Monica Blvd.\, Hollywood\, California
END:VEVENT
BEGIN:VEVENT
DTSTART;TZID=Asia/Kolkata:20070214T000000
DTEND;TZID=Asia/Kolkata:20070214T000000
DTSTAMP:20260425T054359
CREATED:20250701T080230Z
LAST-MODIFIED:20250701T080230Z
UID:10003506-1171411200-1171411200@www.discoverhollywood.com
SUMMARY:Cats With Class
DESCRIPTION:Winner of the 2014 Battle of the Bands%2c the cats play a rock-jazz-swing-blues-Latin fusion of high energy Fun. Tickets thru band members. Find them on Reverbnation.%3a Cats With Class Swing Band.\n%3cbr%3eDesignHTMLWords: 31   Characters: 183
URL:https://www.discoverhollywood.com/event/cats-with-class/
LOCATION:Dragonfly\, 6510 Santa Monica Blvd.\, Hollywood\, California
END:VEVENT
BEGIN:VEVENT
DTSTART;TZID=Asia/Kolkata:19950922T000000
DTEND;TZID=Asia/Kolkata:19950922T000000
DTSTAMP:20260425T054359
CREATED:20250703T084310Z
LAST-MODIFIED:20250703T084310Z
UID:10006250-811728000-811728000@www.discoverhollywood.com
SUMMARY:Gravity Works sketch comedy
DESCRIPTION:DesignHTMLWords: 0   Characters: 0
URL:https://www.discoverhollywood.com/event/gravity-works-sketch-comedy/
LOCATION:Dragonfly\, 6510 Santa Monica Blvd.\, Hollywood\, California
END:VEVENT
BEGIN:VEVENT
DTSTART;TZID=Asia/Kolkata:19910804T000000
DTEND;TZID=Asia/Kolkata:19910804T000000
DTSTAMP:20260425T054359
CREATED:20250703T120935Z
LAST-MODIFIED:20250703T120935Z
UID:10007475-681264000-681264000@www.discoverhollywood.com
SUMMARY:John Waters Burlesque: Winter Weirdoland
DESCRIPTION:SCRAPE THE CUM OFF YOUR BOWTIES GENTLEMAN AND LADIES TEASE THOSE BEEHIVES.\n%3cbr%3e\n%3cbr%3e\nTHE MOST SACRED OF HOLIDAY EVENTS HAS ARRIVED.\n%3cbr%3e\n%3cbr%3e\nWINTER WEIRDOLAND%3a A VERY SPECIAL TRIBUTE TO JOHN WATERS\n%3cbr%3e\n%3ca href%3d%22http%3a//www.thedragonfly.com%22%3ewww.thedragonfly.com%3c/a%3e\n%3cbr%3eDesignHTMLWords: 30   Characters: 196
URL:https://www.discoverhollywood.com/event/john-waters-burlesque-winter-weirdoland/
LOCATION:Dragonfly\, 6510 Santa Monica Blvd.\, Hollywood\, California
END:VEVENT
BEGIN:VEVENT
DTSTART;TZID=Asia/Kolkata:19880608T000000
DTEND;TZID=Asia/Kolkata:19880608T000000
DTSTAMP:20260425T054359
CREATED:20250710T094524Z
LAST-MODIFIED:20250710T094524Z
UID:10009027-581731200-581731200@www.discoverhollywood.com
SUMMARY:McCready
DESCRIPTION:%3cp%3eIt was 1990 and Mindy McCready was a 15-year-old girl who loved to sing%2c and was the karaoke queen in a Fort Myers%2c Florida bar. By the age of 20%2c she had a No. 1 hit%2c and her first album sold over two million copies. Her demons%2c along with a smattering of sycophants%2c trailed her. As her personal struggles intensified%2c her record sales dwindled. Mindy McCready’s wild life and untimely death is the stuff of legend. This is our tribute to her legacy.%3c/p%3e\n%3cp %3e%3cbr%3e%3c/p%3eDesignHTMLWords: 83   Characters: 436
URL:https://www.discoverhollywood.com/event/mccready/
LOCATION:Dragonfly\, 6510 Santa Monica Blvd.\, Hollywood\, California
END:VEVENT
BEGIN:VEVENT
DTSTART;TZID=Asia/Kolkata:19830422T000000
DTEND;TZID=Asia/Kolkata:19830422T000000
DTSTAMP:20260425T054359
CREATED:20250714T093031Z
LAST-MODIFIED:20250714T093031Z
UID:10010471-419817600-419817600@www.discoverhollywood.com
SUMMARY:Point Break Live!
DESCRIPTION:DesignHTMLWords: 0   Characters: 0
URL:https://www.discoverhollywood.com/event/point-break-live/
LOCATION:Dragonfly\, 6510 Santa Monica Blvd.\, Hollywood\, California
END:VEVENT
BEGIN:VEVENT
DTSTART;TZID=Asia/Kolkata:19760610T000000
DTEND;TZID=Asia/Kolkata:19760610T000000
DTSTAMP:20260425T054359
CREATED:20250715T105806Z
LAST-MODIFIED:20250715T105806Z
UID:10012957-203212800-203212800@www.discoverhollywood.com
SUMMARY:Terminator Too: Judgement Play
DESCRIPTION:%3ca href%3d%22http%3a//www.terminatortoo.com%22 target%3d%22_blank%22%3e%3c/a%3e\n%3ca target%3d%22_blank%22 href%3d%22http%3a//www.terminatortoo.com%22%3e%3c/a%3e\n%3ca href%3d%22http%3a//www.terminatortoo.com%22 target%3d%22_blank%22%3ehttp%3a//www.terminatortoo.com%3c/a%3e\n%3cbr%3e\nThe hilarious interactive spoof of the 1991 classic action movie%2c Terminator 2. You%27ll help save the human race with everybody%27s favorite robot vigilante while being transported back to the days when your only concern was if your Slap Bracelet matched your Reebok Pumps.%26nbsp%3b\n%3cbr%3eDesignHTMLWords: 44   Characters: 291
URL:https://www.discoverhollywood.com/event/terminator-too-judgement-play/
LOCATION:Dragonfly\, 6510 Santa Monica Blvd.\, Hollywood\, California
END:VEVENT
END:VCALENDAR