BEGIN:VCALENDAR
VERSION:2.0
PRODID:-//Discover Hollywood Magazine - ECPv6.15.17//NONSGML v1.0//EN
CALSCALE:GREGORIAN
METHOD:PUBLISH
X-ORIGINAL-URL:https://www.discoverhollywood.com
X-WR-CALDESC:Events for Discover Hollywood Magazine
REFRESH-INTERVAL;VALUE=DURATION:PT1H
X-Robots-Tag:noindex
X-PUBLISHED-TTL:PT1H
BEGIN:VTIMEZONE
TZID:Asia/Kolkata
BEGIN:STANDARD
TZOFFSETFROM:+0530
TZOFFSETTO:+0530
TZNAME:IST
DTSTART:19710101T000000
END:STANDARD
END:VTIMEZONE
BEGIN:VEVENT
DTSTART;TZID=Asia/Kolkata:20160129T000000
DTEND;TZID=Asia/Kolkata:20160129T000000
DTSTAMP:20260422T083807
CREATED:20250630T110029Z
LAST-MODIFIED:20250630T110029Z
UID:10001984-1454025600-1454025600@www.discoverhollywood.com
SUMMARY:Anastasia Lynne and SAMOAH
DESCRIPTION:%3ca href%3d%22https%3a//www.elcidsunset.com/eventbrite-event/anastasia-lynne-and-samoah-live/%22%3ehttps%3a//www.elcidsunset.com/eventbrite-event/anastasia-lynne-and-samoah-live/%3c/a%3eDesignHTMLWords: 1   Characters: 69
URL:https://www.discoverhollywood.com/event/anastasia-lynne-and-samoah-2/
LOCATION:El Cid Show Restaurant\, 4212 Sunset Blvd.\, Hollywood\, California
END:VEVENT
BEGIN:VEVENT
DTSTART;TZID=Asia/Kolkata:20150728T000000
DTEND;TZID=Asia/Kolkata:20150728T000000
DTSTAMP:20260422T083807
CREATED:20250630T113550Z
LAST-MODIFIED:20250630T113550Z
UID:10002062-1438041600-1438041600@www.discoverhollywood.com
SUMMARY:Angelita Concierto Flamenco
DESCRIPTION:%3cbr%3eDesignHTMLWords: 0   Characters: 0
URL:https://www.discoverhollywood.com/event/angelita-concierto-flamenco/
LOCATION:El Cid Show Restaurant\, 4212 Sunset Blvd.\, Hollywood\, California
END:VEVENT
BEGIN:VEVENT
DTSTART;TZID=Asia/Kolkata:20120329T000000
DTEND;TZID=Asia/Kolkata:20120329T000000
DTSTAMP:20260422T083807
CREATED:20250630T122711Z
LAST-MODIFIED:20250630T122711Z
UID:10002670-1332979200-1332979200@www.discoverhollywood.com
SUMMARY:Belle\, Book & Candle
DESCRIPTION:Pleasant Gehman and Shana Leilani%27s monthly magic-themed event features bewitching burlesque%2c tarot readers%2c crystal gazers and energy healers in one of the oldest restaurants in Hollywood. 21 and over.%3cdiv%3e\n	%3cbr%3e\n%3c/div%3e\n%3cdiv%3e\n	%3ca href%3d%22https%3a//www.elcidsunset.com/%22 target%3d%22_blank%22%3ehttps%3a//www.elcidsunset.com/%3c/a%3e\n%3c/div%3eDesignHTMLWords: 30   Characters: 224
URL:https://www.discoverhollywood.com/event/belle-book-candle/
LOCATION:El Cid Show Restaurant\, 4212 Sunset Blvd.\, Hollywood\, California
END:VEVENT
BEGIN:VEVENT
DTSTART;TZID=Asia/Kolkata:20070427T000000
DTEND;TZID=Asia/Kolkata:20070427T000000
DTSTAMP:20260422T083807
CREATED:20250701T070239Z
LAST-MODIFIED:20250701T070239Z
UID:10003470-1177632000-1177632000@www.discoverhollywood.com
SUMMARY:Casey Ryan
DESCRIPTION:%3ca href%3d%22https%3a//www.elcidsunset.com/eventbrite-event/casey-ryan/%22%3ehttps%3a//www.elcidsunset.com/eventbrite-event/casey-ryan/%3c/a%3eDesignHTMLWords: 1   Characters: 51
URL:https://www.discoverhollywood.com/event/casey-ryan/
LOCATION:El Cid Show Restaurant\, 4212 Sunset Blvd.\, Hollywood\, California
END:VEVENT
BEGIN:VEVENT
DTSTART;TZID=Asia/Kolkata:20070401T000000
DTEND;TZID=Asia/Kolkata:20070401T000000
DTSTAMP:20260422T083807
CREATED:20250701T070532Z
LAST-MODIFIED:20250701T070532Z
UID:10003483-1175385600-1175385600@www.discoverhollywood.com
SUMMARY:Casting Couch Confidential
DESCRIPTION:%3cb%3e%3ca target%3d%22_blank%22 href%3d%22www.capturedauralphantasy.com%22%3eCASTING COUCH CONFIDENTIAL%3c/a%3e%3c/b%3e includes multi-media performances of old comic book stories%2c such as 1950%27s %22Sinful Sister%22 from the title\n%3ci%3eHollywood Secrets%3c/i%3e%2c presented with live sound effects%2c music and projections of the original comic art behind the performers.\n%3cbr%3e\n%3cimg class%3d%22%22 alt%3d%22%22 src%3d%22images/Captured-Aural-Phantasy-theatre9370.jpg%22 height%3d%22337%22 width%3d%22560%22%3e\n%3cbr%3eDesignHTMLWords: 37   Characters: 250
URL:https://www.discoverhollywood.com/event/casting-couch-confidential/
LOCATION:El Cid Show Restaurant\, 4212 Sunset Blvd.\, Hollywood\, California
END:VEVENT
BEGIN:VEVENT
DTSTART;TZID=Asia/Kolkata:20020407T000000
DTEND;TZID=Asia/Kolkata:20020407T000000
DTSTAMP:20260422T083807
CREATED:20250701T120402Z
LAST-MODIFIED:20250701T120402Z
UID:10004393-1018137600-1018137600@www.discoverhollywood.com
SUMMARY:DAY OF THE DEAD SPOOKTACULAR
DESCRIPTION:%3cp%3eThe night includes live music%2c ghostly effects%2c weird magic acts%2c%26nbsp%3bsultry singing and a monstrous séance. See a girl cut in half%21 We%27ll even raffle off a dead body%21%3c/p%3eDesignHTMLWords: 29   Characters: 156
URL:https://www.discoverhollywood.com/event/day-of-the-dead-spooktacular/
LOCATION:El Cid Show Restaurant\, 4212 Sunset Blvd.\, Hollywood\, California
END:VEVENT
BEGIN:VEVENT
DTSTART;TZID=Asia/Kolkata:19970827T000000
DTEND;TZID=Asia/Kolkata:19970827T000000
DTSTAMP:20260422T083807
CREATED:20250703T061620Z
LAST-MODIFIED:20250703T061620Z
UID:10005549-872640000-872640000@www.discoverhollywood.com
SUMMARY:First Film Night
DESCRIPTION:Every First Wednesday\n%3cbr%3e\n%3cbr%3e\nCelebrating L.A. Independent Film shouldn’t be this fun…but it is%21\n%3cbr%3e\n%3cbr%3e\nCome see the latest work from L.A.’s best and brightest new filmmaking talent. This monthly party and screening event regularly attracts a wide mix of international filmmakers and scenesters who have entered the vortex of the Los Angeles independent film world.\n%3cbr%3e\n%3cbr%3e\nFounded in January 2009 by event producer Michael McCarthy%2c El Cid’s Short Film Night has become L.A.’s most beloved monthDesignHTMLWords: 74   Characters: 466
URL:https://www.discoverhollywood.com/event/first-film-night/
LOCATION:El Cid Show Restaurant\, 4212 Sunset Blvd.\, Hollywood\, California
END:VEVENT
BEGIN:VEVENT
DTSTART;TZID=Asia/Kolkata:19970803T000000
DTEND;TZID=Asia/Kolkata:19970803T000000
DTSTAMP:20260422T083807
CREATED:20250703T061751Z
LAST-MODIFIED:20250703T061751Z
UID:10005573-870566400-870566400@www.discoverhollywood.com
SUMMARY:Flamenco Show + 4-course dinner
DESCRIPTION:%3cdiv%3e\n	%3cspan%3eEnjoy premiere Spanish flamenco dinner show and concert. You’ll be wowed by the best flamenco performers who bring the traditional art of flamenco dance to the stage. Also a culinary experience featuring a four-course dinner with dessert. Every show is a unique and exciting display of elegant and integral part of Spanish culture%21%3c/span%3e\n%3c/div%3e\n%3cdiv%3e\n	%3cbr%3e\n%3c/div%3e\nhttps%3a//www.goldstar.com/shows/2225934/checkout/new%26nbsp%3b %26nbsp%3b %26nbsp%3b %26nbsp%3b %26nbsp%3b %26nbsp%3b %26nbsp%3b %26nbsp%3b %26nbsp%3b %26nbsp%3b %26nbsp%3bDesignHTMLWords: 54   Characters: 377
URL:https://www.discoverhollywood.com/event/flamenco-show-4-course-dinner/
LOCATION:El Cid Show Restaurant\, 4212 Sunset Blvd.\, Hollywood\, California
END:VEVENT
BEGIN:VEVENT
DTSTART;TZID=Asia/Kolkata:19970705T000000
DTEND;TZID=Asia/Kolkata:19970705T000000
DTSTAMP:20260422T083807
CREATED:20250703T061908Z
LAST-MODIFIED:20250703T061908Z
UID:10005598-868060800-868060800@www.discoverhollywood.com
SUMMARY:Foodies & Boobies Burlesque  Brunch
DESCRIPTION:%3ca href%3d%22https%3a//www.elcidsunset.com/eventbrite-event/foodies-boobies-burlesque-brunch-7/%22%3ehttps%3a//www.elcidsunset.com/eventbrite-event/foodies-boobies-burlesque-brunch-7/%3c/a%3eDesignHTMLWords: 1   Characters: 72
URL:https://www.discoverhollywood.com/event/foodies-boobies-burlesque-brunch/
LOCATION:El Cid Show Restaurant\, 4212 Sunset Blvd.\, Hollywood\, California
END:VEVENT
BEGIN:VEVENT
DTSTART;TZID=Asia/Kolkata:19940330T000000
DTEND;TZID=Asia/Kolkata:19940330T000000
DTSTAMP:20260422T083807
CREATED:20250703T095846Z
LAST-MODIFIED:20250703T095846Z
UID:10006506-764985600-764985600@www.discoverhollywood.com
SUMMARY:Holy Ghost Tent Revival
DESCRIPTION:%3c%21–%5bif gte mso 9%5d%3e\n	%3cxml%3e%3c/xml%3e\n%3c%21%5bendif%5d–%3e\n%3cbr%3e\n%3cp%3e%3cspan%3e%3cspan%3e%3c%21–%5bif gte mso 9%5d%3e\n				%3cxml%3e%3c/xml%3e\n			%3c%21%5bendif%5d–%3e%3c/span%3e%3c/span%3e\n	%3cspan%3e\n		Formed in 2007%2c Holy Ghost Tent Revival consists of %3cb%3eStephen Murray%3c/b%3e%2c\n		%3cb%3eMatt Martin%3c/b%3e%2c\n		%3cb%3eKevin Williams%3c/b%3e%2c\n		%3cb%3eHank Widmer%3c/b%3e%2c\n		%3cb%3eCharlie Humphrey%3c/b%3e%2c and\n		%3cb%3eRoss Montsinger%3c/b%3e. Together%2c they have spent the last several years in an unceasing effort to hone their unique sound described as that of a\n		%3ci%3e%22soul-rock horn band tDesignHTMLWords: 48   Characters: 283
URL:https://www.discoverhollywood.com/event/holy-ghost-tent-revival/
LOCATION:El Cid Show Restaurant\, 4212 Sunset Blvd.\, Hollywood\, California
END:VEVENT
BEGIN:VEVENT
DTSTART;TZID=Asia/Kolkata:19910531T000000
DTEND;TZID=Asia/Kolkata:19910531T000000
DTSTAMP:20260422T083807
CREATED:20250703T121338Z
LAST-MODIFIED:20250703T121338Z
UID:10007540-675648000-675648000@www.discoverhollywood.com
SUMMARY:Jordyn
DESCRIPTION:%3cspan%3eJORDYN is a singer and comedian from Philly on a mission to heal and raise the collective vibration of the universe through her insane performances.%3c/span%3e\n%3cdiv%3e\n	%3cspan%3e%3cbr%3e%3c/span%3e\n%3c/div%3e\n%3cdiv%3e\n	%3ca href%3d%22https%3a//www.eventbrite.com/e/jordyn-tickets-55989379742%22%3ehttps%3a//www.eventbrite.com/e/jordyn-tickets-55989379742%3c/a%3e\n%3c/div%3eDesignHTMLWords: 26   Characters: 200
URL:https://www.discoverhollywood.com/event/jordyn/
LOCATION:El Cid Show Restaurant\, 4212 Sunset Blvd.\, Hollywood\, California
END:VEVENT
BEGIN:VEVENT
DTSTART;TZID=Asia/Kolkata:19900503T000000
DTEND;TZID=Asia/Kolkata:19900503T000000
DTSTAMP:20260422T083807
CREATED:20250709T061033Z
LAST-MODIFIED:20250709T061033Z
UID:10007933-641692800-641692800@www.discoverhollywood.com
SUMMARY:King Shelter\, Coyote\, Eyes on the Shore
DESCRIPTION:%3cbr%3eDesignHTMLWords: 0   Characters: 0
URL:https://www.discoverhollywood.com/event/king-shelter-coyote-eyes-on-the-shore/
LOCATION:El Cid Show Restaurant\, 4212 Sunset Blvd.\, Hollywood\, California
END:VEVENT
BEGIN:VEVENT
DTSTART;TZID=Asia/Kolkata:19880514T000000
DTEND;TZID=Asia/Kolkata:19880514T000000
DTSTAMP:20260422T083807
CREATED:20250710T094639Z
LAST-MODIFIED:20250710T094639Z
UID:10009052-579571200-579571200@www.discoverhollywood.com
SUMMARY:Meatbodies
DESCRIPTION:With Prettiest Eyes%2c Chud%2c %26amp%3b The Chonks.%3cdiv%3e\n	%3cbr%3e\n%3c/div%3e\n%3cdiv%3e\n	%3ca href%3d%22https%3a//www.elcidsunset.com/eventbrite-event/meatbodies-with-prettiest-eyes-chud-the-chonks-live-at-el-cid/%22%3ehttps%3a//www.elcidsunset.com/eventbrite-event/meatbodies-with-prettiest-eyes-chud-the-chonks-live-at-el-cid/%3c/a%3e\n%3c/div%3eDesignHTMLWords: 7   Characters: 132
URL:https://www.discoverhollywood.com/event/meatbodies/
LOCATION:El Cid Show Restaurant\, 4212 Sunset Blvd.\, Hollywood\, California
END:VEVENT
BEGIN:VEVENT
DTSTART;TZID=Asia/Kolkata:19871219T000000
DTEND;TZID=Asia/Kolkata:19871219T000000
DTSTAMP:20260422T083807
CREATED:20250710T095620Z
LAST-MODIFIED:20250710T095620Z
UID:10009199-566870400-566870400@www.discoverhollywood.com
SUMMARY:Michael Stasis (Record Release Show) Dent May Jimmy Whispers D.J. Jimi Hey
DESCRIPTION:Record Release Show for Michael Stasis%27 new release %22Gentle Cycle%22 on Arbutus Records%21DesignHTMLWords: 13   Characters: 82
URL:https://www.discoverhollywood.com/event/michael-stasis-record-release-show-dent-may-jimmy-whispers-d-j-jimi-hey/
LOCATION:El Cid Show Restaurant\, 4212 Sunset Blvd.\, Hollywood\, California
END:VEVENT
BEGIN:VEVENT
DTSTART;TZID=Asia/Kolkata:19870708T000000
DTEND;TZID=Asia/Kolkata:19870708T000000
DTSTAMP:20260422T083807
CREATED:20250710T101400Z
LAST-MODIFIED:20250710T101400Z
UID:10009363-552700800-552700800@www.discoverhollywood.com
SUMMARY:Modern Funk Fest: The Pendletons\, Diamond Ortiz (Dual Record Release!)\, Zackey Force Funk + DJs XL Middleton\, Hotthobo & JFO
DESCRIPTION:The Pendletons is a long-standing boogie-funk and modern soul project of E da Boss and Trailer Limon.DesignHTMLWords: 17   Characters: 98
URL:https://www.discoverhollywood.com/event/modern-funk-fest-the-pendletons-diamond-ortiz-dual-record-release-zackey-force-funk-djs-xl-middleton-hotthobo-jfo/
LOCATION:El Cid Show Restaurant\, 4212 Sunset Blvd.\, Hollywood\, California
END:VEVENT
BEGIN:VEVENT
DTSTART;TZID=Asia/Kolkata:19861230T000000
DTEND;TZID=Asia/Kolkata:19861230T000000
DTSTAMP:20260422T083807
CREATED:20250710T101849Z
LAST-MODIFIED:20250710T101849Z
UID:10009553-536284800-536284800@www.discoverhollywood.com
SUMMARY:Murder Mystery Dinner
DESCRIPTION:DesignHTMLWords: 0   Characters: 0
URL:https://www.discoverhollywood.com/event/murder-mystery-dinner/
LOCATION:El Cid Show Restaurant\, 4212 Sunset Blvd.\, Hollywood\, California
END:VEVENT
BEGIN:VEVENT
DTSTART;TZID=Asia/Kolkata:19850916T000000
DTEND;TZID=Asia/Kolkata:19850916T000000
DTSTAMP:20260422T083807
CREATED:20250710T121852Z
LAST-MODIFIED:20250716T063702Z
UID:10010023-495676800-495676800@www.discoverhollywood.com
SUMMARY:Odalisque
DESCRIPTION:Odalisque combines the sensuality and excitement of Middle Eastern and World Dance with the glamor and sophistication of the classic Supperclub – in the magical grotto at L.A.’s historic El Cid. An international showgirl review with a retro wink%2c this unique dinner show weaves contemporary and vintage Bellydance with Samba%2c Burlesque%2c Latin%2c Bollywood and more. Odalisque’s mysterious beauties conjure Oriental charm with Hollywood finesse%2c taking inspiration from film%2c art and far-flung adventures.\n%3cbr%3eDesignHTMLWords: 72   Characters: 490
URL:https://www.discoverhollywood.com/event/odalisque/
LOCATION:El Cid Show Restaurant\, 4212 Sunset Blvd.\, Hollywood\, California
END:VEVENT
BEGIN:VEVENT
DTSTART;TZID=Asia/Kolkata:19830430T000000
DTEND;TZID=Asia/Kolkata:19830430T000000
DTSTAMP:20260422T083807
CREATED:20250714T093028Z
LAST-MODIFIED:20250714T093028Z
UID:10010463-420508800-420508800@www.discoverhollywood.com
SUMMARY:Poetry Brothel
DESCRIPTION:An interactive literary experience dressed up as a decadent Brothel.%26nbsp%3b The main stage presents an immersive literary cabaret that fuses poetry%2c burlesque%2c live music%2c vaudeville%2c aerials%2c performance art%2c visual art%2c magic%2c and mysticism. 21%2b%26nbsp%3b%3ca href%3d%22http%3a//www.thepoetrybrothel.com/%22 target%3d%22_blank%22%3ewww.thepoetrybrothel.com%3c/a%3eDesignHTMLWords: 35   Characters: 254
URL:https://www.discoverhollywood.com/event/poetry-brothel/
LOCATION:El Cid Show Restaurant\, 4212 Sunset Blvd.\, Hollywood\, California
END:VEVENT
BEGIN:VEVENT
DTSTART;TZID=Asia/Kolkata:19820329T000000
DTEND;TZID=Asia/Kolkata:19820329T000000
DTSTAMP:20260422T083807
CREATED:20250714T094530Z
LAST-MODIFIED:20250714T094530Z
UID:10010860-386208000-386208000@www.discoverhollywood.com
SUMMARY:Reggie Watts & Karen Organ Freeman
DESCRIPTION:Reggie Watts is an internationally renowned vocal artist/ beatboxer/ musician/ comedian who wows audiences with his live performances which are 100%25 improvised. Using his formidable voice%2c looping pedals%2c and his vast imagination%2c Reggie blends and blurs the lines between music and comedy.DesignHTMLWords: 42   Characters: 285
URL:https://www.discoverhollywood.com/event/reggie-watts-karen-organ-freeman/
LOCATION:El Cid Show Restaurant\, 4212 Sunset Blvd.\, Hollywood\, California
END:VEVENT
BEGIN:VEVENT
DTSTART;TZID=Asia/Kolkata:19820328T000000
DTEND;TZID=Asia/Kolkata:19820328T000000
DTSTAMP:20260422T083807
CREATED:20250714T094530Z
LAST-MODIFIED:20250714T094530Z
UID:10010861-386121600-386121600@www.discoverhollywood.com
SUMMARY:Reggie Watts & Karen Thruster
DESCRIPTION:%3cbr%3eDesignHTMLWords: 0   Characters: 0
URL:https://www.discoverhollywood.com/event/reggie-watts-karen-thruster/
LOCATION:El Cid Show Restaurant\, 4212 Sunset Blvd.\, Hollywood\, California
END:VEVENT
BEGIN:VEVENT
DTSTART;TZID=Asia/Kolkata:19811017T000000
DTEND;TZID=Asia/Kolkata:19811017T000000
DTSTAMP:20260422T083807
CREATED:20250714T100448Z
LAST-MODIFIED:20250714T100448Z
UID:10011023-372124800-372124800@www.discoverhollywood.com
SUMMARY:RJ Chesney
DESCRIPTION:Amateur Revoltion album release show%3cdiv%3e\n	%3cbr%3e\n%3c/div%3e\n%3cdiv%3e\n	%3ca href%3d%22https%3a//www.elcidsunset.com/eventbrite-event/rj-chesneys-amateur-revolution-album-release-show/%22%3ehttps%3a//www.elcidsunset.com/eventbrite-event/rj-chesneys-amateur-revolution-album-release-show/%3c/a%3e\n%3c/div%3eDesignHTMLWords: 6   Characters: 124
URL:https://www.discoverhollywood.com/event/rj-chesney/
LOCATION:El Cid Show Restaurant\, 4212 Sunset Blvd.\, Hollywood\, California
END:VEVENT
BEGIN:VEVENT
DTSTART;TZID=Asia/Kolkata:19780405T000000
DTEND;TZID=Asia/Kolkata:19780405T000000
DTSTAMP:20260422T083807
CREATED:20250715T081150Z
LAST-MODIFIED:20250715T081150Z
UID:10012293-260582400-260582400@www.discoverhollywood.com
SUMMARY:Sophie Meiers
DESCRIPTION:%3ca href%3d%22https%3a//www.elcidsunset.com/eventbrite-event/sophie-meiers/%22%3ehttps%3a//www.elcidsunset.com/eventbrite-event/sophie-meiers/%3c/a%3eDesignHTMLWords: 1   Characters: 54
URL:https://www.discoverhollywood.com/event/sophie-meiers/
LOCATION:El Cid Show Restaurant\, 4212 Sunset Blvd.\, Hollywood\, California
END:VEVENT
BEGIN:VEVENT
DTSTART;TZID=Asia/Kolkata:19770410T000000
DTEND;TZID=Asia/Kolkata:19770410T000000
DTSTAMP:20260422T083807
CREATED:20250715T092704Z
LAST-MODIFIED:20250715T092704Z
UID:10012653-229478400-229478400@www.discoverhollywood.com
SUMMARY:Sultry Sweet Burlesque & Variety Show
DESCRIPTION:Join us for titillating %26amp%3b tantalizing burlesque by L.A.’s top performers with live orchestral accompaniment%2c aerial acts%2c sexy songstresses%2c captivating variety performances%2c and so much more…DesignHTMLWords: 25   Characters: 184
URL:https://www.discoverhollywood.com/event/sultry-sweet-burlesque-variety-show/
LOCATION:El Cid Show Restaurant\, 4212 Sunset Blvd.\, Hollywood\, California
END:VEVENT
BEGIN:VEVENT
DTSTART;TZID=Asia/Kolkata:19761107T000000
DTEND;TZID=Asia/Kolkata:19761107T000000
DTSTAMP:20260422T083807
CREATED:20250715T093654Z
LAST-MODIFIED:20250715T093654Z
UID:10012807-216172800-216172800@www.discoverhollywood.com
SUMMARY:Sylvain Sylvain
DESCRIPTION:%3cdiv%3eThe only L.A. performance of legendary New York Dolls guitarist Sylvain Sylvain performing solo in honor of the 45th anniversary of the New York Dolls.%26nbsp%3b Featuring very special guests. %3c/div%3e\n%3cdiv%3e%3c/div%3e\n%3cdiv%3e\n	%3ca href%3d%22https%3a//www.elcidsunset.com/e/pure-trash-sylvain-sylvain-live-new-york-dolls-th-anniversary-performance–44809735124/%22 target%3d%22_blank%22%3ewww.elcidsunset.com/e/pure-trash-sylvain-sylvain-live-new-york-dolls-th-anniversary-performance–44809735124/%3c/a%3e\n%3c/div%3eDesignHTMLWords: 30   Characters: 275
URL:https://www.discoverhollywood.com/event/sylvain-sylvain/
LOCATION:El Cid Show Restaurant\, 4212 Sunset Blvd.\, Hollywood\, California
END:VEVENT
BEGIN:VEVENT
DTSTART;TZID=Asia/Kolkata:19761015T000000
DTEND;TZID=Asia/Kolkata:19761015T000000
DTSTAMP:20260422T083807
CREATED:20250715T093724Z
LAST-MODIFIED:20250715T093724Z
UID:10012830-214185600-214185600@www.discoverhollywood.com
SUMMARY:Tablao Flamenco
DESCRIPTION:Your unique evening will include Spanish and locally-inspired cuisine combined with a unique hour of world renowned%2c traditional Flamenco entertainment.DesignHTMLWords: 20   Characters: 149
URL:https://www.discoverhollywood.com/event/tablao-flamenco/
LOCATION:El Cid Show Restaurant\, 4212 Sunset Blvd.\, Hollywood\, California
END:VEVENT
BEGIN:VEVENT
DTSTART;TZID=Asia/Kolkata:19740829T000000
DTEND;TZID=Asia/Kolkata:19740829T000000
DTSTAMP:20260422T083807
CREATED:20250715T121308Z
LAST-MODIFIED:20250715T121308Z
UID:10013423-146966400-146966400@www.discoverhollywood.com
SUMMARY:The Good Vibrations Cabaret
DESCRIPTION:%3ci%3eThe%26nbsp%3b%3c/i%3e\n%3cspan%3e\n	%3ci%3eGood Vibrations Cabaret%27%3c/i%3es\n	%3ci%3e%26nbsp%3b%3c/i%3e\n%3c/span%3e\n%3cspan%3eunique and%3c/span%3e\n%3cspan%3e%26nbsp%3bintoxicating ballroom dance revue comes to the beautiful and historic El Cid%3c/span%3e\n%3cspan%3e%26nbsp%3bin Los Angeles.%3c/span%3e\n%3cdiv%3e\n	%3cspan%3e%3cbr%3e%3c/span%3e\n%3c/div%3e\n%3cdiv%3e\n	%3ca href%3d%22https%3a//www.eventbrite.com/e/the-good-vibrations-cabaret-tickets-58594880866%22%3ehttps%3a//www.eventbrite.com/e/the-good-vibrations-cabaret-tickets-58594880866%3c/a%3e\n%3c/div%3eDesignHTMLWords: 22   Characters: 207
URL:https://www.discoverhollywood.com/event/the-good-vibrations-cabaret/
LOCATION:El Cid Show Restaurant\, 4212 Sunset Blvd.\, Hollywood\, California
END:VEVENT
BEGIN:VEVENT
DTSTART;TZID=Asia/Kolkata:19740304T000000
DTEND;TZID=Asia/Kolkata:19740304T000000
DTSTAMP:20260422T083807
CREATED:20250715T124657Z
LAST-MODIFIED:20250715T124657Z
UID:10013601-131587200-131587200@www.discoverhollywood.com
SUMMARY:The Lampshades
DESCRIPTION:DesignHTMLWords: 0   Characters: 0
URL:https://www.discoverhollywood.com/event/the-lampshades-5/
LOCATION:El Cid Show Restaurant\, 4212 Sunset Blvd.\, Hollywood\, California
END:VEVENT
BEGIN:VEVENT
DTSTART;TZID=Asia/Kolkata:19730420T000000
DTEND;TZID=Asia/Kolkata:19730420T000000
DTSTAMP:20260422T083807
CREATED:20250716T052211Z
LAST-MODIFIED:20250716T052211Z
UID:10013919-104112000-104112000@www.discoverhollywood.com
SUMMARY:The Poetry Brother: Beltane - Sacred Spring
DESCRIPTION:%3ca href%3d%22https%3a//www.eventbrite.com/o/the-poetry-brothel-6329968769%22%3ehttps%3a//www.eventbrite.com/o/the-poetry-brothel-6329968769%3c/a%3eDesignHTMLWords: 1   Characters: 52
URL:https://www.discoverhollywood.com/event/the-poetry-brother-beltane-sacred-spring/
LOCATION:El Cid Show Restaurant\, 4212 Sunset Blvd.\, Hollywood\, California
END:VEVENT
BEGIN:VEVENT
DTSTART;TZID=Asia/Kolkata:19720915T000000
DTEND;TZID=Asia/Kolkata:19720915T000000
DTSTAMP:20260422T083807
CREATED:20250716T053412Z
LAST-MODIFIED:20250716T053412Z
UID:10014136-85363200-85363200@www.discoverhollywood.com
SUMMARY:The Superbees Barrio Tiger Special Guests
DESCRIPTION:The Los Angeles foursome The Superbees electrify vintage garage grooves with the energy of Iggy Pop%2c the swagger of the Stones%2c and the raucous attack of Thee Hypnotics and MC5.DesignHTMLWords: 30   Characters: 174
URL:https://www.discoverhollywood.com/event/the-superbees-barrio-tiger-special-guests/
LOCATION:El Cid Show Restaurant\, 4212 Sunset Blvd.\, Hollywood\, California
END:VEVENT
BEGIN:VEVENT
DTSTART;TZID=Asia/Kolkata:19720812T000000
DTEND;TZID=Asia/Kolkata:19720812T000000
DTSTAMP:20260422T083807
CREATED:20250716T053507Z
LAST-MODIFIED:20250716T053507Z
UID:10014170-82425600-82425600@www.discoverhollywood.com
SUMMARY:The Tikiyaki Orchestra
DESCRIPTION:Hailing from Los Angeles%2c CA%2c The Tikiyaki Orchestra has been wowing audiences since 2008 with their own brand of Exotic Lounge music and unique and charismatic showmanship.DesignHTMLWords: 27   Characters: 170
URL:https://www.discoverhollywood.com/event/the-tikiyaki-orchestra/
LOCATION:El Cid Show Restaurant\, 4212 Sunset Blvd.\, Hollywood\, California
END:VEVENT
END:VCALENDAR