BEGIN:VCALENDAR
VERSION:2.0
PRODID:-//Discover Hollywood Magazine - ECPv6.15.17//NONSGML v1.0//EN
CALSCALE:GREGORIAN
METHOD:PUBLISH
X-ORIGINAL-URL:https://www.discoverhollywood.com
X-WR-CALDESC:Events for Discover Hollywood Magazine
REFRESH-INTERVAL;VALUE=DURATION:PT1H
X-Robots-Tag:noindex
X-PUBLISHED-TTL:PT1H
BEGIN:VTIMEZONE
TZID:Asia/Kolkata
BEGIN:STANDARD
TZOFFSETFROM:+0530
TZOFFSETTO:+0530
TZNAME:IST
DTSTART:20250101T000000
END:STANDARD
END:VTIMEZONE
BEGIN:VEVENT
DTSTART;TZID=Asia/Kolkata:20260117T180000
DTEND;TZID=Asia/Kolkata:20260117T210000
DTSTAMP:20260422T033843
CREATED:20260116T145723Z
LAST-MODIFIED:20260116T145723Z
UID:10028823-1768672800-1768683600@www.discoverhollywood.com
SUMMARY:Well by Nik Gelormino at Fernberger
DESCRIPTION:The Uncanny Object: Well by Nik Gelormino at Fernberger\nLOS ANGELES\, CA – Fernberger Gallery presents Well\, a solo exhibition by Los Angeles-based artist Nik Gelormino. Running through the early months of 2026\, the exhibition marks a definitive sculptural turn for the artist\, whose two-decade practice has long occupied the “gray area” between fine art and functional design. \nThe exhibition showcases a series of meticulously crafted wood and metal works that reference everyday objects—hands\, tools\, and houses—reimagined as precious\, almost ceremonial talismans. \nTension and Utility\nGelormino’s sculptures are often encased in wood and glass vitrines\, presented as if they were reliquaries from a foreign culture. The exhibition includes: \n\n\nThe Sculptures: Five works\, including a new “hitchhiker’s thumb” and a house icon protected by brass rivets. These pieces evoke the legacy of West Coast conceptualist H.C. Westermann\, blending playful forms with high-craft execution. \n\n\nThe Language: Gelormino uses engraving and titles to guide the viewer. The written word is often physically carved into the objects\, requiring the audience to circle the work to find legibility. \n\n\nWorks on Paper: Two watercolor and ink pieces from 2016 depicting a hand igniting a lighter. To Gelormino\, these represent the spiritual act of creation—”a hand bringing light\, creating form.” \n\n\nAbout the Artist\nNik Gelormino (b. 1986\, San Francisco) is a graduate of The Cooper Union. His work has been exhibited internationally\, from Artists Space in New York to Office Baroque in Brussels. Well emphasizes the human hand and the implication of touch\, creating a world where utility is uncertain but the craftsmanship is absolute.
URL:https://www.discoverhollywood.com/event/well-by-nik-gelormino-at-fernberger/
LOCATION:Fernberg Gallery\, 747 N. Western Avenue\, Los Angeles\, CA\, 90029\, United States
END:VEVENT
END:VCALENDAR