BEGIN:VCALENDAR
VERSION:2.0
PRODID:-//Discover Hollywood Magazine - ECPv6.15.17//NONSGML v1.0//EN
CALSCALE:GREGORIAN
METHOD:PUBLISH
X-WR-CALNAME:Discover Hollywood Magazine
X-ORIGINAL-URL:https://www.discoverhollywood.com
X-WR-CALDESC:Events for Discover Hollywood Magazine
REFRESH-INTERVAL;VALUE=DURATION:PT1H
X-Robots-Tag:noindex
X-PUBLISHED-TTL:PT1H
BEGIN:VTIMEZONE
TZID:Asia/Kolkata
BEGIN:STANDARD
TZOFFSETFROM:+0530
TZOFFSETTO:+0530
TZNAME:IST
DTSTART:19960101T000000
END:STANDARD
END:VTIMEZONE
BEGIN:VEVENT
DTSTART;TZID=Asia/Kolkata:20220421T000000
DTEND;TZID=Asia/Kolkata:20220421T000000
DTSTAMP:20260422T083340
CREATED:20250630T091049Z
LAST-MODIFIED:20250630T091049Z
UID:10001231-1650499200-1650499200@www.discoverhollywood.com
SUMMARY:3rd annual Rapid Development Series for young writers
DESCRIPTION:%3cem%3e%3cb%3eFountain Theatre%27s 3rd annual %3c/b%3e%3c/em%3e\n%3cem%3e%27%3c/em%3e\n%3cstrong%3e%3ci%3eRapid Development Series%3c/i%3e%3c/strong%3e\n%3cem%3e%27 %3c/em%3e\n%3cstrong%3e%3ci%3efor young writers%3c/i%3e%3c/strong%3e – Get a first look at the work of young%2c up-and-coming playwrights with this free%2c competition-style reading series designed to showcase the work of previously\n%3cstrong%3eunproduced%3c/strong%3e%2c\n%3cstrong%3eLos Angeles-based playwrights under the age of 30%3c/strong%3e.DesignHTMLWords: 43   Characters: 287
URL:https://www.discoverhollywood.com/event/3rd-annual-rapid-development-series-for-young-writers-2/
LOCATION:Fountain Theatre\, 5060 Fountain Ave. (323) 663-1525 or www.FountainTheatre.com\, Hollywood\, California
END:VEVENT
BEGIN:VEVENT
DTSTART;TZID=Asia/Kolkata:20210312T000000
DTEND;TZID=Asia/Kolkata:20210312T000000
DTSTAMP:20260422T083340
CREATED:20250630T095041Z
LAST-MODIFIED:20250630T095041Z
UID:10001366-1615507200-1615507200@www.discoverhollywood.com
SUMMARY:A House Not Meant To Stand
DESCRIPTION:DesignHTMLWords: 0   Characters: 0
URL:https://www.discoverhollywood.com/event/a-house-not-meant-to-stand-2/
LOCATION:Fountain Theatre\, 5060 Fountain Ave. (323) 663-1525 or www.FountainTheatre.com\, Hollywood\, California
END:VEVENT
BEGIN:VEVENT
DTSTART;TZID=Asia/Kolkata:20160314T000000
DTEND;TZID=Asia/Kolkata:20160314T000000
DTSTAMP:20260422T083340
CREATED:20250630T110004Z
LAST-MODIFIED:20250630T110004Z
UID:10001969-1457913600-1457913600@www.discoverhollywood.com
SUMMARY:An Octoroon
DESCRIPTION:Presented in the Fountain%27s new outdoor stageDesignHTMLWords: 7   Characters: 44
URL:https://www.discoverhollywood.com/event/an-octoroon-2/
LOCATION:Fountain Theatre\, 5060 Fountain Ave. (323) 663-1525 or www.FountainTheatre.com\, Hollywood\, California
END:VEVENT
BEGIN:VEVENT
DTSTART;TZID=Asia/Kolkata:20150204T000000
DTEND;TZID=Asia/Kolkata:20150204T000000
DTSTAMP:20260422T083340
CREATED:20250630T114006Z
LAST-MODIFIED:20250630T114006Z
UID:10002149-1423008000-1423008000@www.discoverhollywood.com
SUMMARY:Antonio Triana & Company - Flamenco
DESCRIPTION:This month%27s %3cem%3eForever Flamenco%3c/em%3e returns to West L.A. as guest production at the Odyssey Theatre. Under the artistic direction of\n%3cstrong%3eAntonio Triana%3c/strong%3e%2c dancers\n%3cstrong%3eFanny Ara%3c/strong%3e%2c\n%3cstrong%3eManuel Gutierrez%3c/strong%3e and\n%3cstrong%3eMizuho Sato%3c/strong%3e%3b singer\n%3cstrong%3eJesus Montoya%3c/strong%3e and guitarists\n%3cstrong%3eGabriel Osuna %3c/strong%3eand Triana promise to heat up the house with a sizzling performance.\n%3cbr%3eDesignHTMLWords: 49   Characters: 306
URL:https://www.discoverhollywood.com/event/antonio-triana-company-flamenco/
LOCATION:Fountain Theatre\, 5060 Fountain Ave. (323) 663-1525 or www.FountainTheatre.com\, Hollywood\, California
END:VEVENT
BEGIN:VEVENT
DTSTART;TZID=Asia/Kolkata:20140830T000000
DTEND;TZID=Asia/Kolkata:20140830T000000
DTSTAMP:20260422T083340
CREATED:20250630T114406Z
LAST-MODIFIED:20250630T114406Z
UID:10002228-1409356800-1409356800@www.discoverhollywood.com
SUMMARY:Arrival & Departure
DESCRIPTION:The world premiere of an adaptation of the 1945 film%2c Brief Encounter. A Deaf man and a hard-of-hearing woman meet accidentally in a NYC subway station.%26nbsp%3b%3cdiv%3e\n	%3cbr%3e\n	The play is performed simultaneously in Spoken English%2c American Sign Language%2c and Open Captioning. %3ca href%3d%22http%3a//www.fountaintheatre.com/event/arrival-departure/%22 target%3d%22_blank%22%3ewww.fountaintheatre.com/event/arrival-departure/%3c/a%3e\n%3c/div%3eDesignHTMLWords: 41   Characters: 293
URL:https://www.discoverhollywood.com/event/arrival-departure/
LOCATION:Fountain Theatre\, 5060 Fountain Ave. (323) 663-1525 or www.FountainTheatre.com\, Hollywood\, California
END:VEVENT
BEGIN:VEVENT
DTSTART;TZID=Asia/Kolkata:20131016T000000
DTEND;TZID=Asia/Kolkata:20131016T000000
DTSTAMP:20260422T083340
CREATED:20250630T120322Z
LAST-MODIFIED:20250630T120322Z
UID:10002387-1381881600-1381881600@www.discoverhollywood.com
SUMMARY:Baby Doll
DESCRIPTION:The Story%3a Mississippi Delta%2c early 1950s%2c where the accents are thick%2c the summers are hot%2c but the livin’ isn’t so easy. Archie Lee has been married to a seductive young woman/child%2c called only by the endearment of Baby Doll%2c for some time%2c but by agreement with the girl’s now-dead father%2c the marriage can only be consummated on her 20th birthday%2c now just days away. The manager of a successful plantation nearby%2c handsome Silva Vacarro%2c swaggers in%2c suspecting that Archie Lee is an arsonist\n%3cbr%3eDesignHTMLWords: 83   Characters: 482
URL:https://www.discoverhollywood.com/event/baby-doll/
LOCATION:Fountain Theatre\, 5060 Fountain Ave. (323) 663-1525 or www.FountainTheatre.com\, Hollywood\, California
END:VEVENT
BEGIN:VEVENT
DTSTART;TZID=Asia/Kolkata:20130630T000000
DTEND;TZID=Asia/Kolkata:20130630T000000
DTSTAMP:20260422T083340
CREATED:20250630T120431Z
LAST-MODIFIED:20250630T120431Z
UID:10002441-1372550400-1372550400@www.discoverhollywood.com
SUMMARY:Bakersfield Mist
DESCRIPTION:%3cstrong%3e%3c/strong%3e Maude Gutman%2c an unemployed%2c chain-smoking ex-bartender living in a run down California trailer park%2c believes the painting she bought in a thrift store for %243 is really an undiscovered masterpiece worth millions. When stuffy New York art expert Lionel Percy arrives to evaluate the work%2c a fiery and often hilarious debate over class ensues.\n%3cbr%3e\n%3cbr%3e\nListen to the review %3ca href%3d%22https%3a//www.youtube.com/watch%3fv%3dihNvKj00NRs%22%3ehere%21%3c/a%3e\n%3cbr%3eDesignHTMLWords: 59   Characters: 361
URL:https://www.discoverhollywood.com/event/bakersfield-mist/
LOCATION:Fountain Theatre\, 5060 Fountain Ave. (323) 663-1525 or www.FountainTheatre.com\, Hollywood\, California
END:VEVENT
BEGIN:VEVENT
DTSTART;TZID=Asia/Kolkata:20111021T000000
DTEND;TZID=Asia/Kolkata:20111021T000000
DTSTAMP:20260422T083340
CREATED:20250630T122928Z
LAST-MODIFIED:20250630T122928Z
UID:10002750-1319155200-1319155200@www.discoverhollywood.com
SUMMARY:Between Riverside and Crazy
DESCRIPTION:%3cspan%3eIn this darkly comic%2c 2015 Pulitzer Prize-winning drama by %3cstrong%3eStephen Adly Guirgis%3c/strong%3e%2c ex-cop and recent widower Walter ‘Pops’ Washington has made a home for his newly paroled son in his sprawling%2c rent-controlled Riverside Drive apartment.%26nbsp%3b%3c/span%3e\n%3cspan%3e\n	%3cbr%3e\n%3c%21–%5bendif%5d–%3e%3c/span%3eDesignHTMLWords: 35   Characters: 227
URL:https://www.discoverhollywood.com/event/between-riverside-and-crazy/
LOCATION:Fountain Theatre\, 5060 Fountain Ave. (323) 663-1525 or www.FountainTheatre.com\, Hollywood\, California
END:VEVENT
BEGIN:VEVENT
DTSTART;TZID=Asia/Kolkata:20090313T000000
DTEND;TZID=Asia/Kolkata:20090313T000000
DTSTAMP:20260422T083340
CREATED:20250701T061327Z
LAST-MODIFIED:20250701T061327Z
UID:10003222-1236902400-1236902400@www.discoverhollywood.com
SUMMARY:Brief Encounter
DESCRIPTION:In conjunction with its current hit production of %22Arrival %26amp%3b Departure%22%2c the Fountain Theatre will present a free screening of the 1945 classic romantic film.%3cdiv%3e\n	%3cbr%3e\n%3c/div%3e\n%3cdiv%3e\n	%26nbsp%3bReservations required. %3ca href%3d%22https%3a//web.ovationtix.com/trs/pe.c/10321783%22 target%3d%22_blank%22%3eweb.ovationtix.com/trs/pe.c/10321783%3c/a%3e\n%3c/div%3eDesignHTMLWords: 27   Characters: 212
URL:https://www.discoverhollywood.com/event/brief-encounter/
LOCATION:Fountain Theatre\, 5060 Fountain Ave. (323) 663-1525 or www.FountainTheatre.com\, Hollywood\, California
END:VEVENT
BEGIN:VEVENT
DTSTART;TZID=Asia/Kolkata:20081125T000000
DTEND;TZID=Asia/Kolkata:20081125T000000
DTSTAMP:20260422T083340
CREATED:20250701T063120Z
LAST-MODIFIED:20250701T063120Z
UID:10003276-1227571200-1227571200@www.discoverhollywood.com
SUMMARY:Broomstick
DESCRIPTION:Is she really a witch%3f Who knows%3f Either way%2c she%27ll put a spell on you. %3ca href%3d%22www.FountainTheatre.com%22%3ewww.FountainTheatre.com%3c/a%3e\n%3ca href%3d%22http%3a//ZDSCommunications.pr-optout.com/Tracking.aspx%3fData%3dHHL%253d%253f171%253f%2526JDG%253c%253d2%253c180.LP%253f%2540083%253a%26amp%3bRE%3dMC%26amp%3bRI%3d3689821%26amp%3bPreview%3dFalse%26amp%3bDistributionActionID%3d6059%26amp%3bAction%3dFollow%2bLink%22%3e%3c/a%3e\n%3ca target%3d%22_blank%22 href%3d%22www.FountainTheatre.com%22%3e%3c/a%3eDesignHTMLWords: 16   Characters: 89
URL:https://www.discoverhollywood.com/event/broomstick/
LOCATION:Fountain Theatre\, 5060 Fountain Ave. (323) 663-1525 or www.FountainTheatre.com\, Hollywood\, California
END:VEVENT
BEGIN:VEVENT
DTSTART;TZID=Asia/Kolkata:20080811T000000
DTEND;TZID=Asia/Kolkata:20080811T000000
DTSTAMP:20260422T083340
CREATED:20250701T063237Z
LAST-MODIFIED:20250701T063237Z
UID:10003329-1218412800-1218412800@www.discoverhollywood.com
SUMMARY:Building the Wall
DESCRIPTION:It%27s the very near future%2c and the Trump administration has carried out his campaign promise to round up and detain millions of immigrants. Now%2c a writer interviews the supervisor of a private prison as he awaits sentencing for carrying out the federal policy that has escalated into the unimaginable.\n%3cbr%3eDesignHTMLWords: 49   Characters: 296
URL:https://www.discoverhollywood.com/event/building-the-wall/
LOCATION:Fountain Theatre\, 5060 Fountain Ave. (323) 663-1525 or www.FountainTheatre.com\, Hollywood\, California
END:VEVENT
BEGIN:VEVENT
DTSTART;TZID=Asia/Kolkata:20050509T000000
DTEND;TZID=Asia/Kolkata:20050509T000000
DTSTAMP:20260422T083340
CREATED:20250701T092513Z
LAST-MODIFIED:20250701T092513Z
UID:10003829-1115596800-1115596800@www.discoverhollywood.com
SUMMARY:Citizen: An American Lyric
DESCRIPTION:%3cstrong%3e%3c/strong%3e\n%3ca target%3d%22_blank%22 href%3d%22www.fountaintheatre.com%22%3e\n	%3cstrong%3eWorld premiere%3c/strong%3e\n	%3cstrong%3e%3ci%3e%3c/i%3e%3c/strong%3e\n%3c/a%3e\n%3cstrong%3e%3ci%3e%3c/i%3e%3c/strong%3e- A provocative meditation on race fusing prose%2c poetry and the visual image.\n%3cstrong%3eShirley Jo Finney%3c/strong%3e directs\n%3cstrong%3eStephen Sachs%3c/strong%3e%27 stage adaptation of\n%3cstrong%3eClaudia Rankine%3c/strong%3e%27s internationally acclaimed book of poetry about everyday acts of racism in America %28winner%2c National Book Award%2c Los Angeles Times Book ADesignHTMLWords: 46   Characters: 300
URL:https://www.discoverhollywood.com/event/citizen-an-american-lyric/
LOCATION:Fountain Theatre\, 5060 Fountain Ave. (323) 663-1525 or www.FountainTheatre.com\, Hollywood\, California
END:VEVENT
BEGIN:VEVENT
DTSTART;TZID=Asia/Kolkata:20050507T000000
DTEND;TZID=Asia/Kolkata:20050507T000000
DTSTAMP:20260422T083340
CREATED:20250701T092513Z
LAST-MODIFIED:20250701T092513Z
UID:10003830-1115424000-1115424000@www.discoverhollywood.com
SUMMARY:Citizen: An American Lyric
DESCRIPTION:%3cem%3eCitizen%3c/em%3e fuses poetry%2c prose%2c movement%2c music and video images in a provocative meditation on everyday acts of racism in America. Actors returning from the original production include\n%3cstrong%3eSimone Missick%3c/strong%3e%2c who co-stars as Misty Knight on Netflix%27s\n%3cem%3eLuke Cage%3c/em%3e.DesignHTMLWords: 38   Characters: 243
URL:https://www.discoverhollywood.com/event/citizen-an-american-lyric-2/
LOCATION:Fountain Theatre\, 5060 Fountain Ave. (323) 663-1525 or www.FountainTheatre.com\, Hollywood\, California
END:VEVENT
BEGIN:VEVENT
DTSTART;TZID=Asia/Kolkata:20040709T000000
DTEND;TZID=Asia/Kolkata:20040709T000000
DTSTAMP:20260422T083340
CREATED:20250701T094912Z
LAST-MODIFIED:20250701T094912Z
UID:10003981-1089331200-1089331200@www.discoverhollywood.com
SUMMARY:Coming Home
DESCRIPTION:DesignHTMLWords: 0   Characters: 0
URL:https://www.discoverhollywood.com/event/coming-home/
LOCATION:Fountain Theatre\, 5060 Fountain Ave. (323) 663-1525 or www.FountainTheatre.com\, Hollywood\, California
END:VEVENT
BEGIN:VEVENT
DTSTART;TZID=Asia/Kolkata:20040111T000000
DTEND;TZID=Asia/Kolkata:20040111T000000
DTSTAMP:20260422T083340
CREATED:20250701T104938Z
LAST-MODIFIED:20250701T104938Z
UID:10004071-1073779200-1073779200@www.discoverhollywood.com
SUMMARY:Cost of Living
DESCRIPTION:Two disabled characters and two caretakers make up the cast of Martyna Majok’s gripping and surprisingly funny play. But which is which%3f Cost of Living%2c which could have been an identity play about people with disabilities%2c is thus so much greater%3a a play about disabilities with people. %3ca href%3d%22http%3a//www.fountaintheatre.com/%22 target%3d%22_blank%22%3ewww.fountaintheatre.com%3c/a%3eDesignHTMLWords: 48   Characters: 303
URL:https://www.discoverhollywood.com/event/cost-of-living/
LOCATION:Fountain Theatre\, 5060 Fountain Ave. (323) 663-1525 or www.FountainTheatre.com\, Hollywood\, California
END:VEVENT
BEGIN:VEVENT
DTSTART;TZID=Asia/Kolkata:20030514T000000
DTEND;TZID=Asia/Kolkata:20030514T000000
DTSTAMP:20260422T083340
CREATED:20250701T111807Z
LAST-MODIFIED:20250701T111807Z
UID:10004192-1052870400-1052870400@www.discoverhollywood.com
SUMMARY:Cyrano
DESCRIPTION:DesignHTMLWords: 0   Characters: 0
URL:https://www.discoverhollywood.com/event/cyrano/
LOCATION:Fountain Theatre\, 5060 Fountain Ave. (323) 663-1525 or www.FountainTheatre.com\, Hollywood\, California
END:VEVENT
BEGIN:VEVENT
DTSTART;TZID=Asia/Kolkata:20010516T000000
DTEND;TZID=Asia/Kolkata:20010516T000000
DTSTAMP:20260422T083340
CREATED:20250701T120848Z
LAST-MODIFIED:20250701T120848Z
UID:10004556-989971200-989971200@www.discoverhollywood.com
SUMMARY:Detained
DESCRIPTION:World Premiere%3cdiv%3eTrue Stories of American families%3c/div%3eDesignHTMLWords: 7   Characters: 48
URL:https://www.discoverhollywood.com/event/detained/
LOCATION:Fountain Theatre\, 5060 Fountain Ave. (323) 663-1525 or www.FountainTheatre.com\, Hollywood\, California
END:VEVENT
BEGIN:VEVENT
DTSTART;TZID=Asia/Kolkata:19991022T000000
DTEND;TZID=Asia/Kolkata:19991022T000000
DTSTAMP:20260422T083340
CREATED:20250701T125910Z
LAST-MODIFIED:20250701T125910Z
UID:10004832-940550400-940550400@www.discoverhollywood.com
SUMMARY:Dream Catcher
DESCRIPTION:%3cspan%3eInspired by a true event. Solar power confronts spirit power in this new drama about climate change%2c cultural change and the moral consequences of personal choice when%26nbsp%3bthe discovery of long-buried Native American artifacts threaten to bring the billion-dollar operation to a halt.%26nbsp%3b%3c/span%3eDesignHTMLWords: 43   Characters: 275
URL:https://www.discoverhollywood.com/event/dream-catcher/
LOCATION:Fountain Theatre\, 5060 Fountain Ave. (323) 663-1525 or www.FountainTheatre.com\, Hollywood\, California
END:VEVENT
BEGIN:VEVENT
DTSTART;TZID=Asia/Kolkata:19981229T000000
DTEND;TZID=Asia/Kolkata:19981229T000000
DTSTAMP:20260422T083340
CREATED:20250701T135042Z
LAST-MODIFIED:20250702T044711Z
UID:10005060-914889600-914889600@www.discoverhollywood.com
SUMMARY:El Nogalar
DESCRIPTION:DesignHTMLWords: 0   Characters: 0
URL:https://www.discoverhollywood.com/event/el-nogalar/
LOCATION:Fountain Theatre\, 5060 Fountain Ave. (323) 663-1525 or www.FountainTheatre.com\, Hollywood\, California
END:VEVENT
BEGIN:VEVENT
DTSTART;TZID=Asia/Kolkata:19980813T000000
DTEND;TZID=Asia/Kolkata:19980813T000000
DTSTAMP:20260422T083340
CREATED:20250702T050540Z
LAST-MODIFIED:20250702T050540Z
UID:10005198-902966400-902966400@www.discoverhollywood.com
SUMMARY:Entre Jerez y Sevilla
DESCRIPTION:The flamenco styles of Jerez and Sevilla will be on display at this month’s Forever Flamenco event%2c which stars dancers Fanny Ara %28Jennifer Lopez’s World of Dance on NBC%29%2c Alejandro Vega %28making his Fountain debut%29 and the evening’s artistic director Reyes Barrios%3b singers Antonio de Jerez and Jesus Montoya%3b and master guitarists Kai Narezo and Antonio Triana. The Los Angeles Times hails the Fountain Theatre’s monthly Forever Flamenco series as “the earth and fire of first-class flamenco%2c” and LA Splash sayDesignHTMLWords: 81   Characters: 501
URL:https://www.discoverhollywood.com/event/entre-jerez-y-sevilla/
LOCATION:Fountain Theatre\, 5060 Fountain Ave. (323) 663-1525 or www.FountainTheatre.com\, Hollywood\, California
END:VEVENT
BEGIN:VEVENT
DTSTART;TZID=Asia/Kolkata:19980106T000000
DTEND;TZID=Asia/Kolkata:19980106T000000
DTSTAMP:20260422T083340
CREATED:20250702T060038Z
LAST-MODIFIED:20250702T060038Z
UID:10005417-884044800-884044800@www.discoverhollywood.com
SUMMARY:Fatherland
DESCRIPTION:%3cp align%3d%22center%22%3e%3cp align%3d%22center%22%3e%3cspan%3eAfter turning his father in to the FBI%2c a son must now testify against his dad about the Jan 6th Capitol attack. A riveting true story.%3c/span%3e%3c/p%3e\n	%3cp align%3d%22center%22%3e%3cspan%3eTickets%3a%26nbsp%3b www.fountaintheatre.org%3c/span%3e%3c/p%3e\n%3c/p%3eDesignHTMLWords: 28   Characters: 164
URL:https://www.discoverhollywood.com/event/fatherland/
LOCATION:Fountain Theatre\, 5060 Fountain Ave. (323) 663-1525 or www.FountainTheatre.com\, Hollywood\, California
END:VEVENT
BEGIN:VEVENT
DTSTART;TZID=Asia/Kolkata:19971208T000000
DTEND;TZID=Asia/Kolkata:19971208T000000
DTSTAMP:20260422T083340
CREATED:20250702T060137Z
LAST-MODIFIED:20250702T060137Z
UID:10005446-881539200-881539200@www.discoverhollywood.com
SUMMARY:Fem Fest: Natural Shocks
DESCRIPTION:Four weeks of staged readings at the Fountain%2c each weekend spearheaded by a different theater company. Based on Hamlet%27s “To be or not to be” soliloquy%2c Natural Shocks bursts to life when we meet a woman waiting out an imminent tornado in her basement. %3ca href%3d%22http%3a//www.fountaintheatre.com/%22 target%3d%22_blank%22%3ewww.fountaintheatre.com%3c/a%3eDesignHTMLWords: 45   Characters: 270
URL:https://www.discoverhollywood.com/event/fem-fest-natural-shocks/
LOCATION:Fountain Theatre\, 5060 Fountain Ave. (323) 663-1525 or www.FountainTheatre.com\, Hollywood\, California
END:VEVENT
BEGIN:VEVENT
DTSTART;TZID=Asia/Kolkata:19970806T000000
DTEND;TZID=Asia/Kolkata:19970806T000000
DTSTAMP:20260422T083340
CREATED:20250703T061736Z
LAST-MODIFIED:20250703T061736Z
UID:10005570-870825600-870825600@www.discoverhollywood.com
SUMMARY:Flamenco Al Fresco
DESCRIPTION:Presented in the Fountain%27s new outdoor theatre.DesignHTMLWords: 7   Characters: 46
URL:https://www.discoverhollywood.com/event/flamenco-al-fresco/
LOCATION:Fountain Theatre\, 5060 Fountain Ave. (323) 663-1525 or www.FountainTheatre.com\, Hollywood\, California
END:VEVENT
BEGIN:VEVENT
DTSTART;TZID=Asia/Kolkata:19970804T000000
DTEND;TZID=Asia/Kolkata:19970804T000000
DTSTAMP:20260422T083340
CREATED:20250703T061750Z
LAST-MODIFIED:20250703T061750Z
UID:10005572-870652800-870652800@www.discoverhollywood.com
SUMMARY:Flamenco Fiesta
DESCRIPTION:The Fountain will host a two-night flamenco extravaganza on an outdoor stage in its own parking lot for a sizzling%3cem%3ejuerga%3c/em%3e weekend of live music%2c dance%2c food trucks and beer under the stars.DesignHTMLWords: 32   Characters: 184
URL:https://www.discoverhollywood.com/event/flamenco-fiesta/
LOCATION:Fountain Theatre\, 5060 Fountain Ave. (323) 663-1525 or www.FountainTheatre.com\, Hollywood\, California
END:VEVENT
BEGIN:VEVENT
DTSTART;TZID=Asia/Kolkata:19970531T000000
DTEND;TZID=Asia/Kolkata:19970531T000000
DTSTAMP:20260422T083340
CREATED:20250703T062006Z
LAST-MODIFIED:20250703T062006Z
UID:10005633-865036800-865036800@www.discoverhollywood.com
SUMMARY:Forever Flamenco by Deborah Lawlor
DESCRIPTION:Leilah Broukhim%2c fresh in from the Empire State%2c is always greeted by a full house and a standing ovation when she joins The Fountain.DesignHTMLWords: 24   Characters: 131
URL:https://www.discoverhollywood.com/event/forever-flamenco-by-deborah-lawlor/
LOCATION:Fountain Theatre\, 5060 Fountain Ave. (323) 663-1525 or www.FountainTheatre.com\, Hollywood\, California
END:VEVENT
BEGIN:VEVENT
DTSTART;TZID=Asia/Kolkata:19970530T000000
DTEND;TZID=Asia/Kolkata:19970530T000000
DTSTAMP:20260422T083340
CREATED:20250703T062007Z
LAST-MODIFIED:20250703T062007Z
UID:10005634-864950400-864950400@www.discoverhollywood.com
SUMMARY:Forever Flamenco by Fanny Ara
DESCRIPTION:%3cspan%3eThe February edition of the Fountain Theatre’s acclaimed Forever Flamenco is helmed by dancer extraordinaire %3cstrong%3eFanny Ara.%3c/strong%3e%3c/span%3e\n%3cspan%3e%26nbsp%3b%26nbsp%3b%3c/span%3e\n%3cdiv%3e%3c/div%3e\n%3cdiv%3e\n	%3cspan%3e%3cbr%3e%3c/span%3e\n%3c/div%3e\n%3cdiv%3e\n	%3cspan%3e%3ca href%3d%22http%3a//www.fountaintheatre.com/%22 target%3d%22_blank%22%3ehttp%3a//www.fountaintheatre.com/%3c/a%3e%3c/span%3e\n%3c/div%3e\n%3cdiv%3e\n	%3cspan%3e%3ca href%3c%3d%22%22 body%3d%22%22%3e%3c/a%3e%3c/span%3e\n%3c/div%3eDesignHTMLWords: 18   Characters: 152
URL:https://www.discoverhollywood.com/event/forever-flamenco-by-fanny-ara/
LOCATION:Fountain Theatre\, 5060 Fountain Ave. (323) 663-1525 or www.FountainTheatre.com\, Hollywood\, California
END:VEVENT
BEGIN:VEVENT
DTSTART;TZID=Asia/Kolkata:19970529T000000
DTEND;TZID=Asia/Kolkata:19970529T000000
DTSTAMP:20260422T083340
CREATED:20250703T062007Z
LAST-MODIFIED:20250703T062007Z
UID:10005635-864864000-864864000@www.discoverhollywood.com
SUMMARY:Forever Flamenco by Kai Narezo
DESCRIPTION:%3cspan%3e\n	Forever Flamenco veteran guitarist %3cstrong%3eKai Narezo%3c/strong%3e helms this electric new concert featuring dancers\n	%3cstrong%3e%3c/strong%3e\n%3c/span%3e\n%3cstrong%3e%3cspan%3eVanessa Albalos%3c/span%3e%3c/strong%3e\n%3cspan%3eand %3c/span%3e\n%3cstrong%3e%3cspan%3eBriseyda Zárate%3c/span%3e%3c/strong%3e\n%3cspan%3e\n	%3b percussionist %3cstrong%3eJorge Perez Gonzales%3c/strong%3e%3b and bass player\n	%3cstrong%3eRufus Philpot%3c/strong%3e.\n%3c/span%3e\n%3cdiv%3e\n	%3cspan%3e%3cbr%3e%3c/span%3e\n%3c/div%3e\n%3cdiv%3e\n	%3cspan%3e%3cspan%3e%3ca href%3d%22https%3a//web.ovationtix.com/trs/pesptpm/10171281/1082695%22 tDesignHTMLWords: 27   Characters: 197
URL:https://www.discoverhollywood.com/event/forever-flamenco-by-kai-narezo/
LOCATION:Fountain Theatre\, 5060 Fountain Ave. (323) 663-1525 or www.FountainTheatre.com\, Hollywood\, California
END:VEVENT
BEGIN:VEVENT
DTSTART;TZID=Asia/Kolkata:19970528T000000
DTEND;TZID=Asia/Kolkata:19970528T000000
DTSTAMP:20260422T083340
CREATED:20250703T062007Z
LAST-MODIFIED:20250703T062007Z
UID:10005636-864777600-864777600@www.discoverhollywood.com
SUMMARY:Forever Flamenco by Lakshmi Basile
DESCRIPTION:This month’s line-up also includes dancer Erika López%2c making her Fountain debut%3b guitarist Andres Vadin%2c singers José Cortez and Pilar Morena%2c and singer/percussionist Bruno Serrano.DesignHTMLWords: 25   Characters: 177
URL:https://www.discoverhollywood.com/event/forever-flamenco-by-lakshmi-basile/
LOCATION:Fountain Theatre\, 5060 Fountain Ave. (323) 663-1525 or www.FountainTheatre.com\, Hollywood\, California
END:VEVENT
BEGIN:VEVENT
DTSTART;TZID=Asia/Kolkata:19970527T000000
DTEND;TZID=Asia/Kolkata:19970527T000000
DTSTAMP:20260422T083340
CREATED:20250703T062018Z
LAST-MODIFIED:20250703T062018Z
UID:10005637-864691200-864691200@www.discoverhollywood.com
SUMMARY:Forever Flamenco by Manuel Gutierrez
DESCRIPTION:%3cspan%3e\n	Multi-talented flamenco artist%3cem%3e%3c/em%3e\n	%3cstrong%3e%3cspan%3eManuel Gutierrez%3c/span%3e%3c/strong%3e takes on the roles of director%2c\n%3c/span%3e\n%3cspan%3e\n	dancer %28%3cem%3ebailor%3c/em%3e%29 and singer %28\n	%3cem%3ecantaor%3c/em%3e%29 for this very special edition of Forever Flamenco at the Fountain. Joining him on stage%3a dancers\n%3c/span%3e\n%3cstrong%3e%3cspan%3eAlexandra Rozo%3c/span%3e%3c/strong%3e\n%3cspan%3eand %3cstrong%3eMizuho Sato%3c/strong%3e%3c/span%3e\n%3cspan%3e\n	%2c guitarist %3cstrong%3eAndres Vadin%3c/strong%3e and\n	%3cem%3ecajon%3c/em%3e player\n	%3cstrong%3eDiego Alvarez%3cDesignHTMLWords: 45   Characters: 293
URL:https://www.discoverhollywood.com/event/forever-flamenco-by-manuel-gutierrez/
LOCATION:Fountain Theatre\, 5060 Fountain Ave. (323) 663-1525 or www.FountainTheatre.com\, Hollywood\, California
END:VEVENT
BEGIN:VEVENT
DTSTART;TZID=Asia/Kolkata:19970526T000000
DTEND;TZID=Asia/Kolkata:19970526T000000
DTSTAMP:20260422T083340
CREATED:20250703T062018Z
LAST-MODIFIED:20250703T062018Z
UID:10005638-864604800-864604800@www.discoverhollywood.com
SUMMARY:Forever Flamenco: Family Gypsy Song
DESCRIPTION:%26nbsp%3bA brilliant director%2c composer%2c and musician%2c Ethan Margolis brings worldly%2c cerebral shows infused with the joy and dynamism that only a true master can achieve. Joining him will be a star-studded cast of Flamenco all-stars%26nbsp%3b%26nbsp%3b%3cdiv%3e\n	%3cbr%3e\n%3c/div%3e\n%3cdiv%3e\n	%3ca href%3d%22http%3a//www.fountaintheatre.com/event/forever-flamenco-family-gypsy-song/%22 target%3d%22_blank%22%3ewww.fountaintheatre.com/event/forever-flamenco-family-gypsy-song%3c/a%3e\n%3c/div%3eDesignHTMLWords: 36   Characters: 280
URL:https://www.discoverhollywood.com/event/forever-flamenco-family-gypsy-song/
LOCATION:Fountain Theatre\, 5060 Fountain Ave. (323) 663-1525 or www.FountainTheatre.com\, Hollywood\, California
END:VEVENT
END:VCALENDAR