BEGIN:VCALENDAR
VERSION:2.0
PRODID:-//Discover Hollywood Magazine - ECPv6.15.17//NONSGML v1.0//EN
CALSCALE:GREGORIAN
METHOD:PUBLISH
X-ORIGINAL-URL:https://www.discoverhollywood.com
X-WR-CALDESC:Events for Discover Hollywood Magazine
REFRESH-INTERVAL;VALUE=DURATION:PT1H
X-Robots-Tag:noindex
X-PUBLISHED-TTL:PT1H
BEGIN:VTIMEZONE
TZID:Asia/Kolkata
BEGIN:STANDARD
TZOFFSETFROM:+0530
TZOFFSETTO:+0530
TZNAME:IST
DTSTART:19790101T000000
END:STANDARD
END:VTIMEZONE
BEGIN:VEVENT
DTSTART;TZID=Asia/Kolkata:19970531T000000
DTEND;TZID=Asia/Kolkata:19970531T000000
DTSTAMP:20260422T201418
CREATED:20250703T062006Z
LAST-MODIFIED:20250703T062006Z
UID:10005633-865036800-865036800@www.discoverhollywood.com
SUMMARY:Forever Flamenco by Deborah Lawlor
DESCRIPTION:Leilah Broukhim%2c fresh in from the Empire State%2c is always greeted by a full house and a standing ovation when she joins The Fountain.DesignHTMLWords: 24   Characters: 131
URL:https://www.discoverhollywood.com/event/forever-flamenco-by-deborah-lawlor/
LOCATION:Fountain Theatre\, 5060 Fountain Ave. (323) 663-1525 or www.FountainTheatre.com\, Hollywood\, California
END:VEVENT
BEGIN:VEVENT
DTSTART;TZID=Asia/Kolkata:19970530T000000
DTEND;TZID=Asia/Kolkata:19970530T000000
DTSTAMP:20260422T201418
CREATED:20250703T062007Z
LAST-MODIFIED:20250703T062007Z
UID:10005634-864950400-864950400@www.discoverhollywood.com
SUMMARY:Forever Flamenco by Fanny Ara
DESCRIPTION:%3cspan%3eThe February edition of the Fountain Theatre’s acclaimed Forever Flamenco is helmed by dancer extraordinaire %3cstrong%3eFanny Ara.%3c/strong%3e%3c/span%3e\n%3cspan%3e%26nbsp%3b%26nbsp%3b%3c/span%3e\n%3cdiv%3e%3c/div%3e\n%3cdiv%3e\n	%3cspan%3e%3cbr%3e%3c/span%3e\n%3c/div%3e\n%3cdiv%3e\n	%3cspan%3e%3ca href%3d%22http%3a//www.fountaintheatre.com/%22 target%3d%22_blank%22%3ehttp%3a//www.fountaintheatre.com/%3c/a%3e%3c/span%3e\n%3c/div%3e\n%3cdiv%3e\n	%3cspan%3e%3ca href%3c%3d%22%22 body%3d%22%22%3e%3c/a%3e%3c/span%3e\n%3c/div%3eDesignHTMLWords: 18   Characters: 152
URL:https://www.discoverhollywood.com/event/forever-flamenco-by-fanny-ara/
LOCATION:Fountain Theatre\, 5060 Fountain Ave. (323) 663-1525 or www.FountainTheatre.com\, Hollywood\, California
END:VEVENT
BEGIN:VEVENT
DTSTART;TZID=Asia/Kolkata:19970529T000000
DTEND;TZID=Asia/Kolkata:19970529T000000
DTSTAMP:20260422T201418
CREATED:20250703T062007Z
LAST-MODIFIED:20250703T062007Z
UID:10005635-864864000-864864000@www.discoverhollywood.com
SUMMARY:Forever Flamenco by Kai Narezo
DESCRIPTION:%3cspan%3e\n	Forever Flamenco veteran guitarist %3cstrong%3eKai Narezo%3c/strong%3e helms this electric new concert featuring dancers\n	%3cstrong%3e%3c/strong%3e\n%3c/span%3e\n%3cstrong%3e%3cspan%3eVanessa Albalos%3c/span%3e%3c/strong%3e\n%3cspan%3eand %3c/span%3e\n%3cstrong%3e%3cspan%3eBriseyda Zárate%3c/span%3e%3c/strong%3e\n%3cspan%3e\n	%3b percussionist %3cstrong%3eJorge Perez Gonzales%3c/strong%3e%3b and bass player\n	%3cstrong%3eRufus Philpot%3c/strong%3e.\n%3c/span%3e\n%3cdiv%3e\n	%3cspan%3e%3cbr%3e%3c/span%3e\n%3c/div%3e\n%3cdiv%3e\n	%3cspan%3e%3cspan%3e%3ca href%3d%22https%3a//web.ovationtix.com/trs/pesptpm/10171281/1082695%22 tDesignHTMLWords: 27   Characters: 197
URL:https://www.discoverhollywood.com/event/forever-flamenco-by-kai-narezo/
LOCATION:Fountain Theatre\, 5060 Fountain Ave. (323) 663-1525 or www.FountainTheatre.com\, Hollywood\, California
END:VEVENT
BEGIN:VEVENT
DTSTART;TZID=Asia/Kolkata:19970528T000000
DTEND;TZID=Asia/Kolkata:19970528T000000
DTSTAMP:20260422T201418
CREATED:20250703T062007Z
LAST-MODIFIED:20250703T062007Z
UID:10005636-864777600-864777600@www.discoverhollywood.com
SUMMARY:Forever Flamenco by Lakshmi Basile
DESCRIPTION:This month’s line-up also includes dancer Erika López%2c making her Fountain debut%3b guitarist Andres Vadin%2c singers José Cortez and Pilar Morena%2c and singer/percussionist Bruno Serrano.DesignHTMLWords: 25   Characters: 177
URL:https://www.discoverhollywood.com/event/forever-flamenco-by-lakshmi-basile/
LOCATION:Fountain Theatre\, 5060 Fountain Ave. (323) 663-1525 or www.FountainTheatre.com\, Hollywood\, California
END:VEVENT
BEGIN:VEVENT
DTSTART;TZID=Asia/Kolkata:19970527T000000
DTEND;TZID=Asia/Kolkata:19970527T000000
DTSTAMP:20260422T201418
CREATED:20250703T062018Z
LAST-MODIFIED:20250703T062018Z
UID:10005637-864691200-864691200@www.discoverhollywood.com
SUMMARY:Forever Flamenco by Manuel Gutierrez
DESCRIPTION:%3cspan%3e\n	Multi-talented flamenco artist%3cem%3e%3c/em%3e\n	%3cstrong%3e%3cspan%3eManuel Gutierrez%3c/span%3e%3c/strong%3e takes on the roles of director%2c\n%3c/span%3e\n%3cspan%3e\n	dancer %28%3cem%3ebailor%3c/em%3e%29 and singer %28\n	%3cem%3ecantaor%3c/em%3e%29 for this very special edition of Forever Flamenco at the Fountain. Joining him on stage%3a dancers\n%3c/span%3e\n%3cstrong%3e%3cspan%3eAlexandra Rozo%3c/span%3e%3c/strong%3e\n%3cspan%3eand %3cstrong%3eMizuho Sato%3c/strong%3e%3c/span%3e\n%3cspan%3e\n	%2c guitarist %3cstrong%3eAndres Vadin%3c/strong%3e and\n	%3cem%3ecajon%3c/em%3e player\n	%3cstrong%3eDiego Alvarez%3cDesignHTMLWords: 45   Characters: 293
URL:https://www.discoverhollywood.com/event/forever-flamenco-by-manuel-gutierrez/
LOCATION:Fountain Theatre\, 5060 Fountain Ave. (323) 663-1525 or www.FountainTheatre.com\, Hollywood\, California
END:VEVENT
BEGIN:VEVENT
DTSTART;TZID=Asia/Kolkata:19970526T000000
DTEND;TZID=Asia/Kolkata:19970526T000000
DTSTAMP:20260422T201418
CREATED:20250703T062018Z
LAST-MODIFIED:20250703T062018Z
UID:10005638-864604800-864604800@www.discoverhollywood.com
SUMMARY:Forever Flamenco: Family Gypsy Song
DESCRIPTION:%26nbsp%3bA brilliant director%2c composer%2c and musician%2c Ethan Margolis brings worldly%2c cerebral shows infused with the joy and dynamism that only a true master can achieve. Joining him will be a star-studded cast of Flamenco all-stars%26nbsp%3b%26nbsp%3b%3cdiv%3e\n	%3cbr%3e\n%3c/div%3e\n%3cdiv%3e\n	%3ca href%3d%22http%3a//www.fountaintheatre.com/event/forever-flamenco-family-gypsy-song/%22 target%3d%22_blank%22%3ewww.fountaintheatre.com/event/forever-flamenco-family-gypsy-song%3c/a%3e\n%3c/div%3eDesignHTMLWords: 36   Characters: 280
URL:https://www.discoverhollywood.com/event/forever-flamenco-family-gypsy-song/
LOCATION:Fountain Theatre\, 5060 Fountain Ave. (323) 663-1525 or www.FountainTheatre.com\, Hollywood\, California
END:VEVENT
BEGIN:VEVENT
DTSTART;TZID=Asia/Kolkata:19970525T000000
DTEND;TZID=Asia/Kolkata:19970525T000000
DTSTAMP:20260422T201418
CREATED:20250703T062018Z
LAST-MODIFIED:20250703T062018Z
UID:10005639-864518400-864518400@www.discoverhollywood.com
SUMMARY:Forever Flamenco: Gala Flamenco
DESCRIPTION:An all-new evening of Gypsy flamenco featuring dancers Vanessa Albalos%2c Maria Bermudez%2c Wendy Castellanos and Manuel Gutierrez%3b guitarists Kai Narezo and Antonio Triana%3b singer José Cortes%3b and percussionist Gerardo Morales.%3cdiv%3e\n	%3cbr%3e\n%3c/div%3e\n%3cdiv%3e\n	%3ca href%3d%22https%3a//www.fountaintheatre.com/%22 target%3d%22_blank%22%3ewww.fountaintheatre.com%3c/a%3e\n%3c/div%3eDesignHTMLWords: 31   Characters: 241
URL:https://www.discoverhollywood.com/event/forever-flamenco-gala-flamenco/
LOCATION:Fountain Theatre\, 5060 Fountain Ave. (323) 663-1525 or www.FountainTheatre.com\, Hollywood\, California
END:VEVENT
BEGIN:VEVENT
DTSTART;TZID=Asia/Kolkata:19970524T000000
DTEND;TZID=Asia/Kolkata:19970524T000000
DTSTAMP:20260422T201418
CREATED:20250703T062018Z
LAST-MODIFIED:20250703T062018Z
UID:10005640-864432000-864432000@www.discoverhollywood.com
SUMMARY:Forever Flamenco: Noche en Triana
DESCRIPTION:%3cbr%3eDesignHTMLWords: 0   Characters: 0
URL:https://www.discoverhollywood.com/event/forever-flamenco-noche-en-triana/
LOCATION:Fountain Theatre\, 5060 Fountain Ave. (323) 663-1525 or www.FountainTheatre.com\, Hollywood\, California
END:VEVENT
BEGIN:VEVENT
DTSTART;TZID=Asia/Kolkata:19970523T000000
DTEND;TZID=Asia/Kolkata:19970523T000000
DTSTAMP:20260422T201418
CREATED:20250703T062019Z
LAST-MODIFIED:20250703T062019Z
UID:10005641-864345600-864345600@www.discoverhollywood.com
SUMMARY:Forever Flamenco: Voces
DESCRIPTION:%3cdiv align%3d%22center%22%3e\n	%3cimg src%3d%22images/Cihtli-Ocampo-1NC8351.jpg%22 alt%3d%22%22 class%3d%22%22 width%3d%22400%22 height%3d%22266%22%3e\n	%3cbr%3e\n%3c/div%3e\n%3cbr%3e\nA journey through the vocal styles of Latino Boleros%2c Gypsy Flamenco and African-American Jazz %26amp%3b Blues. Authentic vocalists from these diverse cultural backgrounds will construct a soulful pathway for the dance of acclaimed Spanish dancer Cihtli Ocampo. %3ca href%3d%22http%3a//www.fountaintheatre.com/event/forever-flamenco-voces-feat-cihtli-ocampo/%22 target%3d%22_blank%22%3eMore info%3c/a%3e.DesignHTMLWords: 38   Characters: 258
URL:https://www.discoverhollywood.com/event/forever-flamenco-voces/
LOCATION:Fountain Theatre\, 5060 Fountain Ave. (323) 663-1525 or www.FountainTheatre.com\, Hollywood\, California
END:VEVENT
BEGIN:VEVENT
DTSTART;TZID=Asia/Kolkata:19970131T000000
DTEND;TZID=Asia/Kolkata:19970131T000000
DTSTAMP:20260422T201418
CREATED:20250703T062452Z
LAST-MODIFIED:20250703T062452Z
UID:10005753-854668800-854668800@www.discoverhollywood.com
SUMMARY:Freight: The Five Incarnations of Abel Green
DESCRIPTION:J. Alphonse Nicholson reprises his off-Broadway tour-de-force as five versions of an African-American everyman.%3cdiv%3e\n	%3cbr%3e\n	%3cdiv%3eTickets%3a %28323%29663-1525 www.fountaintheatre.com%3c/div%3e\n%3c/div%3eDesignHTMLWords: 17   Characters: 148
URL:https://www.discoverhollywood.com/event/freight-the-five-incarnations-of-abel-green/
LOCATION:Fountain Theatre\, 5060 Fountain Ave. (323) 663-1525 or www.FountainTheatre.com\, Hollywood\, California
END:VEVENT
BEGIN:VEVENT
DTSTART;TZID=Asia/Kolkata:19961009T000000
DTEND;TZID=Asia/Kolkata:19961009T000000
DTSTAMP:20260422T201418
CREATED:20250703T064853Z
LAST-MODIFIED:20250703T064853Z
UID:10005867-844819200-844819200@www.discoverhollywood.com
SUMMARY:Gala Flamenco: Arte de Verano
DESCRIPTION:A sizzling and dynamic evening of Gypsy flamenco with dancers Cristina Hall%2c Wendy Castellanos%2c Manuel Gutierrez and Alexandra Rozo%3b singer José Cortes%3b guitarists Kai Narezo and Antonio Triana%3b and percussionist Gerardo Morales. %3ca href%3d%22https%3a//web.ovationtix.com/trs/pesptpm/10171281/1082695%22 target%3d%22_blank%22%3eweb.ovationtix.com/trs/pesptpm/10171281/1082695%3c/a%3eDesignHTMLWords: 33   Characters: 269
URL:https://www.discoverhollywood.com/event/gala-flamenco-arte-de-verano/
LOCATION:Fountain Theatre\, 5060 Fountain Ave. (323) 663-1525 or www.FountainTheatre.com\, Hollywood\, California
END:VEVENT
BEGIN:VEVENT
DTSTART;TZID=Asia/Kolkata:19931127T000000
DTEND;TZID=Asia/Kolkata:19931127T000000
DTSTAMP:20260422T201418
CREATED:20250703T105644Z
LAST-MODIFIED:20250703T105644Z
UID:10006629-754358400-754358400@www.discoverhollywood.com
SUMMARY:Hype Man
DESCRIPTION:West Coast Premiere. A%3cspan%3e%26nbsp%3bdiverse hip-hop trio is on the verge of making it big on national TV when a police shooting of a Black teen shakes the band to its core%2c forcing them to confront questions of race%2c gender%2c privilege and when to use artistic expression as an act of social protest.%26nbsp%3b%3c/span%3e\n%3cspan%3e\n	%3cbr%3e\n%3c%21–%5bendif%5d–%3e%3c/span%3eDesignHTMLWords: 53   Characters: 280
URL:https://www.discoverhollywood.com/event/hype-man/
LOCATION:Fountain Theatre\, 5060 Fountain Ave. (323) 663-1525 or www.FountainTheatre.com\, Hollywood\, California
END:VEVENT
BEGIN:VEVENT
DTSTART;TZID=Asia/Kolkata:19931114T000000
DTEND;TZID=Asia/Kolkata:19931114T000000
DTSTAMP:20260422T201418
CREATED:20250703T105707Z
LAST-MODIFIED:20250703T105707Z
UID:10006642-753235200-753235200@www.discoverhollywood.com
SUMMARY:I and You
DESCRIPTION:%3cstrong%3eLos Angeles premiere%3c/strong%3e of\n%3ca target%3d%22_blank%22 href%3d%22www.fountaintheatre.com%22%3e%3cem%3e%3cb%3eI and You%3c/b%3e%3c/em%3e%3c/a%3e – On the night before a class assignment is due%2c Caroline and Anthony plumb the mysteries of a Whitman poem%2c unaware that a deeper mystery has brought them together. Winner of the\n%3cstrong%3e2014 Harold and Mimi Steinberg/American Theatre Critics Association New Play Award%3c/strong%3e%2c and a finalist for the\n%3cstrong%3e2014 Susan Smith Blackburn Prize.%3c/strong%3eDesignHTMLWords: 59   Characters: 348
URL:https://www.discoverhollywood.com/event/i-and-you/
LOCATION:Fountain Theatre\, 5060 Fountain Ave. (323) 663-1525 or www.FountainTheatre.com\, Hollywood\, California
END:VEVENT
BEGIN:VEVENT
DTSTART;TZID=Asia/Kolkata:19931004T000000
DTEND;TZID=Asia/Kolkata:19931004T000000
DTSTAMP:20260422T201418
CREATED:20250703T105758Z
LAST-MODIFIED:20250703T105758Z
UID:10006683-749692800-749692800@www.discoverhollywood.com
SUMMARY:I\, Daniel Blake
DESCRIPTION:%3cp align%3d%22center%22%3e%3cspan%3eDaniel and Katie must navigate the nightmarish unemployment and public housing system while clinging to their dignity and humanity.%3c/span%3e%3c/p%3e\n%3cp align%3d%22center%22%3e%3cspan%3eMondays%3a Pay what you can.%3c/span%3e%3c/p%3e\n%3cp align%3d%22center%22%3e%3cspan%3e%3cbr%3e%3c/span%3e%3c/p%3eDesignHTMLWords: 24   Characters: 156
URL:https://www.discoverhollywood.com/event/i-daniel-blake/
LOCATION:Fountain Theatre\, 5060 Fountain Ave. (323) 663-1525 or www.FountainTheatre.com\, Hollywood\, California
END:VEVENT
BEGIN:VEVENT
DTSTART;TZID=Asia/Kolkata:19930902T000000
DTEND;TZID=Asia/Kolkata:19930902T000000
DTSTAMP:20260422T201418
CREATED:20250703T105831Z
LAST-MODIFIED:20250703T105831Z
UID:10006715-746928000-746928000@www.discoverhollywood.com
SUMMARY:If I Forget
DESCRIPTION:%3cspan%3eLA premiere of a%26nbsp%3b%3c/span%3e\n%3cspan%3edeeply personal play about history%2c responsibility%2c and what we’re willing to sacrifice for a new beginning. Written by Tony awardee %3cb%3eSteven Levenson%3c/b%3e %28Dear Evan Hansen%29 and directed by Tony Award actor%26nbsp%3b%3c/span%3e\n%3cstrong%3eJason Alexander %28%3c/strong%3e\n%3cspan%3eTV’s%26nbsp%3b%3c/span%3e\n%3cem%3eSeinfeld%29.%3c/em%3e\n%3cdiv%3e\n	%3cbr%3e\n%3c/div%3e\n%3cdiv%3e\n	%3cspan%3e%3cspan%3eReservations%3a%26nbsp%3b%3c/span%3e%3c/span%3e\n	%3cspan%3e%28323%29 663-1525 or%26nbsp%3b%3c/span%3e\n	%3ca href%3d%22http%3a//www.fountaintheatre.com/DesignHTMLWords: 43   Characters: 277
URL:https://www.discoverhollywood.com/event/if-i-forget/
LOCATION:Fountain Theatre\, 5060 Fountain Ave. (323) 663-1525 or www.FountainTheatre.com\, Hollywood\, California
END:VEVENT
BEGIN:VEVENT
DTSTART;TZID=Asia/Kolkata:19930901T000000
DTEND;TZID=Asia/Kolkata:19930901T000000
DTSTAMP:20260422T201418
CREATED:20250703T105831Z
LAST-MODIFIED:20250703T105831Z
UID:10006716-746841600-746841600@www.discoverhollywood.com
SUMMARY:If I Forget
DESCRIPTION:%3cspan%3eLA premiere of a%26nbsp%3b%3c/span%3e\n%3cspan%3edeeply personal play about history%2c responsibility%2c and what we’re willing to sacrifice for a new beginning. Written by Tony awardee %3cb%3eSteven Levenson%3c/b%3e %28Dear Evan Hansen%29 and directed by Tony Award actor%26nbsp%3b%3c/span%3e\n%3cstrong%3eJason Alexander %28%3c/strong%3e\n%3cspan%3eTV’s%3c/span%3e%26nbsp%3b\n%3cem%3eSeinfeld%29.%3c/em%3e\n%3cdiv%3e\n	%3cbr%3e\n%3c/div%3e\n%3cdiv%3e\n	%3cspan%3e%3cspan%3eReservations%3a%26nbsp%3b%3c/span%3e%3c/span%3e\n	%3cspan%3e%28323%29 663-1525 or%26nbsp%3b%3c/span%3e\n	%3ca href%3d%22http%3a//www.fountaintheatre.com/%22DesignHTMLWords: 43   Characters: 277
URL:https://www.discoverhollywood.com/event/if-i-forget-2/
LOCATION:Fountain Theatre\, 5060 Fountain Ave. (323) 663-1525 or www.FountainTheatre.com\, Hollywood\, California
END:VEVENT
BEGIN:VEVENT
DTSTART;TZID=Asia/Kolkata:19930622T000000
DTEND;TZID=Asia/Kolkata:19930622T000000
DTSTAMP:20260422T201418
CREATED:20250703T110123Z
LAST-MODIFIED:20250703T110123Z
UID:10006787-740707200-740707200@www.discoverhollywood.com
SUMMARY:In the Red and Brown Water
DESCRIPTION:DesignHTMLWords: 0   Characters: 0
URL:https://www.discoverhollywood.com/event/in-the-red-and-brown-water/
LOCATION:Fountain Theatre\, 5060 Fountain Ave. (323) 663-1525 or www.FountainTheatre.com\, Hollywood\, California
END:VEVENT
BEGIN:VEVENT
DTSTART;TZID=Asia/Kolkata:19920726T000000
DTEND;TZID=Asia/Kolkata:19920726T000000
DTSTAMP:20260422T201418
CREATED:20250703T111713Z
LAST-MODIFIED:20250703T111713Z
UID:10007118-712108800-712108800@www.discoverhollywood.com
SUMMARY:Jane Doe
DESCRIPTION:%3cspan%3eWorld Premiere. In this contemporary retelling of the 1941 Frank Capra classic film%3cem%3eMeet John Doe%2c%26nbsp%3b%3c/em%3ea newspaper writer fabricates a letter to his column from an imaginary homeless woman named “Jane Doe” who announces she will kill herself on the 4th of July because of greed%2c corruption%2c and heartlessness.%26nbsp%3b%3c/span%3eDesignHTMLWords: 49   Characters: 299
URL:https://www.discoverhollywood.com/event/jane-doe/
LOCATION:Fountain Theatre\, 5060 Fountain Ave. (323) 663-1525 or www.FountainTheatre.com\, Hollywood\, California
END:VEVENT
BEGIN:VEVENT
DTSTART;TZID=Asia/Kolkata:19890203T000000
DTEND;TZID=Asia/Kolkata:19890203T000000
DTSTAMP:20260422T201418
CREATED:20250709T123550Z
LAST-MODIFIED:20250709T123550Z
UID:10008787-602467200-602467200@www.discoverhollywood.com
SUMMARY:Manuel Gutierrez in "Five"
DESCRIPTION:%3cbr%3eDesignHTMLWords: 0   Characters: 0
URL:https://www.discoverhollywood.com/event/manuel-gutierrez-in-five/
LOCATION:Fountain Theatre\, 5060 Fountain Ave. (323) 663-1525 or www.FountainTheatre.com\, Hollywood\, California
END:VEVENT
BEGIN:VEVENT
DTSTART;TZID=Asia/Kolkata:19880425T000000
DTEND;TZID=Asia/Kolkata:19880425T000000
DTSTAMP:20260422T201418
CREATED:20250710T094724Z
LAST-MODIFIED:20250710T094724Z
UID:10009071-577929600-577929600@www.discoverhollywood.com
SUMMARY:MEHFIL-E
DESCRIPTION:DesignHTMLWords: 0   Characters: 0
URL:https://www.discoverhollywood.com/event/mehfil-e/
LOCATION:Fountain Theatre\, 5060 Fountain Ave. (323) 663-1525 or www.FountainTheatre.com\, Hollywood\, California
END:VEVENT
BEGIN:VEVENT
DTSTART;TZID=Asia/Kolkata:19861023T000000
DTEND;TZID=Asia/Kolkata:19861023T000000
DTSTAMP:20260422T201418
CREATED:20250710T115228Z
LAST-MODIFIED:20250710T115228Z
UID:10009621-530409600-530409600@www.discoverhollywood.com
SUMMARY:My Mañana Comes
DESCRIPTION:The severity of the minimum wage crisis and rights for undocumented workers lie at the center of this fast-moving%2c funny and powerful new Los Angeles premiere by Elizabeth Irwin that examines the true meaning of %22home%22 and how far we%27re willing to go to get there. Join four busboys in the kitchen of an upscale restaurant as they learn the hard way how to deal with pay cuts that jeopardize their plans and dreams for a better life%2c their dignity and their friendship.\n%3cbr%3eDesignHTMLWords: 83   Characters: 461
URL:https://www.discoverhollywood.com/event/my-manana-comes/
LOCATION:Fountain Theatre\, 5060 Fountain Ave. (323) 663-1525 or www.FountainTheatre.com\, Hollywood\, California
END:VEVENT
BEGIN:VEVENT
DTSTART;TZID=Asia/Kolkata:19861020T000000
DTEND;TZID=Asia/Kolkata:19861020T000000
DTSTAMP:20260422T201418
CREATED:20250710T115238Z
LAST-MODIFIED:20250710T115238Z
UID:10009624-530150400-530150400@www.discoverhollywood.com
SUMMARY:My Name is Asher Lev
DESCRIPTION:%3cbr%3eDesignHTMLWords: 0   Characters: 0
URL:https://www.discoverhollywood.com/event/my-name-is-asher-lev/
LOCATION:Fountain Theatre\, 5060 Fountain Ave. (323) 663-1525 or www.FountainTheatre.com\, Hollywood\, California
END:VEVENT
BEGIN:VEVENT
DTSTART;TZID=Asia/Kolkata:19850620T000000
DTEND;TZID=Asia/Kolkata:19850620T000000
DTSTAMP:20260422T201418
CREATED:20250710T122522Z
LAST-MODIFIED:20250716T064837Z
UID:10010111-488073600-488073600@www.discoverhollywood.com
SUMMARY:On the Spectrum
DESCRIPTION:DesignHTMLWords: 0   Characters: 0
URL:https://www.discoverhollywood.com/event/on-the-spectrum/
LOCATION:Fountain Theatre\, 5060 Fountain Ave. (323) 663-1525 or www.FountainTheatre.com\, Hollywood\, California
END:VEVENT
BEGIN:VEVENT
DTSTART;TZID=Asia/Kolkata:19850409T000000
DTEND;TZID=Asia/Kolkata:19850409T000000
DTSTAMP:20260422T201418
CREATED:20250710T122959Z
LAST-MODIFIED:20250710T122959Z
UID:10010183-481852800-481852800@www.discoverhollywood.com
SUMMARY:Opus
DESCRIPTION:DesignHTMLWords: 0   Characters: 0
URL:https://www.discoverhollywood.com/event/opus/
LOCATION:Fountain Theatre\, 5060 Fountain Ave. (323) 663-1525 or www.FountainTheatre.com\, Hollywood\, California
END:VEVENT
BEGIN:VEVENT
DTSTART;TZID=Asia/Kolkata:19821018T000000
DTEND;TZID=Asia/Kolkata:19821018T000000
DTSTAMP:20260422T201418
CREATED:20250714T093611Z
LAST-MODIFIED:20250714T093611Z
UID:10010657-403747200-403747200@www.discoverhollywood.com
SUMMARY:Quartetto Fantastico
DESCRIPTION:The Fountain presents Los Angeles-based string quartet Quartetto Fantastico for a live chamber music concert following the matinee performance of Opus. %28Separate admission%3b discount available with Opus ticket stub%29DesignHTMLWords: 29   Characters: 209
URL:https://www.discoverhollywood.com/event/quartetto-fantastico/
LOCATION:Fountain Theatre\, 5060 Fountain Ave. (323) 663-1525 or www.FountainTheatre.com\, Hollywood\, California
END:VEVENT
BEGIN:VEVENT
DTSTART;TZID=Asia/Kolkata:19821003T000000
DTEND;TZID=Asia/Kolkata:19821003T000000
DTSTAMP:20260422T201418
CREATED:20250714T093709Z
LAST-MODIFIED:20250714T093709Z
UID:10010672-402451200-402451200@www.discoverhollywood.com
SUMMARY:Quien Yo Soy
DESCRIPTION:DesignHTMLWords: 0   Characters: 0
URL:https://www.discoverhollywood.com/event/quien-yo-soy/
LOCATION:Fountain Theatre\, 5060 Fountain Ave. (323) 663-1525 or www.FountainTheatre.com\, Hollywood\, California
END:VEVENT
BEGIN:VEVENT
DTSTART;TZID=Asia/Kolkata:19820518T000000
DTEND;TZID=Asia/Kolkata:19820518T000000
DTSTAMP:20260422T201418
CREATED:20250714T094409Z
LAST-MODIFIED:20250714T094409Z
UID:10010810-390528000-390528000@www.discoverhollywood.com
SUMMARY:Reborning
DESCRIPTION:A darkly funny and insightful psychological thriller that takes an unsettling look at work%2c motherhood and the power of creation. A young artist who crafts custom-made lifelike latex dolls begins to suspect that a demanding client may be the mother who abandoned her at birth. As she tries to unravel the mystery%2c she discovers the path to her own “reborning.” Nominated for the Bay Area Theatre Critics Circle Award%2c Best Original Script. %3ca target%3d%22_blank%22 href%3d%22http%3a//www.fountaintheatre.com%22%3ewww.fountaintheDesignHTMLWords: 73   Characters: 446
URL:https://www.discoverhollywood.com/event/reborning/
LOCATION:Fountain Theatre\, 5060 Fountain Ave. (323) 663-1525 or www.FountainTheatre.com\, Hollywood\, California
END:VEVENT
BEGIN:VEVENT
DTSTART;TZID=Asia/Kolkata:19801215T000000
DTEND;TZID=Asia/Kolkata:19801215T000000
DTSTAMP:20260422T201418
CREATED:20250714T103210Z
LAST-MODIFIED:20250714T103210Z
UID:10011129-345686400-345686400@www.discoverhollywood.com
SUMMARY:Roe
DESCRIPTION:A Hyper-Staged Reading. Play by Lisa Loomer%3b directed by Vanessa Stalling. Presented on the Fountain%27s outdoor stage.DesignHTMLWords: 17   Characters: 111
URL:https://www.discoverhollywood.com/event/roe/
LOCATION:Fountain Theatre\, 5060 Fountain Ave. (323) 663-1525 or www.FountainTheatre.com\, Hollywood\, California
END:VEVENT
BEGIN:VEVENT
DTSTART;TZID=Asia/Kolkata:19800105T000000
DTEND;TZID=Asia/Kolkata:19800105T000000
DTSTAMP:20260422T201418
CREATED:20250714T113604Z
LAST-MODIFIED:20250714T113604Z
UID:10011474-315878400-315878400@www.discoverhollywood.com
SUMMARY:Runaway Home
DESCRIPTION:Three years after Hurricane Katrina%2c the unhealed wounds of New Orleans%27s Lower 9th Ward continue to fester. In this powerful%2c funny and deeply moving mother-daughter story%2c fourteen-year-old runaway Kali embarks on a journey to pick through the wreckage of what used to be her life. Rhyming%2c stealing and scamming her way through the still-destroyed neighborhood%2c engaging the vivid%2c lively denizens who remain%2c she grapples with the real cost of what she has lost as she is forced to confront the even higher cDesignHTMLWords: 83   Characters: 498
URL:https://www.discoverhollywood.com/event/runaway-home/
LOCATION:Fountain Theatre\, 5060 Fountain Ave. (323) 663-1525 or www.FountainTheatre.com\, Hollywood\, California
END:VEVENT
BEGIN:VEVENT
DTSTART;TZID=Asia/Kolkata:19800104T000000
DTEND;TZID=Asia/Kolkata:19800104T000000
DTSTAMP:20260422T201418
CREATED:20250714T113604Z
LAST-MODIFIED:20250714T113604Z
UID:10011475-315792000-315792000@www.discoverhollywood.com
SUMMARY:Runaway Home
DESCRIPTION:Three years after Hurricane Katrina%2c the unhealed wounds of New Orleans’s Lower 9th Ward continue to fester. In this powerful%2c funny and deeply moving mother-daughter story%2c fourteen-year-old runaway Kali embarks on a journey to pick through the wreckage of what used to be her life. Rhyming%2c stealing and scamming her way through the still-destroyed neighborhood%2c engaging the vivid%2c lively denizens who remain%2c she grapples with the real cost of what she has lost as she is forced to confront the even higher cDesignHTMLWords: 83   Characters: 499
URL:https://www.discoverhollywood.com/event/runaway-home-2/
LOCATION:Fountain Theatre\, 5060 Fountain Ave. (323) 663-1525 or www.FountainTheatre.com\, Hollywood\, California
END:VEVENT
END:VCALENDAR