BEGIN:VCALENDAR
VERSION:2.0
PRODID:-//Discover Hollywood Magazine - ECPv6.15.20//NONSGML v1.0//EN
CALSCALE:GREGORIAN
METHOD:PUBLISH
X-ORIGINAL-URL:https://www.discoverhollywood.com
X-WR-CALDESC:Events for Discover Hollywood Magazine
REFRESH-INTERVAL;VALUE=DURATION:PT1H
X-Robots-Tag:noindex
X-PUBLISHED-TTL:PT1H
BEGIN:VTIMEZONE
TZID:Asia/Kolkata
BEGIN:STANDARD
TZOFFSETFROM:+0530
TZOFFSETTO:+0530
TZNAME:IST
DTSTART:19690101T000000
END:STANDARD
END:VTIMEZONE
BEGIN:VEVENT
DTSTART;TZID=Asia/Kolkata:20260425T015617
DTEND;TZID=Asia/Kolkata:20260425T015617
DTSTAMP:20260425T015617
CREATED:20250716T082331Z
LAST-MODIFIED:20250716T082331Z
UID:10015166-0-0@www.discoverhollywood.com
SUMMARY:Wasn't it Good\, Wasn't it Fine
DESCRIPTION:%22A Musical Celebration of Neile Adams%27 Memories and The Stages of Her Life%22DesignHTMLWords: 13   Characters: 72
URL:https://www.discoverhollywood.com/event/wasnt-it-good-wasnt-it-fine/
LOCATION:Gardenia Club\, 7066 Santa Monica Blvd.\, West Hollywood\, California\, 90046.0
END:VEVENT
BEGIN:VEVENT
DTSTART;TZID=Asia/Kolkata:20260425T015617
DTEND;TZID=Asia/Kolkata:20260425T015617
DTSTAMP:20260425T015617
CREATED:20250709T084250Z
LAST-MODIFIED:20250709T084250Z
UID:10008237-0-0@www.discoverhollywood.com
SUMMARY:Larry Davis
DESCRIPTION:%3cbr%3eDesignHTMLWords: 0   Characters: 0
URL:https://www.discoverhollywood.com/event/larry-davis/
LOCATION:Gardenia Club\, 7066 Santa Monica Blvd.\, West Hollywood\, California\, 90046.0
END:VEVENT
END:VCALENDAR