BEGIN:VCALENDAR
VERSION:2.0
PRODID:-//Discover Hollywood Magazine - ECPv6.15.17//NONSGML v1.0//EN
CALSCALE:GREGORIAN
METHOD:PUBLISH
X-ORIGINAL-URL:https://www.discoverhollywood.com
X-WR-CALDESC:Events for Discover Hollywood Magazine
REFRESH-INTERVAL;VALUE=DURATION:PT1H
X-Robots-Tag:noindex
X-PUBLISHED-TTL:PT1H
BEGIN:VTIMEZONE
TZID:Asia/Kolkata
BEGIN:STANDARD
TZOFFSETFROM:+0530
TZOFFSETTO:+0530
TZNAME:IST
DTSTART:20040101T000000
END:STANDARD
END:VTIMEZONE
BEGIN:VEVENT
DTSTART;TZID=Asia/Kolkata:20200219T000000
DTEND;TZID=Asia/Kolkata:20200219T000000
DTSTAMP:20260422T135715
CREATED:20250630T100724Z
LAST-MODIFIED:20250630T100724Z
UID:10001495-1582070400-1582070400@www.discoverhollywood.com
SUMMARY:Abe Say What Showcase
DESCRIPTION:DesignHTMLWords: 0   Characters: 0
URL:https://www.discoverhollywood.com/event/abe-say-what-showcase-2/
LOCATION:Genghis Cohen\, 7358 Beverly Blvd. http://www.ticketweb.com/t3/sale/SaleEventDetail?dispatch=loadSelectionData&eventId=7034415\, Hollywood\, California
END:VEVENT
BEGIN:VEVENT
DTSTART;TZID=Asia/Kolkata:20190317T000000
DTEND;TZID=Asia/Kolkata:20190317T000000
DTSTAMP:20260422T135715
CREATED:20250630T103048Z
LAST-MODIFIED:20250630T103048Z
UID:10001603-1552780800-1552780800@www.discoverhollywood.com
SUMMARY:Aidan James
DESCRIPTION:DesignHTMLWords: 0   Characters: 0
URL:https://www.discoverhollywood.com/event/aidan-james-2/
LOCATION:Genghis Cohen\, 7358 Beverly Blvd. http://www.ticketweb.com/t3/sale/SaleEventDetail?dispatch=loadSelectionData&eventId=7034415\, Hollywood\, California
END:VEVENT
BEGIN:VEVENT
DTSTART;TZID=Asia/Kolkata:20181114T000000
DTEND;TZID=Asia/Kolkata:20181114T000000
DTSTAMP:20260422T135715
CREATED:20250630T103248Z
LAST-MODIFIED:20250630T103248Z
UID:10001644-1542153600-1542153600@www.discoverhollywood.com
SUMMARY:Alana Sweetwater
DESCRIPTION:DesignHTMLWords: 0   Characters: 0
URL:https://www.discoverhollywood.com/event/alana-sweetwater-2/
LOCATION:Genghis Cohen\, 7358 Beverly Blvd. http://www.ticketweb.com/t3/sale/SaleEventDetail?dispatch=loadSelectionData&eventId=7034415\, Hollywood\, California
END:VEVENT
BEGIN:VEVENT
DTSTART;TZID=Asia/Kolkata:20180810T000000
DTEND;TZID=Asia/Kolkata:20180810T000000
DTSTAMP:20260422T135715
CREATED:20250630T103433Z
LAST-MODIFIED:20250630T103433Z
UID:10001676-1533859200-1533859200@www.discoverhollywood.com
SUMMARY:Alex DiMattia
DESCRIPTION:DesignHTMLWords: 0   Characters: 0
URL:https://www.discoverhollywood.com/event/alex-dimattia-2/
LOCATION:Genghis Cohen\, 7358 Beverly Blvd. http://www.ticketweb.com/t3/sale/SaleEventDetail?dispatch=loadSelectionData&eventId=7034415\, Hollywood\, California
END:VEVENT
BEGIN:VEVENT
DTSTART;TZID=Asia/Kolkata:20170411T000000
DTEND;TZID=Asia/Kolkata:20170411T000000
DTSTAMP:20260422T135715
CREATED:20250630T105327Z
LAST-MODIFIED:20250630T105327Z
UID:10001838-1491868800-1491868800@www.discoverhollywood.com
SUMMARY:Americana Music Circle
DESCRIPTION:DesignHTMLWords: 0   Characters: 0
URL:https://www.discoverhollywood.com/event/americana-music-circle-2/
LOCATION:Genghis Cohen\, 7358 Beverly Blvd. http://www.ticketweb.com/t3/sale/SaleEventDetail?dispatch=loadSelectionData&eventId=7034415\, Hollywood\, California
END:VEVENT
BEGIN:VEVENT
DTSTART;TZID=Asia/Kolkata:20170123T000000
DTEND;TZID=Asia/Kolkata:20170123T000000
DTSTAMP:20260422T135715
CREATED:20250630T105506Z
LAST-MODIFIED:20250630T105506Z
UID:10001864-1485129600-1485129600@www.discoverhollywood.com
SUMMARY:Amy Loftus
DESCRIPTION:DesignHTMLWords: 0   Characters: 0
URL:https://www.discoverhollywood.com/event/amy-loftus-2/
LOCATION:Genghis Cohen\, 7358 Beverly Blvd. http://www.ticketweb.com/t3/sale/SaleEventDetail?dispatch=loadSelectionData&eventId=7034415\, Hollywood\, California
END:VEVENT
BEGIN:VEVENT
DTSTART;TZID=Asia/Kolkata:20160216T000000
DTEND;TZID=Asia/Kolkata:20160216T000000
DTSTAMP:20260422T135715
CREATED:20250630T110021Z
LAST-MODIFIED:20250630T110021Z
UID:10001978-1455580800-1455580800@www.discoverhollywood.com
SUMMARY:Anaconda Limousine
DESCRIPTION:DesignHTMLWords: 0   Characters: 0
URL:https://www.discoverhollywood.com/event/anaconda-limousine-2/
LOCATION:Genghis Cohen\, 7358 Beverly Blvd. http://www.ticketweb.com/t3/sale/SaleEventDetail?dispatch=loadSelectionData&eventId=7034415\, Hollywood\, California
END:VEVENT
BEGIN:VEVENT
DTSTART;TZID=Asia/Kolkata:20151002T000000
DTEND;TZID=Asia/Kolkata:20151002T000000
DTSTAMP:20260422T135715
CREATED:20250630T113406Z
LAST-MODIFIED:20250630T113406Z
UID:10002029-1443744000-1443744000@www.discoverhollywood.com
SUMMARY:Andrew Young
DESCRIPTION:%3cbr%3eDesignHTMLWords: 0   Characters: 0
URL:https://www.discoverhollywood.com/event/andrew-young/
LOCATION:Genghis Cohen\, 7358 Beverly Blvd. http://www.ticketweb.com/t3/sale/SaleEventDetail?dispatch=loadSelectionData&eventId=7034415\, Hollywood\, California
END:VEVENT
BEGIN:VEVENT
DTSTART;TZID=Asia/Kolkata:20150930T000000
DTEND;TZID=Asia/Kolkata:20150930T000000
DTSTAMP:20260422T135715
CREATED:20250630T113420Z
LAST-MODIFIED:20250630T113420Z
UID:10002030-1443571200-1443571200@www.discoverhollywood.com
SUMMARY:Andshey
DESCRIPTION:DesignHTMLWords: 0   Characters: 0
URL:https://www.discoverhollywood.com/event/andshey/
LOCATION:Genghis Cohen\, 7358 Beverly Blvd. http://www.ticketweb.com/t3/sale/SaleEventDetail?dispatch=loadSelectionData&eventId=7034415\, Hollywood\, California
END:VEVENT
BEGIN:VEVENT
DTSTART;TZID=Asia/Kolkata:20150614T000000
DTEND;TZID=Asia/Kolkata:20150614T000000
DTSTAMP:20260422T135715
CREATED:20250630T113650Z
LAST-MODIFIED:20250630T113650Z
UID:10002084-1434240000-1434240000@www.discoverhollywood.com
SUMMARY:Anita Coats / Burning Manilow / Ray Goren
DESCRIPTION:DesignHTMLWords: 0   Characters: 0
URL:https://www.discoverhollywood.com/event/anita-coats-burning-manilow-ray-goren/
LOCATION:Genghis Cohen\, 7358 Beverly Blvd. http://www.ticketweb.com/t3/sale/SaleEventDetail?dispatch=loadSelectionData&eventId=7034415\, Hollywood\, California
END:VEVENT
BEGIN:VEVENT
DTSTART;TZID=Asia/Kolkata:20141027T000000
DTEND;TZID=Asia/Kolkata:20141027T000000
DTSTAMP:20260422T135715
CREATED:20250630T114236Z
LAST-MODIFIED:20250630T114236Z
UID:10002199-1414368000-1414368000@www.discoverhollywood.com
SUMMARY:Ari and the Alibis
DESCRIPTION:DesignHTMLWords: 0   Characters: 0
URL:https://www.discoverhollywood.com/event/ari-and-the-alibis/
LOCATION:Genghis Cohen\, 7358 Beverly Blvd. http://www.ticketweb.com/t3/sale/SaleEventDetail?dispatch=loadSelectionData&eventId=7034415\, Hollywood\, California
END:VEVENT
BEGIN:VEVENT
DTSTART;TZID=Asia/Kolkata:20140530T000000
DTEND;TZID=Asia/Kolkata:20140530T000000
DTSTAMP:20260422T135715
CREATED:20250630T114621Z
LAST-MODIFIED:20250630T114621Z
UID:10002274-1401408000-1401408000@www.discoverhollywood.com
SUMMARY:Ascetic Junkies
DESCRIPTION:DesignHTMLWords: 0   Characters: 0
URL:https://www.discoverhollywood.com/event/ascetic-junkies/
LOCATION:Genghis Cohen\, 7358 Beverly Blvd. http://www.ticketweb.com/t3/sale/SaleEventDetail?dispatch=loadSelectionData&eventId=7034415\, Hollywood\, California
END:VEVENT
BEGIN:VEVENT
DTSTART;TZID=Asia/Kolkata:20140418T000000
DTEND;TZID=Asia/Kolkata:20140418T000000
DTSTAMP:20260422T135715
CREATED:20250630T114735Z
LAST-MODIFIED:20250630T114735Z
UID:10002295-1397779200-1397779200@www.discoverhollywood.com
SUMMARY:Astra Kelly
DESCRIPTION:DesignHTMLWords: 0   Characters: 0
URL:https://www.discoverhollywood.com/event/astra-kelly/
LOCATION:Genghis Cohen\, 7358 Beverly Blvd. http://www.ticketweb.com/t3/sale/SaleEventDetail?dispatch=loadSelectionData&eventId=7034415\, Hollywood\, California
END:VEVENT
BEGIN:VEVENT
DTSTART;TZID=Asia/Kolkata:20140325T000000
DTEND;TZID=Asia/Kolkata:20140325T000000
DTSTAMP:20260422T135715
CREATED:20250630T114806Z
LAST-MODIFIED:20250630T114806Z
UID:10002307-1395705600-1395705600@www.discoverhollywood.com
SUMMARY:Athena Andreadis and friends
DESCRIPTION:DesignHTMLWords: 0   Characters: 0
URL:https://www.discoverhollywood.com/event/athena-andreadis-and-friends/
LOCATION:Genghis Cohen\, 7358 Beverly Blvd. http://www.ticketweb.com/t3/sale/SaleEventDetail?dispatch=loadSelectionData&eventId=7034415\, Hollywood\, California
END:VEVENT
BEGIN:VEVENT
DTSTART;TZID=Asia/Kolkata:20140323T000000
DTEND;TZID=Asia/Kolkata:20140323T000000
DTSTAMP:20260422T135715
CREATED:20250630T114806Z
LAST-MODIFIED:20250630T114806Z
UID:10002308-1395532800-1395532800@www.discoverhollywood.com
SUMMARY:Athena Andreadis and friends
DESCRIPTION:DesignHTMLWords: 0   Characters: 0
URL:https://www.discoverhollywood.com/event/athena-andreadis-and-friends-2/
LOCATION:Genghis Cohen\, 7358 Beverly Blvd. http://www.ticketweb.com/t3/sale/SaleEventDetail?dispatch=loadSelectionData&eventId=7034415\, Hollywood\, California
END:VEVENT
BEGIN:VEVENT
DTSTART;TZID=Asia/Kolkata:20140223T000000
DTEND;TZID=Asia/Kolkata:20140223T000000
DTSTAMP:20260422T135715
CREATED:20250630T115828Z
LAST-MODIFIED:20250630T115828Z
UID:10002322-1393113600-1393113600@www.discoverhollywood.com
SUMMARY:Aubrey Road
DESCRIPTION:DesignHTMLWords: 0   Characters: 0
URL:https://www.discoverhollywood.com/event/aubrey-road/
LOCATION:Genghis Cohen\, 7358 Beverly Blvd. http://www.ticketweb.com/t3/sale/SaleEventDetail?dispatch=loadSelectionData&eventId=7034415\, Hollywood\, California
END:VEVENT
BEGIN:VEVENT
DTSTART;TZID=Asia/Kolkata:20130403T000000
DTEND;TZID=Asia/Kolkata:20130403T000000
DTSTAMP:20260422T135715
CREATED:20250630T120512Z
LAST-MODIFIED:20250630T120512Z
UID:10002485-1364947200-1364947200@www.discoverhollywood.com
SUMMARY:Bardy & Butch Duo
DESCRIPTION:DesignHTMLWords: 0   Characters: 0
URL:https://www.discoverhollywood.com/event/bardy-butch-duo/
LOCATION:Genghis Cohen\, 7358 Beverly Blvd. http://www.ticketweb.com/t3/sale/SaleEventDetail?dispatch=loadSelectionData&eventId=7034415\, Hollywood\, California
END:VEVENT
BEGIN:VEVENT
DTSTART;TZID=Asia/Kolkata:20111116T000000
DTEND;TZID=Asia/Kolkata:20111116T000000
DTSTAMP:20260422T135715
CREATED:20250630T122912Z
LAST-MODIFIED:20250630T122912Z
UID:10002737-1321401600-1321401600@www.discoverhollywood.com
SUMMARY:Beth Sass / John Stauffer
DESCRIPTION:DesignHTMLWords: 0   Characters: 0
URL:https://www.discoverhollywood.com/event/beth-sass-john-stauffer/
LOCATION:Genghis Cohen\, 7358 Beverly Blvd. http://www.ticketweb.com/t3/sale/SaleEventDetail?dispatch=loadSelectionData&eventId=7034415\, Hollywood\, California
END:VEVENT
BEGIN:VEVENT
DTSTART;TZID=Asia/Kolkata:20110323T000000
DTEND;TZID=Asia/Kolkata:20110323T000000
DTSTAMP:20260422T135715
CREATED:20250630T123233Z
LAST-MODIFIED:20250630T123233Z
UID:10002857-1300838400-1300838400@www.discoverhollywood.com
SUMMARY:Bill Mumy with Dave Pearlman
DESCRIPTION:%3ca href%3d%22https%3a//www.ticketweb.com/event/bill-mumy-with-dave-pearlman-genghis-cohen-tickets/9280295%22%3ehttps%3a//www.ticketweb.com/event/bill-mumy-with-dave-pearlman-genghis-cohen-tickets/9280295%3c/a%3eDesignHTMLWords: 1   Characters: 80
URL:https://www.discoverhollywood.com/event/bill-mumy-with-dave-pearlman/
LOCATION:Genghis Cohen\, 7358 Beverly Blvd. http://www.ticketweb.com/t3/sale/SaleEventDetail?dispatch=loadSelectionData&eventId=7034415\, Hollywood\, California
END:VEVENT
BEGIN:VEVENT
DTSTART;TZID=Asia/Kolkata:20100815T000000
DTEND;TZID=Asia/Kolkata:20100815T000000
DTSTAMP:20260422T135715
CREATED:20250630T130955Z
LAST-MODIFIED:20250716T122101Z
UID:10002967-1281830400-1281830400@www.discoverhollywood.com
SUMMARY:Blank Minds
DESCRIPTION:DesignHTMLWords: 0   Characters: 0
URL:https://www.discoverhollywood.com/event/blank-minds/
LOCATION:Genghis Cohen\, 7358 Beverly Blvd. http://www.ticketweb.com/t3/sale/SaleEventDetail?dispatch=loadSelectionData&eventId=7034415\, Hollywood\, California
END:VEVENT
BEGIN:VEVENT
DTSTART;TZID=Asia/Kolkata:20100401T000000
DTEND;TZID=Asia/Kolkata:20100401T000000
DTSTAMP:20260422T135715
CREATED:20250630T131140Z
LAST-MODIFIED:20250716T122257Z
UID:10003035-1270080000-1270080000@www.discoverhollywood.com
SUMMARY:BMI Acoustic Lounge
DESCRIPTION:%3cbr%3eDesignHTMLWords: 0   Characters: 0
URL:https://www.discoverhollywood.com/event/bmi-acoustic-lounge/
LOCATION:Genghis Cohen\, 7358 Beverly Blvd. http://www.ticketweb.com/t3/sale/SaleEventDetail?dispatch=loadSelectionData&eventId=7034415\, Hollywood\, California
END:VEVENT
BEGIN:VEVENT
DTSTART;TZID=Asia/Kolkata:20100330T000000
DTEND;TZID=Asia/Kolkata:20100330T000000
DTSTAMP:20260422T135715
CREATED:20250630T131142Z
LAST-MODIFIED:20250716T122257Z
UID:10003036-1269907200-1269907200@www.discoverhollywood.com
SUMMARY:BMI Acoustic Lounge / Spekeasy Comedy
DESCRIPTION:DesignHTMLWords: 0   Characters: 0
URL:https://www.discoverhollywood.com/event/bmi-acoustic-lounge-spekeasy-comedy/
LOCATION:Genghis Cohen\, 7358 Beverly Blvd. http://www.ticketweb.com/t3/sale/SaleEventDetail?dispatch=loadSelectionData&eventId=7034415\, Hollywood\, California
END:VEVENT
BEGIN:VEVENT
DTSTART;TZID=Asia/Kolkata:20090520T000000
DTEND;TZID=Asia/Kolkata:20090520T000000
DTSTAMP:20260422T135715
CREATED:20250630T131415Z
LAST-MODIFIED:20250716T130820Z
UID:10003193-1242777600-1242777600@www.discoverhollywood.com
SUMMARY:Breanna Lynn
DESCRIPTION:%3ca href%3d%22https%3a//www.ticketweb.com/event/breanna-lynn-genghis-cohen-tickets/9291615%22%3ehttps%3a//www.ticketweb.com/event/breanna-lynn-genghis-cohen-tickets/9291615%3c/a%3eDesignHTMLWords: 1   Characters: 67
URL:https://www.discoverhollywood.com/event/breanna-lynn/
LOCATION:Genghis Cohen\, 7358 Beverly Blvd. http://www.ticketweb.com/t3/sale/SaleEventDetail?dispatch=loadSelectionData&eventId=7034415\, Hollywood\, California
END:VEVENT
BEGIN:VEVENT
DTSTART;TZID=Asia/Kolkata:20081002T000000
DTEND;TZID=Asia/Kolkata:20081002T000000
DTSTAMP:20260422T135715
CREATED:20250701T063202Z
LAST-MODIFIED:20250701T063202Z
UID:10003303-1222905600-1222905600@www.discoverhollywood.com
SUMMARY:Bryan Guardado
DESCRIPTION:DesignHTMLWords: 0   Characters: 0
URL:https://www.discoverhollywood.com/event/bryan-guardado/
LOCATION:Genghis Cohen\, 7358 Beverly Blvd. http://www.ticketweb.com/t3/sale/SaleEventDetail?dispatch=loadSelectionData&eventId=7034415\, Hollywood\, California
END:VEVENT
BEGIN:VEVENT
DTSTART;TZID=Asia/Kolkata:20061224T000000
DTEND;TZID=Asia/Kolkata:20061224T000000
DTSTAMP:20260422T135715
CREATED:20250701T080427Z
LAST-MODIFIED:20250701T080427Z
UID:10003532-1166918400-1166918400@www.discoverhollywood.com
SUMMARY:Celia Chavez & Alex Feder
DESCRIPTION:%3cbr%3eDesignHTMLWords: 0   Characters: 0
URL:https://www.discoverhollywood.com/event/celia-chavez-alex-feder/
LOCATION:Genghis Cohen\, 7358 Beverly Blvd. http://www.ticketweb.com/t3/sale/SaleEventDetail?dispatch=loadSelectionData&eventId=7034415\, Hollywood\, California
END:VEVENT
BEGIN:VEVENT
DTSTART;TZID=Asia/Kolkata:20061130T000000
DTEND;TZID=Asia/Kolkata:20061130T000000
DTSTAMP:20260422T135715
CREATED:20250701T080645Z
LAST-MODIFIED:20250701T080645Z
UID:10003544-1164844800-1164844800@www.discoverhollywood.com
SUMMARY:Chadwick Johnson
DESCRIPTION:DesignHTMLWords: 0   Characters: 0
URL:https://www.discoverhollywood.com/event/chadwick-johnson/
LOCATION:Genghis Cohen\, 7358 Beverly Blvd. http://www.ticketweb.com/t3/sale/SaleEventDetail?dispatch=loadSelectionData&eventId=7034415\, Hollywood\, California
END:VEVENT
BEGIN:VEVENT
DTSTART;TZID=Asia/Kolkata:20060619T000000
DTEND;TZID=Asia/Kolkata:20060619T000000
DTSTAMP:20260422T135715
CREATED:20250701T083311Z
LAST-MODIFIED:20250701T083311Z
UID:10003626-1150675200-1150675200@www.discoverhollywood.com
SUMMARY:Cherokee Fortune
DESCRIPTION:%3ca href%3d%22https%3a//www.ticketweb.com/event/7pm-dean-oleary-genghis-cohen-tickets/9270405%22%3ehttps%3a//www.ticketweb.com/event/7pm-dean-oleary-genghis-cohen-tickets/9270405%3c/a%3eDesignHTMLWords: 1   Characters: 69
URL:https://www.discoverhollywood.com/event/cherokee-fortune/
LOCATION:Genghis Cohen\, 7358 Beverly Blvd. http://www.ticketweb.com/t3/sale/SaleEventDetail?dispatch=loadSelectionData&eventId=7034415\, Hollywood\, California
END:VEVENT
BEGIN:VEVENT
DTSTART;TZID=Asia/Kolkata:20060225T000000
DTEND;TZID=Asia/Kolkata:20060225T000000
DTSTAMP:20260422T135715
CREATED:20250701T084124Z
LAST-MODIFIED:20250701T084124Z
UID:10003683-1140825600-1140825600@www.discoverhollywood.com
SUMMARY:Chop Schtick
DESCRIPTION:DesignHTMLWords: 0   Characters: 0
URL:https://www.discoverhollywood.com/event/chop-schtick/
LOCATION:Genghis Cohen\, 7358 Beverly Blvd. http://www.ticketweb.com/t3/sale/SaleEventDetail?dispatch=loadSelectionData&eventId=7034415\, Hollywood\, California
END:VEVENT
BEGIN:VEVENT
DTSTART;TZID=Asia/Kolkata:20050916T000000
DTEND;TZID=Asia/Kolkata:20050916T000000
DTSTAMP:20260422T135715
CREATED:20250701T091106Z
LAST-MODIFIED:20250701T091106Z
UID:10003764-1126828800-1126828800@www.discoverhollywood.com
SUMMARY:Chucks Schaeffer
DESCRIPTION:DesignHTMLWords: 0   Characters: 0
URL:https://www.discoverhollywood.com/event/chucks-schaeffer/
LOCATION:Genghis Cohen\, 7358 Beverly Blvd. http://www.ticketweb.com/t3/sale/SaleEventDetail?dispatch=loadSelectionData&eventId=7034415\, Hollywood\, California
END:VEVENT
BEGIN:VEVENT
DTSTART;TZID=Asia/Kolkata:20050829T000000
DTEND;TZID=Asia/Kolkata:20050829T000000
DTSTAMP:20260422T135715
CREATED:20250701T091323Z
LAST-MODIFIED:20250701T091323Z
UID:10003773-1125273600-1125273600@www.discoverhollywood.com
SUMMARY:Cindi Law & Bill
DESCRIPTION:DesignHTMLWords: 0   Characters: 0
URL:https://www.discoverhollywood.com/event/cindi-law-bill/
LOCATION:Genghis Cohen\, 7358 Beverly Blvd. http://www.ticketweb.com/t3/sale/SaleEventDetail?dispatch=loadSelectionData&eventId=7034415\, Hollywood\, California
END:VEVENT
END:VCALENDAR