BEGIN:VCALENDAR
VERSION:2.0
PRODID:-//Discover Hollywood Magazine - ECPv6.15.17//NONSGML v1.0//EN
CALSCALE:GREGORIAN
METHOD:PUBLISH
X-WR-CALNAME:Discover Hollywood Magazine
X-ORIGINAL-URL:https://www.discoverhollywood.com
X-WR-CALDESC:Events for Discover Hollywood Magazine
REFRESH-INTERVAL;VALUE=DURATION:PT1H
X-Robots-Tag:noindex
X-PUBLISHED-TTL:PT1H
BEGIN:VTIMEZONE
TZID:Asia/Kolkata
BEGIN:STANDARD
TZOFFSETFROM:+0530
TZOFFSETTO:+0530
TZNAME:IST
DTSTART:20030101T000000
END:STANDARD
END:VTIMEZONE
BEGIN:VEVENT
DTSTART;TZID=Asia/Kolkata:20131221T000000
DTEND;TZID=Asia/Kolkata:20131221T000000
DTSTAMP:20260422T070138
CREATED:20250630T120215Z
LAST-MODIFIED:20250630T120215Z
UID:10002354-1387584000-1387584000@www.discoverhollywood.com
SUMMARY:Aventurera el Musical
DESCRIPTION:DesignHTMLWords: 0   Characters: 0
URL:https://www.discoverhollywood.com/event/aventurera-el-musical/
LOCATION:Gibson Amphitheatre\, Select
END:VEVENT
BEGIN:VEVENT
DTSTART;TZID=Asia/Kolkata:20130906T000000
DTEND;TZID=Asia/Kolkata:20130906T000000
DTSTAMP:20260422T070138
CREATED:20250630T120356Z
LAST-MODIFIED:20250630T120356Z
UID:10002407-1378425600-1378425600@www.discoverhollywood.com
SUMMARY:Backstreet Boys
DESCRIPTION:DesignHTMLWords: 0   Characters: 0
URL:https://www.discoverhollywood.com/event/backstreet-boys/
LOCATION:Gibson Amphitheatre\, Select
END:VEVENT
BEGIN:VEVENT
DTSTART;TZID=Asia/Kolkata:20130708T000000
DTEND;TZID=Asia/Kolkata:20130708T000000
DTSTAMP:20260422T070138
CREATED:20250630T120429Z
LAST-MODIFIED:20250630T120429Z
UID:10002437-1373241600-1373241600@www.discoverhollywood.com
SUMMARY:Bajofondo
DESCRIPTION:DesignHTMLWords: 0   Characters: 0
URL:https://www.discoverhollywood.com/event/bajofondo/
LOCATION:Gibson Amphitheatre\, Select
END:VEVENT
BEGIN:VEVENT
DTSTART;TZID=Asia/Kolkata:20130606T000000
DTEND;TZID=Asia/Kolkata:20130606T000000
DTSTAMP:20260422T070138
CREATED:20250630T120445Z
LAST-MODIFIED:20250630T120445Z
UID:10002453-1370476800-1370476800@www.discoverhollywood.com
SUMMARY:Banda El Limon
DESCRIPTION:DesignHTMLWords: 0   Characters: 0
URL:https://www.discoverhollywood.com/event/banda-el-limon/
LOCATION:Gibson Amphitheatre\, Select
END:VEVENT
BEGIN:VEVENT
DTSTART;TZID=Asia/Kolkata:20130531T000000
DTEND;TZID=Asia/Kolkata:20130531T000000
DTSTAMP:20260422T070138
CREATED:20250630T120446Z
LAST-MODIFIED:20250630T120446Z
UID:10002456-1369958400-1369958400@www.discoverhollywood.com
SUMMARY:Bando Cuisillos y Pancho Barraza
DESCRIPTION:DesignHTMLWords: 0   Characters: 0
URL:https://www.discoverhollywood.com/event/bando-cuisillos-y-pancho-barraza/
LOCATION:Gibson Amphitheatre\, Select
END:VEVENT
BEGIN:VEVENT
DTSTART;TZID=Asia/Kolkata:20130318T000000
DTEND;TZID=Asia/Kolkata:20130318T000000
DTSTAMP:20260422T070138
CREATED:20250630T120516Z
LAST-MODIFIED:20250630T120516Z
UID:10002493-1363564800-1363564800@www.discoverhollywood.com
SUMMARY:Barney Live In Concert
DESCRIPTION:DesignHTMLWords: 0   Characters: 0
URL:https://www.discoverhollywood.com/event/barney-live-in-concert/
LOCATION:Gibson Amphitheatre\, Select
END:VEVENT
BEGIN:VEVENT
DTSTART;TZID=Asia/Kolkata:20120430T000000
DTEND;TZID=Asia/Kolkata:20120430T000000
DTSTAMP:20260422T070138
CREATED:20250630T122634Z
LAST-MODIFIED:20250630T122634Z
UID:10002654-1335744000-1335744000@www.discoverhollywood.com
SUMMARY:Behrouz Vossoughi
DESCRIPTION:DesignHTMLWords: 0   Characters: 0
URL:https://www.discoverhollywood.com/event/behrouz-vossoughi/
LOCATION:Gibson Amphitheatre\, Select
END:VEVENT
BEGIN:VEVENT
DTSTART;TZID=Asia/Kolkata:20110804T000000
DTEND;TZID=Asia/Kolkata:20110804T000000
DTSTAMP:20260422T070138
CREATED:20250630T123054Z
LAST-MODIFIED:20250630T123054Z
UID:10002789-1312416000-1312416000@www.discoverhollywood.com
SUMMARY:Big Head Todd and the Monsters
DESCRIPTION:DesignHTMLWords: 0   Characters: 0
URL:https://www.discoverhollywood.com/event/big-head-todd-and-the-monsters/
LOCATION:Gibson Amphitheatre\, Select
END:VEVENT
BEGIN:VEVENT
DTSTART;TZID=Asia/Kolkata:20110703T000000
DTEND;TZID=Asia/Kolkata:20110703T000000
DTSTAMP:20260422T070138
CREATED:20250630T123127Z
LAST-MODIFIED:20250630T123127Z
UID:10002805-1309651200-1309651200@www.discoverhollywood.com
SUMMARY:Big Time Rush
DESCRIPTION:DesignHTMLWords: 0   Characters: 0
URL:https://www.discoverhollywood.com/event/big-time-rush/
LOCATION:Gibson Amphitheatre\, Select
END:VEVENT
BEGIN:VEVENT
DTSTART;TZID=Asia/Kolkata:20110701T000000
DTEND;TZID=Asia/Kolkata:20110701T000000
DTSTAMP:20260422T070138
CREATED:20250630T123127Z
LAST-MODIFIED:20250630T123127Z
UID:10002806-1309478400-1309478400@www.discoverhollywood.com
SUMMARY:Big Time Rush and Victoria Justice
DESCRIPTION:DesignHTMLWords: 0   Characters: 0
URL:https://www.discoverhollywood.com/event/big-time-rush-and-victoria-justice/
LOCATION:Gibson Amphitheatre\, Select
END:VEVENT
BEGIN:VEVENT
DTSTART;TZID=Asia/Kolkata:20110410T000000
DTEND;TZID=Asia/Kolkata:20110410T000000
DTSTAMP:20260422T070138
CREATED:20250630T123220Z
LAST-MODIFIED:20250630T123221Z
UID:10002848-1302393600-1302393600@www.discoverhollywood.com
SUMMARY:Bijan Mortazavi
DESCRIPTION:DesignHTMLWords: 0   Characters: 0
URL:https://www.discoverhollywood.com/event/bijan-mortazavi/
LOCATION:Gibson Amphitheatre\, Select
END:VEVENT
BEGIN:VEVENT
DTSTART;TZID=Asia/Kolkata:20110325T000000
DTEND;TZID=Asia/Kolkata:20110325T000000
DTSTAMP:20260422T070138
CREATED:20250630T123233Z
LAST-MODIFIED:20250630T123233Z
UID:10002856-1301011200-1301011200@www.discoverhollywood.com
SUMMARY:Bill Maher
DESCRIPTION:DesignHTMLWords: 0   Characters: 0
URL:https://www.discoverhollywood.com/event/bill-maher/
LOCATION:Gibson Amphitheatre\, Select
END:VEVENT
BEGIN:VEVENT
DTSTART;TZID=Asia/Kolkata:20090402T000000
DTEND;TZID=Asia/Kolkata:20090402T000000
DTSTAMP:20260422T070138
CREATED:20250701T061310Z
LAST-MODIFIED:20250701T061310Z
UID:10003212-1238630400-1238630400@www.discoverhollywood.com
SUMMARY:Brian Setzer Orchestra Christmas Rocks!
DESCRIPTION:DesignHTMLWords: 0   Characters: 0
URL:https://www.discoverhollywood.com/event/brian-setzer-orchestra-christmas-rocks/
LOCATION:Gibson Amphitheatre\, Select
END:VEVENT
BEGIN:VEVENT
DTSTART;TZID=Asia/Kolkata:20081223T000000
DTEND;TZID=Asia/Kolkata:20081223T000000
DTSTAMP:20260422T070138
CREATED:20250701T063037Z
LAST-MODIFIED:20250701T063037Z
UID:10003262-1229990400-1229990400@www.discoverhollywood.com
SUMMARY:Bronco
DESCRIPTION:DesignHTMLWords: 0   Characters: 0
URL:https://www.discoverhollywood.com/event/bronco/
LOCATION:Gibson Amphitheatre\, Select
END:VEVENT
BEGIN:VEVENT
DTSTART;TZID=Asia/Kolkata:20080825T000000
DTEND;TZID=Asia/Kolkata:20080825T000000
DTSTAMP:20260422T070138
CREATED:20250701T063231Z
LAST-MODIFIED:20250701T063231Z
UID:10003322-1219622400-1219622400@www.discoverhollywood.com
SUMMARY:Budweiser Superfest - Anthony Hamilton\, Kem\, Jaheim
DESCRIPTION:DesignHTMLWords: 0   Characters: 0
URL:https://www.discoverhollywood.com/event/budweiser-superfest-anthony-hamilton-kem-jaheim/
LOCATION:Gibson Amphitheatre\, Select
END:VEVENT
BEGIN:VEVENT
DTSTART;TZID=Asia/Kolkata:20080427T000000
DTEND;TZID=Asia/Kolkata:20080427T000000
DTSTAMP:20260422T070138
CREATED:20250701T063346Z
LAST-MODIFIED:20250701T063346Z
UID:10003382-1209254400-1209254400@www.discoverhollywood.com
SUMMARY:Bz
DESCRIPTION:DesignHTMLWords: 0   Characters: 0
URL:https://www.discoverhollywood.com/event/bz/
LOCATION:Gibson Amphitheatre\, Select
END:VEVENT
BEGIN:VEVENT
DTSTART;TZID=Asia/Kolkata:20080320T000000
DTEND;TZID=Asia/Kolkata:20080320T000000
DTSTAMP:20260422T070138
CREATED:20250701T063420Z
LAST-MODIFIED:20250701T063420Z
UID:10003401-1205971200-1205971200@www.discoverhollywood.com
SUMMARY:Cabaret Tehram 35th Anniversary
DESCRIPTION:DesignHTMLWords: 0   Characters: 0
URL:https://www.discoverhollywood.com/event/cabaret-tehram-35th-anniversary/
LOCATION:Gibson Amphitheatre\, Select
END:VEVENT
BEGIN:VEVENT
DTSTART;TZID=Asia/Kolkata:20070330T000000
DTEND;TZID=Asia/Kolkata:20070330T000000
DTSTAMP:20260422T070138
CREATED:20250701T070532Z
LAST-MODIFIED:20250701T070532Z
UID:10003484-1175212800-1175212800@www.discoverhollywood.com
SUMMARY:Casting Crowns
DESCRIPTION:DesignHTMLWords: 0   Characters: 0
URL:https://www.discoverhollywood.com/event/casting-crowns/
LOCATION:Gibson Amphitheatre\, Select
END:VEVENT
BEGIN:VEVENT
DTSTART;TZID=Asia/Kolkata:20070115T000000
DTEND;TZID=Asia/Kolkata:20070115T000000
DTSTAMP:20260422T070138
CREATED:20250701T080332Z
LAST-MODIFIED:20250701T080332Z
UID:10003521-1168819200-1168819200@www.discoverhollywood.com
SUMMARY:Cedric The Entertainer
DESCRIPTION:DesignHTMLWords: 0   Characters: 0
URL:https://www.discoverhollywood.com/event/cedric-the-entertainer/
LOCATION:Gibson Amphitheatre\, Select
END:VEVENT
BEGIN:VEVENT
DTSTART;TZID=Asia/Kolkata:20061212T000000
DTEND;TZID=Asia/Kolkata:20061212T000000
DTSTAMP:20260422T070138
CREATED:20250701T080443Z
LAST-MODIFIED:20250701T080443Z
UID:10003538-1165881600-1165881600@www.discoverhollywood.com
SUMMARY:Celtic Woman
DESCRIPTION:DesignHTMLWords: 0   Characters: 0
URL:https://www.discoverhollywood.com/event/celtic-woman/
LOCATION:Gibson Amphitheatre\, Select
END:VEVENT
BEGIN:VEVENT
DTSTART;TZID=Asia/Kolkata:20060802T000000
DTEND;TZID=Asia/Kolkata:20060802T000000
DTSTAMP:20260422T070138
CREATED:20250701T082910Z
LAST-MODIFIED:20250701T082910Z
UID:10003604-1154476800-1154476800@www.discoverhollywood.com
SUMMARY:Chayanne
DESCRIPTION:Chayanne in concert.DesignHTMLWords: 3   Characters: 19
URL:https://www.discoverhollywood.com/event/chayanne/
LOCATION:Gibson Amphitheatre\, Select
END:VEVENT
BEGIN:VEVENT
DTSTART;TZID=Asia/Kolkata:20060723T000000
DTEND;TZID=Asia/Kolkata:20060723T000000
DTSTAMP:20260422T070138
CREATED:20250701T083032Z
LAST-MODIFIED:20250701T083032Z
UID:10003609-1153612800-1153612800@www.discoverhollywood.com
SUMMARY:Cheech & Chong
DESCRIPTION:DesignHTMLWords: 0   Characters: 0
URL:https://www.discoverhollywood.com/event/cheech-chong/
LOCATION:Gibson Amphitheatre\, Select
END:VEVENT
BEGIN:VEVENT
DTSTART;TZID=Asia/Kolkata:20060707T000000
DTEND;TZID=Asia/Kolkata:20060707T000000
DTSTAMP:20260422T070138
CREATED:20250701T083251Z
LAST-MODIFIED:20250701T083251Z
UID:10003617-1152230400-1152230400@www.discoverhollywood.com
SUMMARY:Chelsea Handler with Chris Franjola
DESCRIPTION:DesignHTMLWords: 0   Characters: 0
URL:https://www.discoverhollywood.com/event/chelsea-handler-with-chris-franjola/
LOCATION:Gibson Amphitheatre\, Select
END:VEVENT
BEGIN:VEVENT
DTSTART;TZID=Asia/Kolkata:20060522T000000
DTEND;TZID=Asia/Kolkata:20060522T000000
DTSTAMP:20260422T070138
CREATED:20250701T083328Z
LAST-MODIFIED:20250701T083328Z
UID:10003640-1148256000-1148256000@www.discoverhollywood.com
SUMMARY:Chicago & The Doobie Brothers
DESCRIPTION:DesignHTMLWords: 0   Characters: 0
URL:https://www.discoverhollywood.com/event/chicago-the-doobie-brothers/
LOCATION:Gibson Amphitheatre\, Select
END:VEVENT
BEGIN:VEVENT
DTSTART;TZID=Asia/Kolkata:20060518T000000
DTEND;TZID=Asia/Kolkata:20060518T000000
DTSTAMP:20260422T070138
CREATED:20250701T083348Z
LAST-MODIFIED:20250701T083348Z
UID:10003642-1147910400-1147910400@www.discoverhollywood.com
SUMMARY:Chicago and Doobie Brothers
DESCRIPTION:DesignHTMLWords: 0   Characters: 0
URL:https://www.discoverhollywood.com/event/chicago-and-doobie-brothers/
LOCATION:Gibson Amphitheatre\, Select
END:VEVENT
BEGIN:VEVENT
DTSTART;TZID=Asia/Kolkata:20060512T000000
DTEND;TZID=Asia/Kolkata:20060512T000000
DTSTAMP:20260422T070138
CREATED:20250701T083348Z
LAST-MODIFIED:20250701T083348Z
UID:10003645-1147392000-1147392000@www.discoverhollywood.com
SUMMARY:Chicano Soul Legends
DESCRIPTION:DesignHTMLWords: 0   Characters: 0
URL:https://www.discoverhollywood.com/event/chicano-soul-legends/
LOCATION:Gibson Amphitheatre\, Select
END:VEVENT
BEGIN:VEVENT
DTSTART;TZID=Asia/Kolkata:20060510T000000
DTEND;TZID=Asia/Kolkata:20060510T000000
DTSTAMP:20260422T070138
CREATED:20250701T083514Z
LAST-MODIFIED:20250701T083514Z
UID:10003646-1147219200-1147219200@www.discoverhollywood.com
SUMMARY:Chicano Soul Legends
DESCRIPTION:Featuring%3a\n%3cbr%3e\n%3cb%3eTHEE MIDNITERS %3c/b%3e%28with Special Guest\n%3cb%3eLittle Willie G%3c/b%3e%29\n%3cbr%3e\n%3cb%3eEL CHICANO – MALO – TIERRA – JOE BATAAN – %3c/b%3e\n%3cb%3eRENE Y RENE – JOE BRAVO – %3c/b%3e\n%3cb%3eSKIP MAHONEY %26amp%3b THE CASUALS – %3c/b%3e\n%3cb%3eTHE ROYAL CHESSMAN – %3c/b%3e\n%3cb%3eDANNY CHAGOLLA of THEE ORGINAL DUPREMES %3c/b%3eDesignHTMLWords: 33   Characters: 208
URL:https://www.discoverhollywood.com/event/chicano-soul-legends-2/
LOCATION:Gibson Amphitheatre\, Select
END:VEVENT
BEGIN:VEVENT
DTSTART;TZID=Asia/Kolkata:20060430T000000
DTEND;TZID=Asia/Kolkata:20060430T000000
DTSTAMP:20260422T070138
CREATED:20250701T083523Z
LAST-MODIFIED:20250701T083523Z
UID:10003651-1146355200-1146355200@www.discoverhollywood.com
SUMMARY:Chickenfoot
DESCRIPTION:DesignHTMLWords: 0   Characters: 0
URL:https://www.discoverhollywood.com/event/chickenfoot/
LOCATION:Gibson Amphitheatre\, Select
END:VEVENT
BEGIN:VEVENT
DTSTART;TZID=Asia/Kolkata:20051219T000000
DTEND;TZID=Asia/Kolkata:20051219T000000
DTSTAMP:20260422T070138
CREATED:20250701T085457Z
LAST-MODIFIED:20250701T085458Z
UID:10003717-1134950400-1134950400@www.discoverhollywood.com
SUMMARY:Chris Tomlin
DESCRIPTION:%3cbr%3eDesignHTMLWords: 0   Characters: 0
URL:https://www.discoverhollywood.com/event/chris-tomlin/
LOCATION:Gibson Amphitheatre\, Select
END:VEVENT
BEGIN:VEVENT
DTSTART;TZID=Asia/Kolkata:20040605T000000
DTEND;TZID=Asia/Kolkata:20040605T000000
DTSTAMP:20260422T070138
CREATED:20250701T100510Z
LAST-MODIFIED:20250701T100510Z
UID:10003998-1086393600-1086393600@www.discoverhollywood.com
SUMMARY:Conan O'Brien Prohibited Tour
DESCRIPTION:A night of music%2c comedy%2c hugging%2c and the occasional awkward silence.DesignHTMLWords: 11   Characters: 66
URL:https://www.discoverhollywood.com/event/conan-obrien-prohibited-tour/
LOCATION:Gibson Amphitheatre\, Select
END:VEVENT
END:VCALENDAR